Workbook

Sheet 男子抽選結果
A1: 平成27年度第36回全日本ジュニアウエイトリフティング選手権大会
A2: 抽選結果
A4: 階級 | B4: 区分 | C4: 抽選番号 | D4: G．No． | E4: 氏名 | F4: 備考２ | G4: 学年 | H4: 所属 | I4: 生年
A5: =IF([1]抽選男子!E2=106,"+105",[1]抽選男子!E2) -> 56 | B5: =[1]抽選男子!F2 -> 0 | C5: =[1]抽選男子!C2 -> 2 | D5: 1 | E5: =[1]抽選男子!G2 -> 益子 広幸 | F5: =[1]抽選男子!K2 -> 茨城 | G5: =[1]抽選男子!J2 -> 0 | H5: =[1]抽選男子!H2 -> 大子清流高等学校 | I5: =[1]抽選男子!I2 -> 35711
A6: =IF([1]抽選男子!E3=106,"+105",[1]抽選男子!E3) -> 56 | B6: =[1]抽選男子!F3 -> 0 | C6: =[1]抽選男子!C3 -> 9 | D6: =D5+1 -> 2 | E6: =[1]抽選男子!G3 -> 生頼 啓暉 | F6: =[1]抽選男子!K3 -> 兵庫 | G6: =[1]抽選男子!J3 -> 0 | H6: =[1]抽選男子!H3 -> 明石南高等学校 | I6: =[1]抽選男子!I3 -> 36506
A7: =IF([1]抽選男子!E4=106,"+105",[1]抽選男子!E4) -> 56 | B7: =[1]抽選男子!F4 -> 0 | C7: =[1]抽選男子!C4 -> 12 | D7: =D6+1 -> 3 | E7: =[1]抽選男子!G4 -> 前田 魁 | F7: =[1]抽選男子!K4 -> 福岡 | G7: =[1]抽選男子!J4 -> 0 | H7: =[1]抽選男子!H4 -> 八幡中央高等学校 | I7: =[1]抽選男子!I4 -> 36186
A8: =IF([1]抽選男子!E5=106,"+105",[1]抽選男子!E5) -> 56 | B8: =[1]抽選男子!F5 -> 0 | C8: =[1]抽選男子!C5 -> 17 | D8: =D7+1 -> 4 | E8: =[1]抽選男子!G5 -> 紙屋 十磨 | F8: =[1]抽選男子!K5 -> 東京 | G8: =[1]抽選男子!J5 -> 0 | H8: =[1]抽選男子!H5 -> 東亜学園高等学校 | I8: =[1]抽選男子!I5 -> 36247
A9: =IF([1]抽選男子!E6=106,"+105",[1]抽選男子!E6) -> 56 | B9: =[1]抽選男子!F6 -> 0 | C9: =[1]抽選男子!C6 -> 18 | D9: =D8+1 -> 5 | E9: =[1]抽選男子!G6 -> 吉本 将之 | F9: =[1]抽選男子!K6 -> 三重 | G9: =[1]抽選男子!J6 -> 0 | H9: =[1]抽選男子!H6 -> 金沢学院大学 | I9: =[1]抽選男子!I6 -> 35122
A10: =IF([1]抽選男子!E7=106,"+105",[1]抽選男子!E7) -> 56 | B10: =[1]抽選男子!F7 -> 0 | C10: =[1]抽選男子!C7 -> 27 | D10: =D9+1 -> 6 | E10: =[1]抽選男子!G7 -> 久保 海斗 | F10: =[1]抽選男子!K7 -> 福井 | G10: =[1]抽選男子!J7 -> 0 | H10: =[1]抽選男子!H7 -> 坂井高等学校 | I10: =[1]抽選男子!I7 -> 36184
A11: =IF([1]抽選男子!E8=106,"+105",[1]抽選男子!E8) -> 56 | B11: =[1]抽選男子!F8 -> 0 | C11: =[1]抽選男子!C8 -> 42 | D11: =D10+1 -> 7 | E11: =[1]抽選男子!G8 -> 妹尾 侑哉 | F11: =[1]抽選男子!K8 -> 香川 | G11: =[1]抽選男子!J8 -> 0 | H11: =[1]抽選男子!H8 -> 東京国際大学 | I11: =[1]抽選男子!I8 -> 35312
A12: =IF([1]抽選男子!E9=106,"+105",[1]抽選男子!E9) -> 56 | B12: =[1]抽選男子!F9 -> 0 | C12: =[1]抽選男子!C9 -> 44 | D12: =D11+1 -> 8 | E12: =[1]抽選男子!G9 -> 前田ジョンレイ | F12: =[1]抽選男子!K9 -> 兵庫 | G12: =[1]抽選男子!J9 -> 0 | H12: =[1]抽選男子!H9 -> 西脇北高等学校 | I12: =[1]抽選男子!I9 -> 35446
A13: =IF([1]抽選男子!E10=106,"+105",[1]抽選男子!E10) -> 56 | B13: =[1]抽選男子!F10 -> 0 | C13: =[1]抽選男子!C10 -> 54 | D13: =D12+1 -> 9 | E13: =[1]抽選男子!G10 -> 砂山 昂大 | F13: =[1]抽選男子!K10 -> 大分 | G13: =[1]抽選男子!J10 -> 0 | H13: =[1]抽選男子!H10 -> 中 央 大 学 | I13: =[1]抽選男子!I10 -> 35206
A14: =IF([1]抽選男子!E11=106,"+105",[1]抽選男子!E11) -> 56 | B14: =[1]抽選男子!F11 -> 0 | C14: =[1]抽選男子!C11 -> 55 | D14: =D13+1 -> 10 | E14: =[1]抽選男子!G11 -> 知念勇人 | F14: =[1]抽選男子!K11 -> 沖縄 | G14: =[1]抽選男子!J11 -> 0 | H14: =[1]抽選男子!H11 -> 早稲田大学 | I14: =[1]抽選男子!I11 -> 35230
A15: =IF([1]抽選男子!E12=106,"+105",[1]抽選男子!E12) -> 56 | B15: =[1]抽選男子!F12 -> 0 | C15: =[1]抽選男子!C12 -> 62 | D15: =D14+1 -> 11 | E15: =[1]抽選男子!G12 -> 坂本 拓弥 | F15: =[1]抽選男子!K12 -> 埼玉 | G15: =[1]抽選男子!J12 -> 0 | H15: =[1]抽選男子!H12 -> 自衛隊体育学校 | I15: =[1]抽選男子!I12 -> 35112
A16: =IF([1]抽選男子!E13=106,"+105",[1]抽選男子!E13) -> 56 | B16: =[1]抽選男子!F13 -> 0 | C16: =[1]抽選男子!C13 -> 83 | D16: =D15+1 -> 12 | E16: =[1]抽選男子!G13 -> 田中 優輝 | F16: =[1]抽選男子!K13 -> 大阪 | G16: =[1]抽選男子!J13 -> 0 | H16: =[1]抽選男子!H13 -> 近畿大学 | I16: =[1]抽選男子!I13 -> 35416
A17: 56 | C17: 85 | D17: 13 | E17: 山口 優人 | F17: 愛媛 | H17: 新居浜市立川東中学校 | I17: 36692
A18: =IF([1]抽選男子!E14=106,"+105",[1]抽選男子!E14) -> 62 | B18: =[1]抽選男子!F14 -> 0 | C18: =[1]抽選男子!C14 -> 5 | D18: 1 | E18: =[1]抽選男子!G14 -> 山本 恭介 | F18: =[1]抽選男子!K14 -> 山梨 | G18: =[1]抽選男子!J14 -> 0 | H18: =[1]抽選男子!H14 -> 谷村工業高等学校 | I18: =[1]抽選男子!I14 -> 35524
A19: =IF([1]抽選男子!E15=106,"+105",[1]抽選男子!E15) -> 62 | B19: =[1]抽選男子!F15 -> 0 | C19: =[1]抽選男子!C15 -> 13 | D19: 2 | E19: =[1]抽選男子!G15 -> 後藤 大雅 | F19: =[1]抽選男子!K15 -> 大分 | G19: =[1]抽選男子!J15 -> 0 | H19: =[1]抽選男子!H15 -> 大分工業高等学校 | I19: =[1]抽選男子!I15 -> 36222
A20: =IF([1]抽選男子!E16=106,"+105",[1]抽選男子!E16) -> 62 | B20: =[1]抽選男子!F16 -> 0 | C20: =[1]抽選男子!C16 -> 15 | D20: 3 | E20: =[1]抽選男子!G16 -> 友利 和樹 | F20: =[1]抽選男子!K16 -> 沖縄 | G20: =[1]抽選男子!J16 -> 0 | H20: =[1]抽選男子!H16 -> 金沢学院大学 | I20: =[1]抽選男子!I16 -> 35334
A21: =IF([1]抽選男子!E17=106,"+105",[1]抽選男子!E17) -> 62 | B21: =[1]抽選男子!F17 -> 0 | C21: =[1]抽選男子!C17 -> 21 | D21: 4 | E21: =[1]抽選男子!G17 -> 森田 幸司 | F21: =[1]抽選男子!K17 -> 沖縄 | G21: =[1]抽選男子!J17 -> 0 | H21: =[1]抽選男子!H17 -> 糸満高等学校 | I21: =[1]抽選男子!I17 -> 35810
A22: =IF([1]抽選男子!E18=106,"+105",[1]抽選男子!E18) -> 62 | B22: =[1]抽選男子!F18 -> 0 | C22: =[1]抽選男子!C18 -> 23 | D22: 5 | E22: =[1]抽選男子!G18 -> 秋本 将吾 | F22: =[1]抽選男子!K18 -> 東京 | G22: =[1]抽選男子!J18 -> 0 | H22: =[1]抽選男子!H18 -> 東亜学園高等学校 | I22: =[1]抽選男子!I18 -> 36266
A23: =IF([1]抽選男子!E19=106,"+105",[1]抽選男子!E19) -> 62 | B23: =[1]抽選男子!F19 -> 0 | C23: =[1]抽選男子!C19 -> 37 | D23: 6 | E23: =[1]抽選男子!G19 -> 芥 亨哉 | F23: =[1]抽選男子!K19 -> 香川 | G23: =[1]抽選男子!J19 -> 0 | H23: =[1]抽選男子!H19 -> 多度津高等学校 | I23: =[1]抽選男子!I19 -> 36240
A24: =IF([1]抽選男子!E20=106,"+105",[1]抽選男子!E20) -> 62 | B24: =[1]抽選男子!F20 -> 0 | C24: =[1]抽選男子!C20 -> 39 | D24: 7 | E24: =[1]抽選男子!G20 -> 時任 飛鳥 | F24: =[1]抽選男子!K20 -> 香川 | G24: =[1]抽選男子!J20 -> 0 | H24: =[1]抽選男子!H20 -> 多度津高等学校 | I24: =[1]抽選男子!I20 -> 35683
A25: =IF([1]抽選男子!E21=106,"+105",[1]抽選男子!E21) -> 62 | B25: =[1]抽選男子!F21 -> 0 | C25: =[1]抽選男子!C21 -> 41 | D25: 8 | E25: 古屋敷 拓也 | F25: =[1]抽選男子!K21 -> 三重 | G25: =[1]抽選男子!J21 -> 0 | H25: =[1]抽選男子!H21 -> 四日市工業高等学校 | I25: =[1]抽選男子!I21 -> 35854
A26: =IF([1]抽選男子!E22=106,"+105",[1]抽選男子!E22) -> 62 | B26: =[1]抽選男子!F22 -> 0 | C26: =[1]抽選男子!C22 -> 65 | D26: 9 | E26: =[1]抽選男子!G22 -> 小水流 朋樹 | F26: =[1]抽選男子!K22 -> 宮崎 | G26: =[1]抽選男子!J22 -> 0 | H26: =[1]抽選男子!H22 -> 小林高等学校 | I26: =[1]抽選男子!I22 -> 35745
A27: =IF([1]抽選男子!E23=106,"+105",[1]抽選男子!E23) -> 62 | B27: =[1]抽選男子!F23 -> 0 | C27: =[1]抽選男子!C23 -> 67 | D27: 10 | E27: =[1]抽選男子!G23 -> 木村 勇喜 | F27: =[1]抽選男子!K23 -> 兵庫 | G27: =[1]抽選男子!J23 -> 0 | H27: =[1]抽選男子!H23 -> 明石南高等学校 | I27: =[1]抽選男子!I23 -> 36229
A28: =IF([1]抽選男子!E24=106,"+105",[1]抽選男子!E24) -> 62 | B28: =[1]抽選男子!F24 -> 0 | C28: =[1]抽選男子!C24 -> 73 | D28: 11 | E28: =[1]抽選男子!G24 -> 穐山 亮 | F28: =[1]抽選男子!K24 -> 栃木 | G28: =[1]抽選男子!J24 -> 0 | H28: =[1]抽選男子!H24 -> 小山高等学校 | I28: =[1]抽選男子!I24 -> 36225
A29: =IF([1]抽選男子!E25=106,"+105",[1]抽選男子!E25) -> 62 | B29: =[1]抽選男子!F25 -> 0 | C29: =[1]抽選男子!C25 -> 76 | D29: 12 | E29: =[1]抽選男子!G25 -> 喜屋武 翔太 | F29: =[1]抽選男子!K25 -> 沖縄 | G29: =[1]抽選男子!J25 -> 0 | H29: =[1]抽選男子!H25 -> 沖縄調理師専門学校 | I29: =[1]抽選男子!I25 -> 35409
A30: =IF([1]抽選男子!E26=106,"+105",[1]抽選男子!E26) -> 62 | B30: =[1]抽選男子!F26 -> 0 | C30: =[1]抽選男子!C26 -> 84 | D30: 13 | E30: =[1]抽選男子!G26 -> 森川 芳樹 | F30: =[1]抽選男子!K26 -> 兵庫 | G30: =[1]抽選男子!J26 -> 0 | H30: =[1]抽選男子!H26 -> 早稲田大学 | I30: =[1]抽選男子!I26 -> 35131
A31: =IF([1]抽選男子!E27=106,"+105",[1]抽選男子!E27) -> 69 | B31: =[1]抽選男子!F27 -> 0 | C31: =[1]抽選男子!C27 -> 3 | D31: 1 | E31: =[1]抽選男子!G27 -> 花井 慶典 | F31: =[1]抽選男子!K27 -> 埼玉 | G31: =[1]抽選男子!J27 -> 0 | H31: =[1]抽選男子!H27 -> 平成国際大学 | I31: =[1]抽選男子!I27 -> 35301
A32: =IF([1]抽選男子!E28=106,"+105",[1]抽選男子!E28) -> 69 | B32: =[1]抽選男子!F28 -> 0 | C32: =[1]抽選男子!C28 -> 8 | D32: =D31+1 -> 2 | E32: =[1]抽選男子!G28 -> 大塚 和 | F32: =[1]抽選男子!K28 -> 滋賀 | G32: =[1]抽選男子!J28 -> 0 | H32: =[1]抽選男子!H28 -> びわこ成蹊スポーツ大学 | I32: =[1]抽選男子!I28 -> 35241
A33: =IF([1]抽選男子!E29=106,"+105",[1]抽選男子!E29) -> 69 | B33: =[1]抽選男子!F29 -> 0 | C33: =[1]抽選男子!C29 -> 22 | D33: =D32+1 -> 3 | E33: =[1]抽選男子!G29 -> 河野 真輝 | F33: =[1]抽選男子!K29 -> 宮崎 | G33: =[1]抽選男子!J29 -> 0 | H33: =[1]抽選男子!H29 -> 小林高等学校 | I33: =[1]抽選男子!I29 -> 35605
A34: =IF([1]抽選男子!E30=106,"+105",[1]抽選男子!E30) -> 69 | B34: =[1]抽選男子!F30 -> 0 | C34: =[1]抽選男子!C30 -> 30 | D34: =D33+1 -> 4 | E34: =[1]抽選男子!G30 -> 知念 勇樹 | F34: =[1]抽選男子!K30 -> 大阪 | G34: =[1]抽選男子!J30 -> 0 | H34: =[1]抽選男子!H30 -> 関西大学第一高等学校 | I34: =[1]抽選男子!I30 -> 36005
A35: =IF([1]抽選男子!E31=106,"+105",[1]抽選男子!E31) -> 69 | B35: =[1]抽選男子!F31 -> 0 | C35: =[1]抽選男子!C31 -> 34 | D35: =D34+1 -> 5 | E35: =[1]抽選男子!G31 -> 伊丹 玲於奈 | F35: =[1]抽選男子!K31 -> 三重 | G35: =[1]抽選男子!J31 -> 0 | H35: =[1]抽選男子!H31 -> 日 本 大 学 | I35: =[1]抽選男子!I31 -> 35445
A36: =IF([1]抽選男子!E32=106,"+105",[1]抽選男子!E32) -> 69 | B36: =[1]抽選男子!F32 -> 0 | C36: =[1]抽選男子!C32 -> 40 | D36: =D35+1 -> 6 | E36: =[1]抽選男子!G32 -> 宮本 昌典 | F36: =[1]抽選男子!K32 -> 沖縄 | G36: =[1]抽選男子!J32 -> 0 | H36: =[1]抽選男子!H32 -> 東京国際大学 | I36: =[1]抽選男子!I32 -> 35464
A37: =IF([1]抽選男子!E33=106,"+105",[1]抽選男子!E33) -> 69 | B37: =[1]抽選男子!F33 -> 0 | C37: =[1]抽選男子!C33 -> 52 | D37: =D36+1 -> 7 | E37: =[1]抽選男子!G33 -> 近内 三孝 | F37: =[1]抽選男子!K33 -> 福島 | G37: =[1]抽選男子!J33 -> 0 | H37: =[1]抽選男子!H33 -> 日 本 大 学 | I37: =[1]抽選男子!I33 -> 35138
A38: =IF([1]抽選男子!E34=106,"+105",[1]抽選男子!E34) -> 69 | B38: =[1]抽選男子!F34 -> 0 | C38: =[1]抽選男子!C34 -> 53 | D38: =D37+1 -> 8 | E38: =[1]抽選男子!G34 -> 田中 裕也 | F38: =[1]抽選男子!K34 -> 宮崎 | G38: =[1]抽選男子!J34 -> 0 | H38: =[1]抽選男子!H34 -> 小林秀峰高等学校 | I38: =[1]抽選男子!I34 -> 35636
A39: =IF([1]抽選男子!E35=106,"+105",[1]抽選男子!E35) -> 69 | B39: =[1]抽選男子!F35 -> 0 | C39: =[1]抽選男子!C35 -> 79 | D39: =D38+1 -> 9 | E39: =[1]抽選男子!G35 -> 鳥島 輝 | F39: =[1]抽選男子!K35 -> 宮城 | G39: =[1]抽選男子!J35 -> 0 | H39: =[1]抽選男子!H35 -> 柴田高等学校 | I39: =[1]抽選男子!I35 -> 35644
A40: =IF([1]抽選男子!E36=106,"+105",[1]抽選男子!E36) -> 69 | B40: =[1]抽選男子!F36 -> 0 | C40: =[1]抽選男子!C36 -> 82 | D40: =D39+1 -> 10 | E40: =[1]抽選男子!G36 -> 山根 大地 | F40: =[1]抽選男子!K36 -> 栃木 | G40: =[1]抽選男子!J36 -> 0 | H40: =[1]抽選男子!H36 -> 小山高等学校 | I40: =[1]抽選男子!I36 -> 35894
A41: =IF([1]抽選男子!E37=106,"+105",[1]抽選男子!E37) -> 77 | B41: =[1]抽選男子!F37 -> 0 | C41: =[1]抽選男子!C37 -> 1 | D41: 1 | E41: =[1]抽選男子!G37 -> 大室 了介 | F41: =[1]抽選男子!K37 -> 岡山 | G41: =[1]抽選男子!J37 -> 0 | H41: =[1]抽選男子!H37 -> 日本体育大学 | I41: =[1]抽選男子!I37 -> 35068
...

Sheet 女子抽選結果
A1: 平成27年度第36回全日本ジュニアウエイトリフティング選手権大会
A2: 抽選結果
A4: 階級 | B4: 抽選番号 | C4: G．No． | D4: 氏名 | E4: =[1]抽選女子!K1 -> 都道府県 | F4: 所 属 | G4: 生年
A5: =IF([1]抽選女子!E2=76,"+75",[1]抽選女子!E2) -> 48 | B5: =[1]抽選女子!C2 -> 3 | C5: 1 | D5: =[1]抽選女子!G2 -> 田中 綾音 | E5: =[1]抽選女子!K2 -> 兵庫 | F5: =[1]抽選女子!H2 -> 須磨友が丘高等学校 | G5: =[1]抽選女子!I2 -> 36130
A6: =IF([1]抽選女子!E3=76,"+75",[1]抽選女子!E3) -> 48 | B6: =[1]抽選女子!C3 -> 9 | C6: =C5+1 -> 2 | D6: =[1]抽選女子!G3 -> 奥村 紀香 | E6: =[1]抽選女子!K3 -> 埼玉 | F6: =[1]抽選女子!H3 -> 埼玉栄高等学校 | G6: =[1]抽選女子!I3 -> 36539
A7: =IF([1]抽選女子!E4=76,"+75",[1]抽選女子!E4) -> 48 | B7: =[1]抽選女子!C4 -> 11 | C7: =C6+1 -> 3 | D7: =[1]抽選女子!G4 -> 新川 百音 | E7: =[1]抽選女子!K4 -> 山梨 | F7: =[1]抽選女子!H4 -> 塩山高等学校 | G7: =[1]抽選女子!I4 -> 35622
A8: =IF([1]抽選女子!E5=76,"+75",[1]抽選女子!E5) -> 48 | B8: =[1]抽選女子!C5 -> 21 | C8: =C7+1 -> 4 | D8: =[1]抽選女子!G5 -> 三谷 海空 | E8: =[1]抽選女子!K5 -> 兵庫 | F8: =[1]抽選女子!H5 -> 三木東高等学校 | G8: =[1]抽選女子!I5 -> 35923
A9: =IF([1]抽選女子!E6=76,"+75",[1]抽選女子!E6) -> 48 | B9: =[1]抽選女子!C6 -> 26 | C9: =C8+1 -> 5 | D9: =[1]抽選女子!G6 -> 武藤理恵瑠 | E9: =[1]抽選女子!K6 -> 京都 | F9: =[1]抽選女子!H6 -> 宮津市中学校組合立橋立中学校 | G9: =[1]抽選女子!I6 -> 37360
A10: =IF([1]抽選女子!E7=76,"+75",[1]抽選女子!E7) -> 48 | B10: =[1]抽選女子!C7 -> 32 | C10: =C9+1 -> 6 | D10: =[1]抽選女子!G7 -> 鈴木 あみ | E10: =[1]抽選女子!K7 -> 福島 | F10: =[1]抽選女子!H7 -> 田村高等学校 | G10: =[1]抽選女子!I7 -> 36365
A11: =IF([1]抽選女子!E8=76,"+75",[1]抽選女子!E8) -> 48 | B11: =[1]抽選女子!C8 -> 35 | C11: =C10+1 -> 7 | D11: =[1]抽選女子!G8 -> 足立 咲輝 | E11: =[1]抽選女子!K8 -> 福岡 | F11: =[1]抽選女子!H8 -> 九州国際大学 | G11: =[1]抽選女子!I8 -> 35156
A12: =IF([1]抽選女子!E9=76,"+75",[1]抽選女子!E9) -> 48 | B12: =[1]抽選女子!C9 -> 44 | C12: =C11+1 -> 8 | D12: =[1]抽選女子!G9 -> 加藤 愛 | E12: =[1]抽選女子!K9 -> 宮崎 | F12: =[1]抽選女子!H9 -> 小林高等学校 | G12: =[1]抽選女子!I9 -> 36204
A13: =IF([1]抽選女子!E10=76,"+75",[1]抽選女子!E10) -> 48 | B13: =[1]抽選女子!C10 -> 50 | C13: =C12+1 -> 9 | D13: 井﨑 茅夏 | E13: =[1]抽選女子!K10 -> 京都 | F13: =[1]抽選女子!H10 -> 海洋高等学校 | G13: =[1]抽選女子!I10 -> 35984
A14: =IF([1]抽選女子!E11=76,"+75",[1]抽選女子!E11) -> 48 | B14: =[1]抽選女子!C11 -> 62 | C14: =C13+1 -> 10 | D14: =[1]抽選女子!G11 -> 安嶋千晶 | E14: =[1]抽選女子!K11 -> 茨城 | F14: =[1]抽選女子!H11 -> 早稲田大学 | G14: =[1]抽選女子!I11 -> 35264
A15: =IF([1]抽選女子!E12=76,"+75",[1]抽選女子!E12) -> 48 | B15: =[1]抽選女子!C12 -> 72 | C15: =C14+1 -> 11 | D15: =[1]抽選女子!G12 -> 高橋 いぶき | E15: =[1]抽選女子!K12 -> 岐阜 | F15: =[1]抽選女子!H12 -> 金沢学院大学 | G15: =[1]抽選女子!I12 -> 35513
A16: =IF([1]抽選女子!E13=76,"+75",[1]抽選女子!E13) -> 53 | B16: =[1]抽選女子!C13 -> 2 | C16: 1 | D16: =[1]抽選女子!G13 -> 中里 梨花 | E16: =[1]抽選女子!K13 -> 滋賀 | F16: =[1]抽選女子!H13 -> 安曇川高等学校 | G16: =[1]抽選女子!I13 -> 36592
A17: =IF([1]抽選女子!E14=76,"+75",[1]抽選女子!E14) -> 53 | B17: =[1]抽選女子!C14 -> 5 | C17: =C16+1 -> 2 | D17: =[1]抽選女子!G14 -> 岡田 花奈 | E17: =[1]抽選女子!K14 -> 京都 | F17: =[1]抽選女子!H14 -> 加悦谷高等学校 | G17: =[1]抽選女子!I14 -> 35776
A18: =IF([1]抽選女子!E15=76,"+75",[1]抽選女子!E15) -> 53 | B18: =[1]抽選女子!C15 -> 6 | C18: =C17+1 -> 3 | D18: =[1]抽選女子!G15 -> 宗森裕紀菜 | E18: =[1]抽選女子!K15 -> 岡山 | F18: =[1]抽選女子!H15 -> 勝間田高等学校 | G18: =[1]抽選女子!I15 -> 35592
A19: =IF([1]抽選女子!E16=76,"+75",[1]抽選女子!E16) -> 53 | B19: =[1]抽選女子!C16 -> 8 | C19: =C18+1 -> 4 | D19: 濵ノ園 麻里 | E19: =[1]抽選女子!K16 -> 兵庫 | F19: =[1]抽選女子!H16 -> 三木東高等学校 | G19: =[1]抽選女子!I16 -> 35590
A20: =IF([1]抽選女子!E17=76,"+75",[1]抽選女子!E17) -> 53 | B20: =[1]抽選女子!C17 -> 20 | C20: =C19+1 -> 5 | D20: =[1]抽選女子!G17 -> 浦崎穂乃花 | E20: =[1]抽選女子!K17 -> 宮崎 | F20: =[1]抽選女子!H17 -> 小林高等学校 | G20: =[1]抽選女子!I17 -> 36143
A21: =IF([1]抽選女子!E18=76,"+75",[1]抽選女子!E18) -> 53 | B21: =[1]抽選女子!C18 -> 23 | C21: =C20+1 -> 6 | D21: =[1]抽選女子!G18 -> 関谷 志奈 | E21: =[1]抽選女子!K18 -> 兵庫 | F21: =[1]抽選女子!H18 -> 家島高等学校 | G21: =[1]抽選女子!I18 -> 35688
A22: =IF([1]抽選女子!E19=76,"+75",[1]抽選女子!E19) -> 53 | B22: =[1]抽選女子!C19 -> 24 | C22: =C21+1 -> 7 | D22: =[1]抽選女子!G19 -> 森 加奈子 | E22: =[1]抽選女子!K19 -> 宮城 | F22: =[1]抽選女子!H19 -> 日本体育大学 | G22: =[1]抽選女子!I19 -> 35165
A23: =IF([1]抽選女子!E20=76,"+75",[1]抽選女子!E20) -> 53 | B23: =[1]抽選女子!C20 -> 31 | C23: =C22+1 -> 8 | D23: =[1]抽選女子!G20 -> 赤嶺 桃香 | E23: =[1]抽選女子!K20 -> 沖縄 | F23: =[1]抽選女子!H20 -> 沖縄県ＷＬ協会 | G23: =[1]抽選女子!I20 -> 35868
A24: =IF([1]抽選女子!E21=76,"+75",[1]抽選女子!E21) -> 53 | B24: =[1]抽選女子!C21 -> 33 | C24: =C23+1 -> 9 | D24: =[1]抽選女子!G21 -> 谷口 莉菜 | E24: =[1]抽選女子!K21 -> 京都 | F24: =[1]抽選女子!H21 -> 鳥羽高等学校 | G24: =[1]抽選女子!I21 -> 35686
A25: =IF([1]抽選女子!E22=76,"+75",[1]抽選女子!E22) -> 53 | B25: =[1]抽選女子!C22 -> 48 | C25: =C24+1 -> 10 | D25: =[1]抽選女子!G22 -> 橋本 薫 | E25: =[1]抽選女子!K22 -> 大阪 | F25: =[1]抽選女子!H22 -> 枚方市立蹉跎中学校 | G25: =[1]抽選女子!I22 -> 36924
A26: =IF([1]抽選女子!E23=76,"+75",[1]抽選女子!E23) -> 53 | B26: =[1]抽選女子!C23 -> 52 | C26: =C25+1 -> 11 | D26: =[1]抽選女子!G23 -> 松本 奈々 | E26: =[1]抽選女子!K23 -> 三重 | F26: =[1]抽選女子!H23 -> 亀山高等学校 | G26: =[1]抽選女子!I23 -> 35651
A27: =IF([1]抽選女子!E24=76,"+75",[1]抽選女子!E24) -> 53 | B27: =[1]抽選女子!C24 -> 56 | C27: =C26+1 -> 12 | D27: =[1]抽選女子!G24 -> 前場 菜桜 | E27: =[1]抽選女子!K24 -> 埼玉 | F27: =[1]抽選女子!H24 -> 埼玉栄高等学校 | G27: =[1]抽選女子!I24 -> 36614
A28: =IF([1]抽選女子!E25=76,"+75",[1]抽選女子!E25) -> 53 | B28: =[1]抽選女子!C25 -> 60 | C28: =C27+1 -> 13 | D28: =[1]抽選女子!G25 -> 中谷 麻佑 | E28: =[1]抽選女子!K25 -> 石川 | F28: =[1]抽選女子!H25 -> 金沢学院東高等学校 | G28: =[1]抽選女子!I25 -> 35707
A29: =IF([1]抽選女子!E26=76,"+75",[1]抽選女子!E26) -> 53 | B29: =[1]抽選女子!C26 -> 71 | C29: =C28+1 -> 14 | D29: =[1]抽選女子!G26 -> 榎本ほたる | E29: =[1]抽選女子!K26 -> 埼玉 | F29: =[1]抽選女子!H26 -> 自衛隊体育学校 | G29: =[1]抽選女子!I26 -> 35206
A30: =IF([1]抽選女子!E27=76,"+75",[1]抽選女子!E27) -> 58 | B30: =[1]抽選女子!C27 -> 4 | C30: 1 | D30: =[1]抽選女子!G27 -> 山田聖佳 | E30: =[1]抽選女子!K27 -> 福岡 | F30: =[1]抽選女子!H27 -> 九州国際大学 | G30: =[1]抽選女子!I27 -> 35155
A31: =IF([1]抽選女子!E28=76,"+75",[1]抽選女子!E28) -> 58 | B31: =[1]抽選女子!C28 -> 15 | C31: =C30+1 -> 2 | D31: =[1]抽選女子!G28 -> 中嶋梨香子 | E31: =[1]抽選女子!K28 -> 宮崎 | F31: =[1]抽選女子!H28 -> 小林高等学校 | G31: =[1]抽選女子!I28 -> 35713
A32: =IF([1]抽選女子!E29=76,"+75",[1]抽選女子!E29) -> 58 | B32: =[1]抽選女子!C29 -> 16 | C32: =C31+1 -> 3 | D32: =[1]抽選女子!G29 -> 水野 風香 | E32: =[1]抽選女子!K29 -> 兵庫 | F32: =[1]抽選女子!H29 -> 日本体育大学 | G32: =[1]抽選女子!I29 -> 35281
A33: =IF([1]抽選女子!E30=76,"+75",[1]抽選女子!E30) -> 58 | B33: =[1]抽選女子!C30 -> 17 | C33: =C32+1 -> 4 | D33: =[1]抽選女子!G30 -> 岡本 唯衣 | E33: =[1]抽選女子!K30 -> 徳島 | F33: =[1]抽選女子!H30 -> 大阪商業大学 | G33: =[1]抽選女子!I30 -> 35384
A34: =IF([1]抽選女子!E31=76,"+75",[1]抽選女子!E31) -> 58 | B34: =[1]抽選女子!C31 -> 29 | C34: =C33+1 -> 5 | D34: =[1]抽選女子!G31 -> 眞 柄 朱 里 | E34: =[1]抽選女子!K31 -> 福井 | F34: =[1]抽選女子!H31 -> 金沢学院大学 | G34: =[1]抽選女子!I31 -> 35404
A35: =IF([1]抽選女子!E32=76,"+75",[1]抽選女子!E32) -> 58 | B35: =[1]抽選女子!C32 -> 39 | C35: =C34+1 -> 6 | D35: =[1]抽選女子!G32 -> 山村 侑生 | E35: =[1]抽選女子!K32 -> 香川 | F35: =[1]抽選女子!H32 -> 多度津高等学校 | G35: =[1]抽選女子!I32 -> 35654
A36: =IF([1]抽選女子!E33=76,"+75",[1]抽選女子!E33) -> 58 | B36: =[1]抽選女子!C33 -> 41 | C36: =C35+1 -> 7 | D36: =[1]抽選女子!G33 -> 谷口 さつき | E36: =[1]抽選女子!K33 -> 富山 | F36: =[1]抽選女子!H33 -> 滑川高等学校 | G36: =[1]抽選女子!I33 -> 35637
A37: =IF([1]抽選女子!E34=76,"+75",[1]抽選女子!E34) -> 58 | B37: =[1]抽選女子!C34 -> 42 | C37: =C36+1 -> 8 | D37: =[1]抽選女子!G34 -> 寺島 奈穗 | E37: =[1]抽選女子!K34 -> 群馬 | F37: =[1]抽選女子!H34 -> 前橋育英高等学校 | G37: =[1]抽選女子!I34 -> 35992
A38: =IF([1]抽選女子!E35=76,"+75",[1]抽選女子!E35) -> 58 | B38: =[1]抽選女子!C35 -> 46 | C38: =C37+1 -> 9 | D38: =[1]抽選女子!G35 -> 岡地 愛美 | E38: =[1]抽選女子!K35 -> 京都 | F38: =[1]抽選女子!H35 -> 鳥羽高等学校 | G38: =[1]抽選女子!I35 -> 36162
A39: =IF([1]抽選女子!E36=76,"+75",[1]抽選女子!E36) -> 58 | B39: =[1]抽選女子!C36 -> 47 | C39: =C38+1 -> 10 | D39: =[1]抽選女子!G36 -> 片山 輪咲 | E39: =[1]抽選女子!K36 -> 埼玉 | F39: =[1]抽選女子!H36 -> 埼玉栄中学校 | G39: =[1]抽選女子!I36 -> 37688
A40: =IF([1]抽選女子!E37=76,"+75",[1]抽選女子!E37) -> 58 | B40: =[1]抽選女子!C37 -> 54 | C40: =C39+1 -> 11 | D40: =[1]抽選女子!G37 -> 大塚 優子 | E40: =[1]抽選女子!K37 -> 栃木 | F40: =[1]抽選女子!H37 -> 栃木湘南高等学校 | G40: =[1]抽選女子!I37 -> 35645
A41: =IF([1]抽選女子!E38=76,"+75",[1]抽選女子!E38) -> 58 | B41: =[1]抽選女子!C38 -> 64 | C41: =C40+1 -> 12 | D41: =[1]抽選女子!G38 -> 小林 紗良花 | E41: =[1]抽選女子!K38 -> 石川 | F41: =[1]抽選女子!H38 -> 珠洲市立緑丘中学校 | G41: =[1]抽選女子!I38 -> 36630
...

Sheet Sheet3
