Workbook

Sheet 男子抽選結果
A1: 平成27年度第36回全日本ジュニアウエイトリフティング選手権大会
A2: 抽選結果
A4: 階級 | B4: 区分 | C4: 抽選番号 | D4: G．No． | E4: 氏名 | F4: 備考２ | G4: 学年 | H4: 所属 | I4: 生年
A5: =IF([1]抽選男子!E2=106,"+105",[1]抽選男子!E2) -> 56 | B5: =[1]抽選男子!F2 -> 0 | C5: =[1]抽選男子!C2 -> 2 | D5: 1 | E5: =[1]抽選男子!G2 -> 益子 広幸 | F5: =[1]抽選男子!K2 -> 茨城 | G5: =[1]抽選男子!J2 -> 0 | H5: =[1]抽選男子!H2 -> 大子清流高等学校 | I5: =[1]抽選男子!I2 -> 35711
A6: =IF([1]抽選男子!E3=106,"+105",[1]抽選男子!E3) -> 56 | B6: =[1]抽選男子!F3 -> 0 | C6: =[1]抽選男子!C3 -> 9 | D6: =D5+1 -> 2 | E6: =[1]抽選男子!G3 -> 生頼 啓暉 | F6: =[1]抽選男子!K3 -> 兵庫 | G6: =[1]抽選男子!J3 -> 0 | H6: =[1]抽選男子!H3 -> 明石南高等学校 | I6: =[1]抽選男子!I3 -> 36506
A7: =IF([1]抽選男子!E4=106,"+105",[1]抽選男子!E4) -> 56 | B7: =[1]抽選男子!F4 -> 0 | C7: =[1]抽選男子!C4 -> 12 | D7: =D6+1 -> 3 | E7: =[1]抽選男子!G4 -> 前田 魁 | F7: =[1]抽選男子!K4 -> 福岡 | G7: =[1]抽選男子!J4 -> 0 | H7: =[1]抽選男子!H4 -> 八幡中央高等学校 | I7: =[1]抽選男子!I4 -> 36186
A8: =IF([1]抽選男子!E5=106,"+105",[1]抽選男子!E5) -> 56 | B8: =[1]抽選男子!F5 -> 0 | C8: =[1]抽選男子!C5 -> 17 | D8: =D7+1 -> 4 | E8: =[1]抽選男子!G5 -> 紙屋 十磨 | F8: =[1]抽選男子!K5 -> 東京 | G8: =[1]抽選男子!J5 -> 0 | H8: =[1]抽選男子!H5 -> 東亜学園高等学校 | I8: =[1]抽選男子!I5 -> 36247
A9: =IF([1]抽選男子!E6=106,"+105",[1]抽選男子!E6) -> 56 | B9: =[1]抽選男子!F6 -> 0 | C9: =[1]抽選男子!C6 -> 18 | D9: =D8+1 -> 5 | E9: =[1]抽選男子!G6 -> 吉本 将之 | F9: =[1]抽選男子!K6 -> 三重 | G9: =[1]抽選男子!J6 -> 0 | H9: =[1]抽選男子!H6 -> 金沢学院大学 | I9: =[1]抽選男子!I6 -> 35122
A10: =IF([1]抽選男子!E7=106,"+105",[1]抽選男子!E7) -> 56 | B10: =[1]抽選男子!F7 -> 0 | C10: =[1]抽選男子!C7 -> 27 | D10: =D9+1 -> 6 | E10: =[1]抽選男子!G7 -> 久保 海斗 | F10: =[1]抽選男子!K7 -> 福井 | G10: =[1]抽選男子!J7 -> 0 | H10: =[1]抽選男子!H7 -> 坂井高等学校 | I10: =[1]抽選男子!I7 -> 36184
A11: =IF([1]抽選男子!E8=106,"+105",[1]抽選男子!E8) -> 56 | B11: =[1]抽選男子!F8 -> 0 | C11: =[1]抽選男子!C8 -> 42 | D11: =D10+1 -> 7 | E11: =[1]抽選男子!G8 -> 妹尾 侑哉 | F11: =[1]抽選男子!K8 -> 香川 | G11: =[1]抽選男子!J8 -> 0 | H11: =[1]抽選男子!H8 -> 東京国際大学 | I11: =[1]抽選男子!I8 -> 35312
A12: =IF([1]抽選男子!E9=106,"+105",[1]抽選男子!E9) -> 56 | B12: =[1]抽選男子!F9 -> 0 | C12: =[1]抽選男子!C9 -> 44 | D12: =D11+1 -> 8 | E12: =[1]抽選男子!G9 -> 前田ジョンレイ | F12: =[1]抽選男子!K9 -> 兵庫 | G12: =[1]抽選男子!J9 -> 0 | H12: =[1]抽選男子!H9 -> 西脇北高等学校 | I12: =[1]抽選男子!I9 -> 35446
A13: =IF([1]抽選男子!E10=106,"+105",[1]抽選男子!E10) -> 56 | B13: =[1]抽選男子!F10 -> 0 | C13: =[1]抽選男子!C10 -> 54 | D13: =D12+1 -> 9 | E13: =[1]抽選男子!G10 -> 砂山 昂大 | F13: =[1]抽選男子!K10 -> 大分 | G13: =[1]抽選男子!J10 -> 0 | H13: =[1]抽選男子!H10 -> 中 央 大 学 | I13: =[1]抽選男子!I10 -> 35206
A14: =IF([1]抽選男子!E11=106,"+105",[1]抽選男子!E11) -> 56 | B14: =[1]抽選男子!F11 -> 0 | C14: =[1]抽選男子!C11 -> 55 | D14: =D13+1 -> 10 | E14: =[1]抽選男子!G11 -> 知念勇人 | F14: =[1]抽選男子!K11 -> 沖縄 | G14: =[1]抽選男子!J11 -> 0 | H14: =[1]抽選男子!H11 -> 早稲田大学 | I14: =[1]抽選男子!I11 -> 35230
A15: =IF([1]抽選男子!E12=106,"+105",[1]抽選男子!E12) -> 56 | B15: =[1]抽選男子!F12 -> 0 | C15: =[1]抽選男子!C12 -> 62 | D15: =D14+1 -> 11 | E15: =[1]抽選男子!G12 -> 坂本 拓弥 | F15: =[1]抽選男子!K12 -> 埼玉 | G15: =[1]抽選男子!J12 -> 0 | H15: =[1]抽選男子!H12 -> 自衛隊体育学校 | I15: =[1]抽選男子!I12 -> 35112
A16: =IF([1]抽選男子!E13=106,"+105",[1]抽選男子!E13) -> 56 | B16: =[1]抽選男子!F13 -> 0 | C16: =[1]抽選男子!C13 -> 83 | D16: =D15+1 -> 12 | E16: =[1]抽選男子!G13 -> 田中 優輝 | F16: =[1]抽選男子!K13 -> 大阪 | G16: =[1]抽選男子!J13 -> 0 | H16: =[1]抽選男子!H13 -> 近畿大学 | I16: =[1]抽選男子!I13 -> 35416
A17: 56 | C17: 85 | D17: 13 | E17: 山口 優人 | F17: 愛媛 | H17: 新居浜市立川東中学校 | I17: 36692
A18: =IF([1]抽選男子!E14=106,"+105",[1]抽選男子!E14) -> 62 | B18: =[1]抽選男子!F14 -> 0 | C18: =[1]抽選男子!C14 -> 5 | D18: 1 | E18: =[1]抽選男子!G14 -> 山本 恭介 | F18: =[1]抽選男子!K14 -> 山梨 | G18: =[1]抽選男子!J14 -> 0 | H18: =[1]抽選男子!H14 -> 谷村工業高等学校 | I18: =[1]抽選男子!I14 -> 35524
A19: =IF([1]抽選男子!E15=106,"+105",[1]抽選男子!E15) -> 62 | B19: =[1]抽選男子!F15 -> 0 | C19: =[1]抽選男子!C15 -> 13 | D19: 2 | E19: =[1]抽選男子!G15 -> 後藤 大雅 | F19: =[1]抽選男子!K15 -> 大分 | G19: =[1]抽選男子!J15 -> 0 | H19: =[1]抽選男子!H15 -> 大分工業高等学校 | I19: =[1]抽選男子!I15 -> 36222
A20: =IF([1]抽選男子!E16=106,"+105",[1]抽選男子!E16) -> 62 | B20: =[1]抽選男子!F16 -> 0 | C20: =[1]抽選男子!C16 -> 15 | D20: 3 | E20: =[1]抽選男子!G16 -> 友利 和樹 | F20: =[1]抽選男子!K16 -> 沖縄 | G20: =[1]抽選男子!J16 -> 0 | H20: =[1]抽選男子!H16 -> 金沢学院大学 | I20: =[1]抽選男子!I16 -> 35334
A21: =IF([1]抽選男子!E17=106,"+105",[1]抽選男子!E17) -> 62 | B21: =[1]抽選男子!F17 -> 0 | C21: =[1]抽選男子!C17 -> 21 | D21: 4 | E21: =[1]抽選男子!G17 -> 森田 幸司 | F21: =[1]抽選男子!K17 -> 沖縄 | G21: =[1]抽選男子!J17 -> 0 | H21: =[1]抽選男子!H17 -> 糸満高等学校 | I21: =[1]抽選男子!I17 -> 35810
A22: =IF([1]抽選男子!E18=106,"+105",[1]抽選男子!E18) -> 62 | B22: =[1]抽選男子!F18 -> 0 | C22: =[1]抽選男子!C18 -> 23 | D22: 5 | E22: =[1]抽選男子!G18 -> 秋本 将吾 | F22: =[1]抽選男子!K18 -> 東京 | G22: =[1]抽選男子!J18 -> 0 | H22: =[1]抽選男子!H18 -> 東亜学園高等学校 | I22: =[1]抽選男子!I18 -> 36266
A23: =IF([1]抽選男子!E19=106,"+105",[1]抽選男子!E19) -> 62 | B23: =[1]抽選男子!F19 -> 0 | C23: =[1]抽選男子!C19 -> 37 | D23: 6 | E23: =[1]抽選男子!G19 -> 芥 亨哉 | F23: =[1]抽選男子!K19 -> 香川 | G23: =[1]抽選男子!J19 -> 0 | H23: =[1]抽選男子!H19 -> 多度津高等学校 | I23: =[1]抽選男子!I19 -> 36240
A24: =IF([1]抽選男子!E20=106,"+105",[1]抽選男子!E20) -> 62 | B24: =[1]抽選男子!F20 -> 0 | C24: =[1]抽選男子!C20 -> 39 | D24: 7 | E24: =[1]抽選男子!G20 -> 時任 飛鳥 | F24: =[1]抽選男子!K20 -> 香川 | G24: =[1]抽選男子!J20 -> 0 | H24: =[1]抽選男子!H20 -> 多度津高等学校 | I24: =[1]抽選男子!I20 -> 35683
A25: =IF([1]抽選男子!E21=106,"+105",[1]抽選男子!E21) -> 62 | B25: =[1]抽選男子!F21 -> 0 | C25: =[1]抽選男子!C21 -> 41 | D25: 8 | E25: 古屋敷 拓也 | F25: =[1]抽選男子!K21 -> 三重 | G25: =[1]抽選男子!J21 -> 0 | H25: =[1]抽選男子!H21 -> 四日市工業高等学校 | I25: =[1]抽選男子!I21 -> 35854
A26: =IF([1]抽選男子!E22=106,"+105",[1]抽選男子!E22) -> 62 | B26: =[1]抽選男子!F22 -> 0 | C26: =[1]抽選男子!C22 -> 65 | D26: 9 | E26: =[1]抽選男子!G22 -> 小水流 朋樹 | F26: =[1]抽選男子!K22 -> 宮崎 | G26: =[1]抽選男子!J22 -> 0 | H26: =[1]抽選男子!H22 -> 小林高等学校 | I26: =[1]抽選男子!I22 -> 35745
A27: =IF([1]抽選男子!E23=106,"+105",[1]抽選男子!E23) -> 62 | B27: =[1]抽選男子!F23 -> 0 | C27: =[1]抽選男子!C23 -> 67 | D27: 10 | E27: =[1]抽選男子!G23 -> 木村 勇喜 | F27: =[1]抽選男子!K23 -> 兵庫 | G27: =[1]抽選男子!J23 -> 0 | H27: =[1]抽選男子!H23 -> 明石南高等学校 | I27: =[1]抽選男子!I23 -> 36229
A28: =IF([1]抽選男子!E24=106,"+105",[1]抽選男子!E24) -> 62 | B28: =[1]抽選男子!F24 -> 0 | C28: =[1]抽選男子!C24 -> 73 | D28: 11 | E28: =[1]抽選男子!G24 -> 穐山 亮 | F28: =[1]抽選男子!K24 -> 栃木 | G28: =[1]抽選男子!J24 -> 0 | H28: =[1]抽選男子!H24 -> 小山高等学校 | I28: =[1]抽選男子!I24 -> 36225
A29: =IF([1]抽選男子!E25=106,"+105",[1]抽選男子!E25) -> 62 | B29: =[1]抽選男子!F25 -> 0 | C29: =[1]抽選男子!C25 -> 76 | D29: 12 | E29: =[1]抽選男子!G25 -> 喜屋武 翔太 | F29: =[1]抽選男子!K25 -> 沖縄 | G29: =[1]抽選男子!J25 -> 0 | H29: =[1]抽選男子!H25 -> 沖縄調理師専門学校 | I29: =[1]抽選男子!I25 -> 35409
A30: =IF([1]抽選男子!E26=106,"+105",[1]抽選男子!E26) -> 62 | B30: =[1]抽選男子!F26 -> 0 | C30: =[1]抽選男子!C26 -> 84 | D30: 13 | E30: =[1]抽選男子!G26 -> 森川 芳樹 | F30: =[1]抽選男子!K26 -> 兵庫 | G30: =[1]抽選男子!J26 -> 0 | H30: =[1]抽選男子!H26 -> 早稲田大学 | I30: =[1]抽選男子!I26 -> 35131
A31: =IF([1]抽選男子!E27=106,"+105",[1]抽選男子!E27) -> 69 | B31: =[1]抽選男子!F27 -> 0 | C31: =[1]抽選男子!C27 -> 3 | D31: 1 | E31: =[1]抽選男子!G27 -> 花井 慶典 | F31: =[1]抽選男子!K27 -> 埼玉 | G31: =[1]抽選男子!J27 -> 0 | H31: =[1]抽選男子!H27 -> 平成国際大学 | I31: =[1]抽選男子!I27 -> 35301
A32: =IF([1]抽選男子!E28=106,"+105",[1]抽選男子!E28) -> 69 | B32: =[1]抽選男子!F28 -> 0 | C32: =[1]抽選男子!C28 -> 8 | D32: =D31+1 -> 2 | E32: =[1]抽選男子!G28 -> 大塚 和 | F32: =[1]抽選男子!K28 -> 滋賀 | G32: =[1]抽選男子!J28 -> 0 | H32: =[1]抽選男子!H28 -> びわこ成蹊スポーツ大学 | I32: =[1]抽選男子!I28 -> 35241
A33: =IF([1]抽選男子!E29=106,"+105",[1]抽選男子!E29) -> 69 | B33: =[1]抽選男子!F29 -> 0 | C33: =[1]抽選男子!C29 -> 22 | D33: =D32+1 -> 3 | E33: =[1]抽選男子!G29 -> 河野 真輝 | F33: =[1]抽選男子!K29 -> 宮崎 | G33: =[1]抽選男子!J29 -> 0 | H33: =[1]抽選男子!H29 -> 小林高等学校 | I33: =[1]抽選男子!I29 -> 35605
A34: =IF([1]抽選男子!E30=106,"+105",[1]抽選男子!E30) -> 69 | B34: =[1]抽選男子!F30 -> 0 | C34: =[1]抽選男子!C30 -> 30 | D34: =D33+1 -> 4 | E34: =[1]抽選男子!G30 -> 知念 勇樹 | F34: =[1]抽選男子!K30 -> 大阪 | G34: =[1]抽選男子!J30 -> 0 | H34: =[1]抽選男子!H30 -> 関西大学第一高等学校 | I34: =[1]抽選男子!I30 -> 36005
A35: =IF([1]抽選男子!E31=106,"+105",[1]抽選男子!E31) -> 69 | B35: =[1]抽選男子!F31 -> 0 | C35: =[1]抽選男子!C31 -> 34 | D35: =D34+1 -> 5 | E35: =[1]抽選男子!G31 -> 伊丹 玲於奈 | F35: =[1]抽選男子!K31 -> 三重 | G35: =[1]抽選男子!J31 -> 0 | H35: =[1]抽選男子!H31 -> 日 本 大 学 | I35: =[1]抽選男子!I31 -> 35445
A36: =IF([1]抽選男子!E32=106,"+105",[1]抽選男子!E32) -> 69 | B36: =[1]抽選男子!F32 -> 0 | C36: =[1]抽選男子!C32 -> 40 | D36: =D35+1 -> 6 | E36: =[1]抽選男子!G32 -> 宮本 昌典 | F36: =[1]抽選男子!K32 -> 沖縄 | G36: =[1]抽選男子!J32 -> 0 | H36: =[1]抽選男子!H32 -> 東京国際大学 | I36: =[1]抽選男子!I32 -> 35464
A37: =IF([1]抽選男子!E33=106,"+105",[1]抽選男子!E33) -> 69 | B37: =[1]抽選男子!F33 -> 0 | C37: =[1]抽選男子!C33 -> 52 | D37: =D36+1 -> 7 | E37: =[1]抽選男子!G33 -> 近内 三孝 | F37: =[1]抽選男子!K33 -> 福島 | G37: =[1]抽選男子!J33 -> 0 | H37: =[1]抽選男子!H33 -> 日 本 大 学 | I37: =[1]抽選男子!I33 -> 35138
A38: =IF([1]抽選男子!E34=106,"+105",[1]抽選男子!E34) -> 69 | B38: =[1]抽選男子!F34 -> 0 | C38: =[1]抽選男子!C34 -> 53 | D38: =D37+1 -> 8 | E38: =[1]抽選男子!G34 -> 田中 裕也 | F38: =[1]抽選男子!K34 -> 宮崎 | G38: =[1]抽選男子!J34 -> 0 | H38: =[1]抽選男子!H34 -> 小林秀峰高等学校 | I38: =[1]抽選男子!I34 -> 35636
A39: =IF([1]抽選男子!E35=106,"+105",[1]抽選男子!E35) -> 69 | B39: =[1]抽選男子!F35 -> 0 | C39: =[1]抽選男子!C35 -> 79 | D39: =D38+1 -> 9 | E39: =[1]抽選男子!G35 -> 鳥島 輝 | F39: =[1]抽選男子!K35 -> 宮城 | G39: =[1]抽選男子!J35 -> 0 | H39: =[1]抽選男子!H35 -> 柴田高等学校 | I39: =[1]抽選男子!I35 -> 35644
A40: =IF([1]抽選男子!E36=106,"+105",[1]抽選男子!E36) -> 69 | B40: =[1]抽選男子!F36 -> 0 | C40: =[1]抽選男子!C36 -> 82 | D40: =D39+1 -> 10 | E40: =[1]抽選男子!G36 -> 山根 大地 | F40: =[1]抽選男子!K36 -> 栃木 | G40: =[1]抽選男子!J36 -> 0 | H40: =[1]抽選男子!H36 -> 小山高等学校 | I40: =[1]抽選男子!I36 -> 35894
A41: =IF([1]抽選男子!E37=106,"+105",[1]抽選男子!E37) -> 77 | B41: =[1]抽選男子!F37 -> 0 | C41: =[1]抽選男子!C37 -> 1 | D41: 1 | E41: =[1]抽選男子!G37 -> 大室 了介 | F41: =[1]抽選男子!K37 -> 岡山 | G41: =[1]抽選男子!J37 -> 0 | H41: =[1]抽選男子!H37 -> 日本体育大学 | I41: =[1]抽選男子!I37 -> 35068
A42: =IF([1]抽選男子!E38=106,"+105",[1]抽選男子!E38) -> 77 | B42: =[1]抽選男子!F38 -> 0 | C42: =[1]抽選男子!C38 -> 4 | D42: =D41+1 -> 2 | E42: =[1]抽選男子!G38 -> 栁川 友章 | F42: =[1]抽選男子!K38 -> 三重 | G42: =[1]抽選男子!J38 -> 0 | H42: =[1]抽選男子!H38 -> 亀山高等学校 | I42: =[1]抽選男子!I38 -> 35937
A43: =IF([1]抽選男子!E39=106,"+105",[1]抽選男子!E39) -> 77 | B43: =[1]抽選男子!F39 -> 0 | C43: =[1]抽選男子!C39 -> 10 | D43: =D42+1 -> 3 | E43: =[1]抽選男子!G39 -> 廣瀬 翼 | F43: =[1]抽選男子!K39 -> 東京 | G43: =[1]抽選男子!J39 -> 0 | H43: =[1]抽選男子!H39 -> 東亜学園OBC | I43: =[1]抽選男子!I39 -> 35128
A44: =IF([1]抽選男子!E40=106,"+105",[1]抽選男子!E40) -> 77 | B44: =[1]抽選男子!F40 -> 0 | C44: =[1]抽選男子!C40 -> 11 | D44: =D43+1 -> 4 | E44: =[1]抽選男子!G40 -> 庄司 勇人 | F44: =[1]抽選男子!K40 -> 京都 | G44: =[1]抽選男子!J40 -> 0 | H44: =[1]抽選男子!H40 -> 近畿大学 | I44: =[1]抽選男子!I40 -> 35272
A45: =IF([1]抽選男子!E41=106,"+105",[1]抽選男子!E41) -> 77 | B45: =[1]抽選男子!F41 -> 0 | C45: =[1]抽選男子!C41 -> 20 | D45: =D44+1 -> 5 | E45: =[1]抽選男子!G41 -> 原 勇輝 | F45: =[1]抽選男子!K41 -> 徳島 | G45: =[1]抽選男子!J41 -> 0 | H45: =[1]抽選男子!H41 -> 徳島科学技術高等学校 | I45: =[1]抽選男子!I41 -> 35562
A46: =IF([1]抽選男子!E42=106,"+105",[1]抽選男子!E42) -> 77 | B46: =[1]抽選男子!F42 -> 0 | C46: =[1]抽選男子!C42 -> 28 | D46: =D45+1 -> 6 | E46: =[1]抽選男子!G42 -> 宍戸 大輔 | F46: =[1]抽選男子!K42 -> 福島 | G46: =[1]抽選男子!J42 -> 0 | H46: =[1]抽選男子!H42 -> 福島工業高等学校 | I46: =[1]抽選男子!I42 -> 36178
A47: =IF([1]抽選男子!E43=106,"+105",[1]抽選男子!E43) -> 77 | B47: =[1]抽選男子!F43 -> 0 | C47: =[1]抽選男子!C43 -> 31 | D47: =D46+1 -> 7 | E47: =[1]抽選男子!G43 -> 永迫竜矢 | F47: =[1]抽選男子!K43 -> 宮崎 | G47: =[1]抽選男子!J43 -> 0 | H47: =[1]抽選男子!H43 -> 早稲田大学 | I47: =[1]抽選男子!I43 -> 35439
A48: =IF([1]抽選男子!E44=106,"+105",[1]抽選男子!E44) -> 77 | B48: =[1]抽選男子!F44 -> 0 | C48: =[1]抽選男子!C44 -> 45 | D48: =D47+1 -> 8 | E48: =[1]抽選男子!G44 -> 水野 世那 | F48: =[1]抽選男子!K44 -> 愛知 | G48: =[1]抽選男子!J44 -> 0 | H48: =[1]抽選男子!H44 -> 日本体育大学 | I48: =[1]抽選男子!I44 -> 35071
A49: =IF([1]抽選男子!E45=106,"+105",[1]抽選男子!E45) -> 77 | B49: =[1]抽選男子!F45 -> 0 | C49: =[1]抽選男子!C45 -> 51 | D49: =D48+1 -> 9 | E49: =[1]抽選男子!G45 -> 小藤 豪士 | F49: =[1]抽選男子!K45 -> 栃木 | G49: =[1]抽選男子!J45 -> 0 | H49: =[1]抽選男子!H45 -> 小山高等学校 | I49: =[1]抽選男子!I45 -> 36189
A50: =IF([1]抽選男子!E46=106,"+105",[1]抽選男子!E46) -> 77 | B50: =[1]抽選男子!F46 -> 0 | C50: =[1]抽選男子!C46 -> 63 | D50: =D49+1 -> 10 | E50: =[1]抽選男子!G46 -> 松尾 侑宇大 | F50: =[1]抽選男子!K46 -> 東京 | G50: =[1]抽選男子!J46 -> 0 | H50: =[1]抽選男子!H46 -> 中 央 大 学 | I50: =[1]抽選男子!I46 -> 35101
A51: =IF([1]抽選男子!E47=106,"+105",[1]抽選男子!E47) -> 77 | B51: =[1]抽選男子!F47 -> 0 | C51: =[1]抽選男子!C47 -> 68 | D51: =D50+1 -> 11 | E51: =[1]抽選男子!G47 -> 安藤 勇馬 | F51: =[1]抽選男子!K47 -> 岐阜 | G51: =[1]抽選男子!J47 -> 0 | H51: =[1]抽選男子!H47 -> 日 本 大 学 | I51: =[1]抽選男子!I47 -> 35081
A52: =IF([1]抽選男子!E48=106,"+105",[1]抽選男子!E48) -> 77 | B52: =[1]抽選男子!F48 -> 0 | C52: =[1]抽選男子!C48 -> 71 | D52: =D51+1 -> 12 | E52: =[1]抽選男子!G48 -> 牧野 達樹 | F52: =[1]抽選男子!K48 -> 兵庫 | G52: =[1]抽選男子!J48 -> 0 | H52: =[1]抽選男子!H48 -> 須磨友が丘高等学校 | I52: =[1]抽選男子!I48 -> 36234
A53: =IF([1]抽選男子!E49=106,"+105",[1]抽選男子!E49) -> 85 | B53: =[1]抽選男子!F49 -> 0 | C53: =[1]抽選男子!C49 -> 7 | D53: 1 | E53: =[1]抽選男子!G49 -> 島袋 匡継 | F53: =[1]抽選男子!K49 -> 山梨 | G53: =[1]抽選男子!J49 -> 0 | H53: =[1]抽選男子!H49 -> 日 本 大 学 | I53: =[1]抽選男子!I49 -> 35329
A54: =IF([1]抽選男子!E50=106,"+105",[1]抽選男子!E50) -> 85 | B54: =[1]抽選男子!F50 -> 0 | C54: =[1]抽選男子!C50 -> 35 | D54: =D53+1 -> 2 | E54: 櫻井 歩 | F54: =[1]抽選男子!K50 -> 栃木 | G54: =[1]抽選男子!J50 -> 0 | H54: =[1]抽選男子!H50 -> 小山高等学校 | I54: =[1]抽選男子!I50 -> 36168
A55: =IF([1]抽選男子!E51=106,"+105",[1]抽選男子!E51) -> 85 | B55: =[1]抽選男子!F51 -> 0 | C55: =[1]抽選男子!C51 -> 43 | D55: =D54+1 -> 3 | E55: =[1]抽選男子!G51 -> 福田 匠磨 | F55: =[1]抽選男子!K51 -> 福岡 | G55: =[1]抽選男子!J51 -> 0 | H55: =[1]抽選男子!H51 -> 九州工業大学 | I55: =[1]抽選男子!I51 -> 35332
A56: =IF([1]抽選男子!E52=106,"+105",[1]抽選男子!E52) -> 85 | B56: =[1]抽選男子!F52 -> 0 | C56: =[1]抽選男子!C52 -> 56 | D56: =D55+1 -> 4 | E56: =[1]抽選男子!G52 -> 小松 幸佑 | F56: =[1]抽選男子!K52 -> 長野 | G56: =[1]抽選男子!J52 -> 0 | H56: =[1]抽選男子!H52 -> 松商学園高等学校 | I56: =[1]抽選男子!I52 -> 35743
A57: =IF([1]抽選男子!E53=106,"+105",[1]抽選男子!E53) -> 85 | B57: =[1]抽選男子!F53 -> 0 | C57: =[1]抽選男子!C53 -> 64 | D57: =D56+1 -> 5 | E57: 西村 晋悟 | F57: =[1]抽選男子!K53 -> 石川 | G57: =[1]抽選男子!J53 -> 0 | H57: =[1]抽選男子!H53 -> 金沢学院東高等学校 | I57: =[1]抽選男子!I53 -> 35994
A58: =IF([1]抽選男子!E54=106,"+105",[1]抽選男子!E54) -> 85 | B58: =[1]抽選男子!F54 -> 0 | C58: =[1]抽選男子!C54 -> 78 | D58: =D57+1 -> 6 | E58: =[1]抽選男子!G54 -> 土田 惠和 | F58: =[1]抽選男子!K54 -> 新潟 | G58: =[1]抽選男子!J54 -> 0 | H58: =[1]抽選男子!H54 -> 日 本 大 学 | I58: =[1]抽選男子!I54 -> 35320
A59: =IF([1]抽選男子!E55=106,"+105",[1]抽選男子!E55) -> 85 | B59: =[1]抽選男子!F55 -> 0 | C59: =[1]抽選男子!C55 -> 80 | D59: =D58+1 -> 7 | E59: =[1]抽選男子!G55 -> 河村 紀毅 | F59: =[1]抽選男子!K55 -> 富山 | G59: =[1]抽選男子!J55 -> 0 | H59: =[1]抽選男子!H55 -> 滑川高等学校 | I59: =[1]抽選男子!I55 -> 35746
A60: =IF([1]抽選男子!E56=106,"+105",[1]抽選男子!E56) -> 85 | B60: =[1]抽選男子!F56 -> 0 | C60: =[1]抽選男子!C56 -> 81 | D60: =D59+1 -> 8 | E60: =[1]抽選男子!G56 -> 野尻 雄基 | F60: =[1]抽選男子!K56 -> 栃木 | G60: =[1]抽選男子!J56 -> 0 | H60: =[1]抽選男子!H56 -> 日本体育大学 | I60: =[1]抽選男子!I56 -> 35471
A61: =IF([1]抽選男子!E57=106,"+105",[1]抽選男子!E57) -> 94 | B61: =[1]抽選男子!F57 -> 0 | C61: =[1]抽選男子!C57 -> 16 | D61: 1 | E61: =[1]抽選男子!G57 -> 金森 誉之 | F61: =[1]抽選男子!K57 -> 山梨 | G61: =[1]抽選男子!J57 -> 0 | H61: =[1]抽選男子!H57 -> 桂高等学校 | I61: =[1]抽選男子!I57 -> 35840
A62: =IF([1]抽選男子!E58=106,"+105",[1]抽選男子!E58) -> 94 | B62: =[1]抽選男子!F58 -> 0 | C62: =[1]抽選男子!C58 -> 29 | D62: =D61+1 -> 2 | E62: =[1]抽選男子!G58 -> 元木 雅人 | F62: =[1]抽選男子!K58 -> 奈良 | G62: =[1]抽選男子!J58 -> 0 | H62: =[1]抽選男子!H58 -> 明 治 大 学 | I62: =[1]抽選男子!I58 -> 35249
A63: =IF([1]抽選男子!E59=106,"+105",[1]抽選男子!E59) -> 94 | B63: =[1]抽選男子!F59 -> 0 | C63: =[1]抽選男子!C59 -> 33 | D63: =D62+1 -> 3 | E63: =[1]抽選男子!G59 -> 渡邊 健太郎 | F63: =[1]抽選男子!K59 -> 宮城 | G63: =[1]抽選男子!J59 -> 0 | H63: =[1]抽選男子!H59 -> 拓 殖 大 学 | I63: =[1]抽選男子!I59 -> 35366
A64: =IF([1]抽選男子!E60=106,"+105",[1]抽選男子!E60) -> 94 | B64: =[1]抽選男子!F60 -> 0 | C64: =[1]抽選男子!C60 -> 48 | D64: =D63+1 -> 4 | E64: =[1]抽選男子!G60 -> 福本 龍馬 | F64: =[1]抽選男子!K60 -> 北海道 | G64: =[1]抽選男子!J60 -> 0 | H64: =[1]抽選男子!H60 -> 士別翔雲高等学校 | I64: =[1]抽選男子!I60 -> 35846
A65: =IF([1]抽選男子!E61=106,"+105",[1]抽選男子!E61) -> 94 | B65: =[1]抽選男子!F61 -> 0 | C65: =[1]抽選男子!C61 -> 50 | D65: =D64+1 -> 5 | E65: =[1]抽選男子!G61 -> 佐藤 啓隆 | F65: =[1]抽選男子!K61 -> 福島 | G65: =[1]抽選男子!J61 -> 0 | H65: =[1]抽選男子!H61 -> 日本体育大学 | I65: =[1]抽選男子!I61 -> 35313
A66: =IF([1]抽選男子!E62=106,"+105",[1]抽選男子!E62) -> 94 | B66: =[1]抽選男子!F62 -> 0 | C66: =[1]抽選男子!C62 -> 59 | D66: =D65+1 -> 6 | E66: =[1]抽選男子!G62 -> 二階堂 功 輝 | F66: =[1]抽選男子!K62 -> 北海道 | G66: =[1]抽選男子!J62 -> 0 | H66: =[1]抽選男子!H62 -> 日本体育大学 | I66: =[1]抽選男子!I62 -> 35288
A67: =IF([1]抽選男子!E63=106,"+105",[1]抽選男子!E63) -> 94 | B67: =[1]抽選男子!F63 -> 0 | C67: =[1]抽選男子!C63 -> 61 | D67: =D66+1 -> 7 | E67: =[1]抽選男子!G63 -> ｼﾞｪﾝﾃﾞｨ 今 夢 | F67: =[1]抽選男子!K63 -> 東京 | G67: =[1]抽選男子!J63 -> 0 | H67: =[1]抽選男子!H63 -> 中 央 大 学 | I67: =[1]抽選男子!I63 -> 35468
A68: =IF([1]抽選男子!E64=106,"+105",[1]抽選男子!E64) -> 94 | B68: =[1]抽選男子!F64 -> 0 | C68: =[1]抽選男子!C64 -> 69 | D68: =D67+1 -> 8 | E68: =[1]抽選男子!G64 -> 請舛 泰俊 | F68: =[1]抽選男子!K64 -> 沖縄 | G68: =[1]抽選男子!J64 -> 0 | H68: =[1]抽選男子!H64 -> 沖縄工業高等学校 | I68: =[1]抽選男子!I64 -> 35772
A69: =IF([1]抽選男子!E65=106,"+105",[1]抽選男子!E65) -> 94 | B69: =[1]抽選男子!F65 -> 0 | C69: =[1]抽選男子!C65 -> 70 | D69: =D68+1 -> 9 | E69: =[1]抽選男子!G65 -> 青木 智也 | F69: =[1]抽選男子!K65 -> 福島 | G69: =[1]抽選男子!J65 -> 0 | H69: =[1]抽選男子!H65 -> 田村高等学校 | I69: =[1]抽選男子!I65 -> 35752
A70: =IF([1]抽選男子!E66=106,"+105",[1]抽選男子!E66) -> 94 | B70: =[1]抽選男子!F66 -> 0 | C70: =[1]抽選男子!C66 -> 75 | D70: =D69+1 -> 10 | E70: =[1]抽選男子!G66 -> 雨宮 玄剛 | F70: =[1]抽選男子!K66 -> 山梨 | G70: =[1]抽選男子!J66 -> 0 | H70: =[1]抽選男子!H66 -> 法 政 大 学 | I70: =[1]抽選男子!I66 -> 35228
A71: =IF([1]抽選男子!E67=106,"+105",[1]抽選男子!E67) -> 105 | B71: =[1]抽選男子!F67 -> 0 | C71: =[1]抽選男子!C67 -> 6 | D71: 1 | E71: =[1]抽選男子!G67 -> 坂本 洋平 | F71: =[1]抽選男子!K67 -> 兵庫 | G71: =[1]抽選男子!J67 -> 0 | H71: =[1]抽選男子!H67 -> 三木東高等学校 | I71: =[1]抽選男子!I67 -> 35998
A72: =IF([1]抽選男子!E68=106,"+105",[1]抽選男子!E68) -> 105 | B72: =[1]抽選男子!F68 -> 0 | C72: =[1]抽選男子!C68 -> 14 | D72: =D71+1 -> 2 | E72: 尾添 勇平 | F72: =[1]抽選男子!K68 -> 滋賀 | G72: =[1]抽選男子!J68 -> 0 | H72: =[1]抽選男子!H68 -> 関西大学 | I72: =[1]抽選男子!I68 -> 35506
A73: =IF([1]抽選男子!E69=106,"+105",[1]抽選男子!E69) -> 105 | B73: =[1]抽選男子!F69 -> 0 | C73: =[1]抽選男子!C69 -> 25 | D73: =D72+1 -> 3 | E73: =[1]抽選男子!G69 -> 棚原 幹善 | F73: =[1]抽選男子!K69 -> 沖縄 | G73: =[1]抽選男子!J69 -> 0 | H73: =[1]抽選男子!H69 -> 沖縄工業高等学校 | I73: =[1]抽選男子!I69 -> 35930
A74: =IF([1]抽選男子!E70=106,"+105",[1]抽選男子!E70) -> 105 | B74: =[1]抽選男子!F70 -> 0 | C74: =[1]抽選男子!C70 -> 26 | D74: =D73+1 -> 4 | E74: =[1]抽選男子!G70 -> 池田 裕介 | F74: =[1]抽選男子!K70 -> 滋賀 | G74: =[1]抽選男子!J70 -> 0 | H74: =[1]抽選男子!H70 -> 早稲田大学 | I74: =[1]抽選男子!I70 -> 35212
A75: =IF([1]抽選男子!E71=106,"+105",[1]抽選男子!E71) -> 105 | B75: =[1]抽選男子!F71 -> 0 | C75: =[1]抽選男子!C71 -> 32 | D75: =D74+1 -> 5 | E75: =[1]抽選男子!G71 -> 堀北 知秀 | F75: =[1]抽選男子!K71 -> 兵庫 | G75: =[1]抽選男子!J71 -> 0 | H75: =[1]抽選男子!H71 -> 日本体育大学 | I75: =[1]抽選男子!I71 -> 35087
A76: =IF([1]抽選男子!E72=106,"+105",[1]抽選男子!E72) -> 105 | B76: =[1]抽選男子!F72 -> 0 | C76: =[1]抽選男子!C72 -> 36 | D76: =D75+1 -> 6 | E76: =[1]抽選男子!G72 -> 津留 周平 | F76: =[1]抽選男子!K72 -> 宮崎 | G76: =[1]抽選男子!J72 -> 0 | H76: =[1]抽選男子!H72 -> 九州国際大学 | I76: =[1]抽選男子!I72 -> 35327
A77: =IF([1]抽選男子!E73=106,"+105",[1]抽選男子!E73) -> 105 | B77: =[1]抽選男子!F73 -> 0 | C77: =[1]抽選男子!C73 -> 38 | D77: =D76+1 -> 7 | E77: =[1]抽選男子!G73 -> 大河内 優 | F77: =[1]抽選男子!K73 -> 福島 | G77: =[1]抽選男子!J73 -> 0 | H77: =[1]抽選男子!H73 -> 拓 殖 大 学 | I77: =[1]抽選男子!I73 -> 35483
A78: =IF([1]抽選男子!E74=106,"+105",[1]抽選男子!E74) -> 105 | B78: =[1]抽選男子!F74 -> 0 | C78: =[1]抽選男子!C74 -> 47 | D78: =D77+1 -> 8 | E78: =[1]抽選男子!G74 -> 岩崎 貴之 | F78: =[1]抽選男子!K74 -> 長崎 | G78: =[1]抽選男子!J74 -> 0 | H78: =[1]抽選男子!H74 -> 九州国際大学 | I78: =[1]抽選男子!I74 -> 35451
A79: =IF([1]抽選男子!E75=106,"+105",[1]抽選男子!E75) -> 105 | B79: =[1]抽選男子!F75 -> 0 | C79: =[1]抽選男子!C75 -> 66 | D79: =D78+1 -> 9 | E79: =[1]抽選男子!G75 -> 岩間 楓 | F79: =[1]抽選男子!K75 -> 宮城 | G79: =[1]抽選男子!J75 -> 0 | H79: =[1]抽選男子!H75 -> 平成国際大学 | I79: =[1]抽選男子!I75 -> 35362
A80: =IF([1]抽選男子!E76=106,"+105",[1]抽選男子!E76) -> 105 | B80: =[1]抽選男子!F76 -> 0 | C80: =[1]抽選男子!C76 -> 72 | D80: =D79+1 -> 10 | E80: =[1]抽選男子!G76 -> 丸本 大翔 | F80: =[1]抽選男子!K76 -> 岡山 | G80: =[1]抽選男子!J76 -> 0 | H80: =[1]抽選男子!H76 -> 水島工業高等学校 | I80: =[1]抽選男子!I76 -> 35775
A81: =IF([1]抽選男子!E77=106,"+105",[1]抽選男子!E77) -> ＋105 | B81: =[1]抽選男子!F77 -> 0 | C81: =[1]抽選男子!C77 -> 19 | D81: 1 | E81: =[1]抽選男子!G77 -> 高橋 啓佑 | F81: =[1]抽選男子!K77 -> 群馬 | G81: =[1]抽選男子!J77 -> 0 | H81: =[1]抽選男子!H77 -> 利根実業高等学校 | I81: =[1]抽選男子!I77 -> 35635
A82: =IF([1]抽選男子!E78=106,"+105",[1]抽選男子!E78) -> ＋105 | B82: =[1]抽選男子!F78 -> 0 | C82: =[1]抽選男子!C78 -> 24 | D82: =D81+1 -> 2 | E82: =[1]抽選男子!G78 -> 川村 正輝 | F82: =[1]抽選男子!K78 -> 三重 | G82: =[1]抽選男子!J78 -> 0 | H82: =[1]抽選男子!H78 -> 四日市工業高等学校 | I82: =[1]抽選男子!I78 -> 35879
A83: =IF([1]抽選男子!E79=106,"+105",[1]抽選男子!E79) -> ＋105 | B83: =[1]抽選男子!F79 -> 0 | C83: =[1]抽選男子!C79 -> 46 | D83: =D82+1 -> 3 | E83: 横山 太偉雅 | F83: =[1]抽選男子!K79 -> 三重 | G83: =[1]抽選男子!J79 -> 0 | H83: =[1]抽選男子!H79 -> 四日市工業高等学校 | I83: =[1]抽選男子!I79 -> 36270
A84: =IF([1]抽選男子!E80=106,"+105",[1]抽選男子!E80) -> ＋105 | B84: =[1]抽選男子!F80 -> 0 | C84: =[1]抽選男子!C80 -> 49 | D84: =D83+1 -> 4 | E84: 山名 ディオン | F84: =[1]抽選男子!K80 -> 高知 | G84: =[1]抽選男子!J80 -> 0 | H84: =[1]抽選男子!H80 -> 東京国際大学 | I84: =[1]抽選男子!I80 -> 35514
A85: =IF([1]抽選男子!E81=106,"+105",[1]抽選男子!E81) -> ＋105 | B85: =[1]抽選男子!F81 -> 0 | C85: =[1]抽選男子!C81 -> 57 | D85: =D84+1 -> 5 | E85: =[1]抽選男子!G81 -> 知念 光亮 | F85: =[1]抽選男子!K81 -> 沖縄 | G85: =[1]抽選男子!J81 -> 0 | H85: =[1]抽選男子!H81 -> 沖縄国際大学 | I85: =[1]抽選男子!I81 -> 35070
A86: =IF([1]抽選男子!E82=106,"+105",[1]抽選男子!E82) -> ＋105 | B86: =[1]抽選男子!F82 -> 0 | C86: =[1]抽選男子!C82 -> 58 | D86: =D85+1 -> 6 | E86: =[1]抽選男子!G82 -> 野中 雅浩 | F86: =[1]抽選男子!K82 -> 大分 | G86: =[1]抽選男子!J82 -> 0 | H86: =[1]抽選男子!H82 -> 法 政 大 学 | I86: =[1]抽選男子!I82 -> 35263
A87: =IF([1]抽選男子!E83=106,"+105",[1]抽選男子!E83) -> ＋105 | B87: =[1]抽選男子!F83 -> 0 | C87: =[1]抽選男子!C83 -> 60 | D87: =D86+1 -> 7 | E87: =[1]抽選男子!G83 -> 小林 拓斗 | F87: =[1]抽選男子!K83 -> 栃木 | G87: =[1]抽選男子!J83 -> 0 | H87: =[1]抽選男子!H83 -> 足利南高等学校 | I87: =[1]抽選男子!I83 -> 35525
A88: =IF([1]抽選男子!E84=106,"+105",[1]抽選男子!E84) -> ＋105 | B88: =[1]抽選男子!F84 -> 0 | C88: =[1]抽選男子!C84 -> 74 | D88: =D87+1 -> 8 | E88: =[1]抽選男子!G84 -> 野櫻 廉 | F88: =[1]抽選男子!K84 -> 山梨 | G88: =[1]抽選男子!J84 -> 0 | H88: =[1]抽選男子!H84 -> 吉田高等学校 | I88: =[1]抽選男子!I84 -> 35535
A89: =IF([1]抽選男子!E85=106,"+105",[1]抽選男子!E85) -> ＋105 | B89: =[1]抽選男子!F85 -> 0 | C89: =[1]抽選男子!C85 -> 77 | D89: =D88+1 -> 9 | E89: =[1]抽選男子!G85 -> 宮城 昌義 | F89: =[1]抽選男子!K85 -> 沖縄 | G89: =[1]抽選男子!J85 -> 0 | H89: =[1]抽選男子!H85 -> 沖縄工業高等学校 | I89: =[1]抽選男子!I85 -> 36195

Sheet 女子抽選結果
A1: 平成27年度第36回全日本ジュニアウエイトリフティング選手権大会
A2: 抽選結果
A4: 階級 | B4: 抽選番号 | C4: G．No． | D4: 氏名 | E4: =[1]抽選女子!K1 -> 都道府県 | F4: 所 属 | G4: 生年
A5: =IF([1]抽選女子!E2=76,"+75",[1]抽選女子!E2) -> 48 | B5: =[1]抽選女子!C2 -> 3 | C5: 1 | D5: =[1]抽選女子!G2 -> 田中 綾音 | E5: =[1]抽選女子!K2 -> 兵庫 | F5: =[1]抽選女子!H2 -> 須磨友が丘高等学校 | G5: =[1]抽選女子!I2 -> 36130
A6: =IF([1]抽選女子!E3=76,"+75",[1]抽選女子!E3) -> 48 | B6: =[1]抽選女子!C3 -> 9 | C6: =C5+1 -> 2 | D6: =[1]抽選女子!G3 -> 奥村 紀香 | E6: =[1]抽選女子!K3 -> 埼玉 | F6: =[1]抽選女子!H3 -> 埼玉栄高等学校 | G6: =[1]抽選女子!I3 -> 36539
A7: =IF([1]抽選女子!E4=76,"+75",[1]抽選女子!E4) -> 48 | B7: =[1]抽選女子!C4 -> 11 | C7: =C6+1 -> 3 | D7: =[1]抽選女子!G4 -> 新川 百音 | E7: =[1]抽選女子!K4 -> 山梨 | F7: =[1]抽選女子!H4 -> 塩山高等学校 | G7: =[1]抽選女子!I4 -> 35622
A8: =IF([1]抽選女子!E5=76,"+75",[1]抽選女子!E5) -> 48 | B8: =[1]抽選女子!C5 -> 21 | C8: =C7+1 -> 4 | D8: =[1]抽選女子!G5 -> 三谷 海空 | E8: =[1]抽選女子!K5 -> 兵庫 | F8: =[1]抽選女子!H5 -> 三木東高等学校 | G8: =[1]抽選女子!I5 -> 35923
A9: =IF([1]抽選女子!E6=76,"+75",[1]抽選女子!E6) -> 48 | B9: =[1]抽選女子!C6 -> 26 | C9: =C8+1 -> 5 | D9: =[1]抽選女子!G6 -> 武藤理恵瑠 | E9: =[1]抽選女子!K6 -> 京都 | F9: =[1]抽選女子!H6 -> 宮津市中学校組合立橋立中学校 | G9: =[1]抽選女子!I6 -> 37360
A10: =IF([1]抽選女子!E7=76,"+75",[1]抽選女子!E7) -> 48 | B10: =[1]抽選女子!C7 -> 32 | C10: =C9+1 -> 6 | D10: =[1]抽選女子!G7 -> 鈴木 あみ | E10: =[1]抽選女子!K7 -> 福島 | F10: =[1]抽選女子!H7 -> 田村高等学校 | G10: =[1]抽選女子!I7 -> 36365
A11: =IF([1]抽選女子!E8=76,"+75",[1]抽選女子!E8) -> 48 | B11: =[1]抽選女子!C8 -> 35 | C11: =C10+1 -> 7 | D11: =[1]抽選女子!G8 -> 足立 咲輝 | E11: =[1]抽選女子!K8 -> 福岡 | F11: =[1]抽選女子!H8 -> 九州国際大学 | G11: =[1]抽選女子!I8 -> 35156
A12: =IF([1]抽選女子!E9=76,"+75",[1]抽選女子!E9) -> 48 | B12: =[1]抽選女子!C9 -> 44 | C12: =C11+1 -> 8 | D12: =[1]抽選女子!G9 -> 加藤 愛 | E12: =[1]抽選女子!K9 -> 宮崎 | F12: =[1]抽選女子!H9 -> 小林高等学校 | G12: =[1]抽選女子!I9 -> 36204
A13: =IF([1]抽選女子!E10=76,"+75",[1]抽選女子!E10) -> 48 | B13: =[1]抽選女子!C10 -> 50 | C13: =C12+1 -> 9 | D13: 井﨑 茅夏 | E13: =[1]抽選女子!K10 -> 京都 | F13: =[1]抽選女子!H10 -> 海洋高等学校 | G13: =[1]抽選女子!I10 -> 35984
A14: =IF([1]抽選女子!E11=76,"+75",[1]抽選女子!E11) -> 48 | B14: =[1]抽選女子!C11 -> 62 | C14: =C13+1 -> 10 | D14: =[1]抽選女子!G11 -> 安嶋千晶 | E14: =[1]抽選女子!K11 -> 茨城 | F14: =[1]抽選女子!H11 -> 早稲田大学 | G14: =[1]抽選女子!I11 -> 35264
A15: =IF([1]抽選女子!E12=76,"+75",[1]抽選女子!E12) -> 48 | B15: =[1]抽選女子!C12 -> 72 | C15: =C14+1 -> 11 | D15: =[1]抽選女子!G12 -> 高橋 いぶき | E15: =[1]抽選女子!K12 -> 岐阜 | F15: =[1]抽選女子!H12 -> 金沢学院大学 | G15: =[1]抽選女子!I12 -> 35513
A16: =IF([1]抽選女子!E13=76,"+75",[1]抽選女子!E13) -> 53 | B16: =[1]抽選女子!C13 -> 2 | C16: 1 | D16: =[1]抽選女子!G13 -> 中里 梨花 | E16: =[1]抽選女子!K13 -> 滋賀 | F16: =[1]抽選女子!H13 -> 安曇川高等学校 | G16: =[1]抽選女子!I13 -> 36592
A17: =IF([1]抽選女子!E14=76,"+75",[1]抽選女子!E14) -> 53 | B17: =[1]抽選女子!C14 -> 5 | C17: =C16+1 -> 2 | D17: =[1]抽選女子!G14 -> 岡田 花奈 | E17: =[1]抽選女子!K14 -> 京都 | F17: =[1]抽選女子!H14 -> 加悦谷高等学校 | G17: =[1]抽選女子!I14 -> 35776
A18: =IF([1]抽選女子!E15=76,"+75",[1]抽選女子!E15) -> 53 | B18: =[1]抽選女子!C15 -> 6 | C18: =C17+1 -> 3 | D18: =[1]抽選女子!G15 -> 宗森裕紀菜 | E18: =[1]抽選女子!K15 -> 岡山 | F18: =[1]抽選女子!H15 -> 勝間田高等学校 | G18: =[1]抽選女子!I15 -> 35592
A19: =IF([1]抽選女子!E16=76,"+75",[1]抽選女子!E16) -> 53 | B19: =[1]抽選女子!C16 -> 8 | C19: =C18+1 -> 4 | D19: 濵ノ園 麻里 | E19: =[1]抽選女子!K16 -> 兵庫 | F19: =[1]抽選女子!H16 -> 三木東高等学校 | G19: =[1]抽選女子!I16 -> 35590
A20: =IF([1]抽選女子!E17=76,"+75",[1]抽選女子!E17) -> 53 | B20: =[1]抽選女子!C17 -> 20 | C20: =C19+1 -> 5 | D20: =[1]抽選女子!G17 -> 浦崎穂乃花 | E20: =[1]抽選女子!K17 -> 宮崎 | F20: =[1]抽選女子!H17 -> 小林高等学校 | G20: =[1]抽選女子!I17 -> 36143
A21: =IF([1]抽選女子!E18=76,"+75",[1]抽選女子!E18) -> 53 | B21: =[1]抽選女子!C18 -> 23 | C21: =C20+1 -> 6 | D21: =[1]抽選女子!G18 -> 関谷 志奈 | E21: =[1]抽選女子!K18 -> 兵庫 | F21: =[1]抽選女子!H18 -> 家島高等学校 | G21: =[1]抽選女子!I18 -> 35688
A22: =IF([1]抽選女子!E19=76,"+75",[1]抽選女子!E19) -> 53 | B22: =[1]抽選女子!C19 -> 24 | C22: =C21+1 -> 7 | D22: =[1]抽選女子!G19 -> 森 加奈子 | E22: =[1]抽選女子!K19 -> 宮城 | F22: =[1]抽選女子!H19 -> 日本体育大学 | G22: =[1]抽選女子!I19 -> 35165
A23: =IF([1]抽選女子!E20=76,"+75",[1]抽選女子!E20) -> 53 | B23: =[1]抽選女子!C20 -> 31 | C23: =C22+1 -> 8 | D23: =[1]抽選女子!G20 -> 赤嶺 桃香 | E23: =[1]抽選女子!K20 -> 沖縄 | F23: =[1]抽選女子!H20 -> 沖縄県ＷＬ協会 | G23: =[1]抽選女子!I20 -> 35868
A24: =IF([1]抽選女子!E21=76,"+75",[1]抽選女子!E21) -> 53 | B24: =[1]抽選女子!C21 -> 33 | C24: =C23+1 -> 9 | D24: =[1]抽選女子!G21 -> 谷口 莉菜 | E24: =[1]抽選女子!K21 -> 京都 | F24: =[1]抽選女子!H21 -> 鳥羽高等学校 | G24: =[1]抽選女子!I21 -> 35686
A25: =IF([1]抽選女子!E22=76,"+75",[1]抽選女子!E22) -> 53 | B25: =[1]抽選女子!C22 -> 48 | C25: =C24+1 -> 10 | D25: =[1]抽選女子!G22 -> 橋本 薫 | E25: =[1]抽選女子!K22 -> 大阪 | F25: =[1]抽選女子!H22 -> 枚方市立蹉跎中学校 | G25: =[1]抽選女子!I22 -> 36924
A26: =IF([1]抽選女子!E23=76,"+75",[1]抽選女子!E23) -> 53 | B26: =[1]抽選女子!C23 -> 52 | C26: =C25+1 -> 11 | D26: =[1]抽選女子!G23 -> 松本 奈々 | E26: =[1]抽選女子!K23 -> 三重 | F26: =[1]抽選女子!H23 -> 亀山高等学校 | G26: =[1]抽選女子!I23 -> 35651
A27: =IF([1]抽選女子!E24=76,"+75",[1]抽選女子!E24) -> 53 | B27: =[1]抽選女子!C24 -> 56 | C27: =C26+1 -> 12 | D27: =[1]抽選女子!G24 -> 前場 菜桜 | E27: =[1]抽選女子!K24 -> 埼玉 | F27: =[1]抽選女子!H24 -> 埼玉栄高等学校 | G27: =[1]抽選女子!I24 -> 36614
A28: =IF([1]抽選女子!E25=76,"+75",[1]抽選女子!E25) -> 53 | B28: =[1]抽選女子!C25 -> 60 | C28: =C27+1 -> 13 | D28: =[1]抽選女子!G25 -> 中谷 麻佑 | E28: =[1]抽選女子!K25 -> 石川 | F28: =[1]抽選女子!H25 -> 金沢学院東高等学校 | G28: =[1]抽選女子!I25 -> 35707
A29: =IF([1]抽選女子!E26=76,"+75",[1]抽選女子!E26) -> 53 | B29: =[1]抽選女子!C26 -> 71 | C29: =C28+1 -> 14 | D29: =[1]抽選女子!G26 -> 榎本ほたる | E29: =[1]抽選女子!K26 -> 埼玉 | F29: =[1]抽選女子!H26 -> 自衛隊体育学校 | G29: =[1]抽選女子!I26 -> 35206
A30: =IF([1]抽選女子!E27=76,"+75",[1]抽選女子!E27) -> 58 | B30: =[1]抽選女子!C27 -> 4 | C30: 1 | D30: =[1]抽選女子!G27 -> 山田聖佳 | E30: =[1]抽選女子!K27 -> 福岡 | F30: =[1]抽選女子!H27 -> 九州国際大学 | G30: =[1]抽選女子!I27 -> 35155
A31: =IF([1]抽選女子!E28=76,"+75",[1]抽選女子!E28) -> 58 | B31: =[1]抽選女子!C28 -> 15 | C31: =C30+1 -> 2 | D31: =[1]抽選女子!G28 -> 中嶋梨香子 | E31: =[1]抽選女子!K28 -> 宮崎 | F31: =[1]抽選女子!H28 -> 小林高等学校 | G31: =[1]抽選女子!I28 -> 35713
A32: =IF([1]抽選女子!E29=76,"+75",[1]抽選女子!E29) -> 58 | B32: =[1]抽選女子!C29 -> 16 | C32: =C31+1 -> 3 | D32: =[1]抽選女子!G29 -> 水野 風香 | E32: =[1]抽選女子!K29 -> 兵庫 | F32: =[1]抽選女子!H29 -> 日本体育大学 | G32: =[1]抽選女子!I29 -> 35281
A33: =IF([1]抽選女子!E30=76,"+75",[1]抽選女子!E30) -> 58 | B33: =[1]抽選女子!C30 -> 17 | C33: =C32+1 -> 4 | D33: =[1]抽選女子!G30 -> 岡本 唯衣 | E33: =[1]抽選女子!K30 -> 徳島 | F33: =[1]抽選女子!H30 -> 大阪商業大学 | G33: =[1]抽選女子!I30 -> 35384
A34: =IF([1]抽選女子!E31=76,"+75",[1]抽選女子!E31) -> 58 | B34: =[1]抽選女子!C31 -> 29 | C34: =C33+1 -> 5 | D34: =[1]抽選女子!G31 -> 眞 柄 朱 里 | E34: =[1]抽選女子!K31 -> 福井 | F34: =[1]抽選女子!H31 -> 金沢学院大学 | G34: =[1]抽選女子!I31 -> 35404
A35: =IF([1]抽選女子!E32=76,"+75",[1]抽選女子!E32) -> 58 | B35: =[1]抽選女子!C32 -> 39 | C35: =C34+1 -> 6 | D35: =[1]抽選女子!G32 -> 山村 侑生 | E35: =[1]抽選女子!K32 -> 香川 | F35: =[1]抽選女子!H32 -> 多度津高等学校 | G35: =[1]抽選女子!I32 -> 35654
A36: =IF([1]抽選女子!E33=76,"+75",[1]抽選女子!E33) -> 58 | B36: =[1]抽選女子!C33 -> 41 | C36: =C35+1 -> 7 | D36: =[1]抽選女子!G33 -> 谷口 さつき | E36: =[1]抽選女子!K33 -> 富山 | F36: =[1]抽選女子!H33 -> 滑川高等学校 | G36: =[1]抽選女子!I33 -> 35637
A37: =IF([1]抽選女子!E34=76,"+75",[1]抽選女子!E34) -> 58 | B37: =[1]抽選女子!C34 -> 42 | C37: =C36+1 -> 8 | D37: =[1]抽選女子!G34 -> 寺島 奈穗 | E37: =[1]抽選女子!K34 -> 群馬 | F37: =[1]抽選女子!H34 -> 前橋育英高等学校 | G37: =[1]抽選女子!I34 -> 35992
A38: =IF([1]抽選女子!E35=76,"+75",[1]抽選女子!E35) -> 58 | B38: =[1]抽選女子!C35 -> 46 | C38: =C37+1 -> 9 | D38: =[1]抽選女子!G35 -> 岡地 愛美 | E38: =[1]抽選女子!K35 -> 京都 | F38: =[1]抽選女子!H35 -> 鳥羽高等学校 | G38: =[1]抽選女子!I35 -> 36162
A39: =IF([1]抽選女子!E36=76,"+75",[1]抽選女子!E36) -> 58 | B39: =[1]抽選女子!C36 -> 47 | C39: =C38+1 -> 10 | D39: =[1]抽選女子!G36 -> 片山 輪咲 | E39: =[1]抽選女子!K36 -> 埼玉 | F39: =[1]抽選女子!H36 -> 埼玉栄中学校 | G39: =[1]抽選女子!I36 -> 37688
A40: =IF([1]抽選女子!E37=76,"+75",[1]抽選女子!E37) -> 58 | B40: =[1]抽選女子!C37 -> 54 | C40: =C39+1 -> 11 | D40: =[1]抽選女子!G37 -> 大塚 優子 | E40: =[1]抽選女子!K37 -> 栃木 | F40: =[1]抽選女子!H37 -> 栃木湘南高等学校 | G40: =[1]抽選女子!I37 -> 35645
A41: =IF([1]抽選女子!E38=76,"+75",[1]抽選女子!E38) -> 58 | B41: =[1]抽選女子!C38 -> 64 | C41: =C40+1 -> 12 | D41: =[1]抽選女子!G38 -> 小林 紗良花 | E41: =[1]抽選女子!K38 -> 石川 | F41: =[1]抽選女子!H38 -> 珠洲市立緑丘中学校 | G41: =[1]抽選女子!I38 -> 36630
A42: =IF([1]抽選女子!E39=76,"+75",[1]抽選女子!E39) -> 58 | B42: =[1]抽選女子!C39 -> 66 | C42: =C41+1 -> 13 | D42: =[1]抽選女子!G39 -> 新 垣 愛 恵 | E42: =[1]抽選女子!K39 -> 沖縄 | F42: =[1]抽選女子!H39 -> 金沢学院大学 | G42: =[1]抽選女子!I39 -> 35202
A43: =IF([1]抽選女子!E40=76,"+75",[1]抽選女子!E40) -> 63 | B43: =[1]抽選女子!C40 -> 10 | C43: =C42+1 -> 14 | D43: =[1]抽選女子!G40 -> 岸田 園加 | E43: =[1]抽選女子!K40 -> 滋賀 | F43: 高島学園中学校 | G43: =[1]抽選女子!I40 -> 37525
A44: =IF([1]抽選女子!E41=76,"+75",[1]抽選女子!E41) -> 63 | B44: =[1]抽選女子!C41 -> 25 | C44: =C43+1 -> 15 | D44: =[1]抽選女子!G41 -> 橋谷田 咲月 | E44: =[1]抽選女子!K41 -> 宮城 | F44: =[1]抽選女子!H41 -> 日本体育大学 | G44: =[1]抽選女子!I41 -> 35329
A45: =IF([1]抽選女子!E42=76,"+75",[1]抽選女子!E42) -> 63 | B45: =[1]抽選女子!C42 -> 28 | C45: =C44+1 -> 16 | D45: =[1]抽選女子!G42 -> 西村 深聡 | E45: =[1]抽選女子!K42 -> 京都 | F45: =[1]抽選女子!H42 -> 鳥羽高等学校 | G45: =[1]抽選女子!I42 -> 36467
A46: =IF([1]抽選女子!E43=76,"+75",[1]抽選女子!E43) -> 63 | B46: =[1]抽選女子!C43 -> 34 | C46: =C45+1 -> 17 | D46: =[1]抽選女子!G43 -> 福里 悠 | E46: =[1]抽選女子!K43 -> 沖縄 | F46: =[1]抽選女子!H43 -> 東京国際大学 | G46: =[1]抽選女子!I43 -> 35234
A47: =IF([1]抽選女子!E44=76,"+75",[1]抽選女子!E44) -> 63 | B47: =[1]抽選女子!C44 -> 36 | C47: =C46+1 -> 18 | D47: 遠藤 朱李 | E47: =[1]抽選女子!K44 -> 福島 | F47: =[1]抽選女子!H44 -> 田村高等学校 | G47: =[1]抽選女子!I44 -> 36428
A48: =IF([1]抽選女子!E45=76,"+75",[1]抽選女子!E45) -> 63 | B48: =[1]抽選女子!C45 -> 40 | C48: =C47+1 -> 19 | D48: =[1]抽選女子!G45 -> 塩見 未希 | E48: =[1]抽選女子!K45 -> 兵庫 | F48: =[1]抽選女子!H45 -> 三木東高等学校 | G48: =[1]抽選女子!I45 -> 35757
A49: =IF([1]抽選女子!E46=76,"+75",[1]抽選女子!E46) -> 63 | B49: =[1]抽選女子!C46 -> 53 | C49: =C48+1 -> 20 | D49: =[1]抽選女子!G46 -> 井野 美佑 | E49: =[1]抽選女子!K46 -> 兵庫 | F49: =[1]抽選女子!H46 -> 三木東高等学校 | G49: =[1]抽選女子!I46 -> 36197
A50: =IF([1]抽選女子!E47=76,"+75",[1]抽選女子!E47) -> 63 | B50: =[1]抽選女子!C47 -> 55 | C50: =C49+1 -> 21 | D50: =[1]抽選女子!G47 -> 安原 嘉美 | E50: =[1]抽選女子!K47 -> 京都 | F50: =[1]抽選女子!H47 -> 立命館大学 | G50: =[1]抽選女子!I47 -> 35284
A51: =IF([1]抽選女子!E48=76,"+75",[1]抽選女子!E48) -> 63 | B51: =[1]抽選女子!C48 -> 57 | C51: =C50+1 -> 22 | D51: =[1]抽選女子!G48 -> 坂倉 里佳 | E51: =[1]抽選女子!K48 -> 石川 | F51: =[1]抽選女子!H48 -> 金沢学院東高等学校 | G51: =[1]抽選女子!I48 -> 36214
A52: =IF([1]抽選女子!E49=76,"+75",[1]抽選女子!E49) -> 63 | B52: =[1]抽選女子!C49 -> 58 | C52: =C51+1 -> 23 | D52: =[1]抽選女子!G49 -> 造田 愛永 | E52: =[1]抽選女子!K49 -> 香川 | F52: =[1]抽選女子!H49 -> 香川大学 | G52: =[1]抽選女子!I49 -> 35072
A53: =IF([1]抽選女子!E50=76,"+75",[1]抽選女子!E50) -> 63 | B53: =[1]抽選女子!C50 -> 65 | C53: =C52+1 -> 24 | D53: =[1]抽選女子!G50 -> 石井 未来 | E53: =[1]抽選女子!K50 -> 三重 | F53: =[1]抽選女子!H50 -> 亀山高等学校 | G53: =[1]抽選女子!I50 -> 35884
A54: =IF([1]抽選女子!E51=76,"+75",[1]抽選女子!E51) -> 63 | B54: =[1]抽選女子!C51 -> 68 | C54: =C53+1 -> 25 | D54: =[1]抽選女子!G51 -> 北村 優果 | E54: =[1]抽選女子!K51 -> 島根 | F54: =[1]抽選女子!H51 -> 出雲農林高等学校 | G54: =[1]抽選女子!I51 -> 35952
A55: =IF([1]抽選女子!E52=76,"+75",[1]抽選女子!E52) -> 63 | B55: =[1]抽選女子!C52 -> 69 | C55: =C54+1 -> 26 | D55: =[1]抽選女子!G52 -> 葛原 麻結 | E55: =[1]抽選女子!K52 -> 岡山 | F55: =[1]抽選女子!H52 -> 玉野光南高等学校 | G55: =[1]抽選女子!I52 -> 35674
A56: =IF([1]抽選女子!E54=76,"+75",[1]抽選女子!E54) -> 69 | B56: =[1]抽選女子!C54 -> 19 | C56: 1 | D56: =[1]抽選女子!G54 -> 中嶋 さやか | E56: =[1]抽選女子!K54 -> 愛知 | F56: =[1]抽選女子!H54 -> 愛工大名電高等学校 | G56: =[1]抽選女子!I54 -> 35559
A57: =IF([1]抽選女子!E55=76,"+75",[1]抽選女子!E55) -> 69 | B57: =[1]抽選女子!C55 -> 22 | C57: =C56+1 -> 2 | D57: =[1]抽選女子!G55 -> 柏木 麻希 | E57: =[1]抽選女子!K55 -> 京都 | F57: =[1]抽選女子!H55 -> 早稲田大学 | G57: =[1]抽選女子!I55 -> 35426
A58: =IF([1]抽選女子!E56=76,"+75",[1]抽選女子!E56) -> 69 | B58: =[1]抽選女子!C56 -> 30 | C58: =C57+1 -> 3 | D58: =[1]抽選女子!G56 -> 茅野 まり | E58: =[1]抽選女子!K56 -> 千葉 | F58: =[1]抽選女子!H56 -> 松戸国際高等学校 | G58: =[1]抽選女子!I56 -> 35774
A59: =IF([1]抽選女子!E57=76,"+75",[1]抽選女子!E57) -> 69 | B59: =[1]抽選女子!C57 -> 37 | C59: =C58+1 -> 4 | D59: =[1]抽選女子!G57 -> 入江 香代子 | E59: =[1]抽選女子!K57 -> 栃木 | F59: =[1]抽選女子!H57 -> 小山高等学校 | G59: =[1]抽選女子!I57 -> 35769
A60: =IF([1]抽選女子!E58=76,"+75",[1]抽選女子!E58) -> 69 | B60: =[1]抽選女子!C58 -> 38 | C60: =C59+1 -> 5 | D60: =[1]抽選女子!G58 -> 中島 一馨 | E60: =[1]抽選女子!K58 -> 石川 | F60: =[1]抽選女子!H58 -> 珠洲市立緑丘中学校 | G60: =[1]抽選女子!I58 -> 37317
A61: =IF([1]抽選女子!E59=76,"+75",[1]抽選女子!E59) -> 69 | B61: =[1]抽選女子!C59 -> 43 | C61: =C60+1 -> 6 | D61: =[1]抽選女子!G59 -> 藤田あかね | E61: =[1]抽選女子!K59 -> 兵庫 | F61: =[1]抽選女子!H59 -> 須磨友が丘高等学校 | G61: =[1]抽選女子!I59 -> 36448
A62: =IF([1]抽選女子!E60=76,"+75",[1]抽選女子!E60) -> 69 | B62: =[1]抽選女子!C60 -> 45 | C62: =C61+1 -> 7 | D62: =[1]抽選女子!G60 -> 岩田 優 | E62: =[1]抽選女子!K60 -> 東京 | F62: =[1]抽選女子!H60 -> 都立第五商業高等学校 | G62: =[1]抽選女子!I60 -> 35657
A63: =IF([1]抽選女子!E61=76,"+75",[1]抽選女子!E61) -> 69 | B63: =[1]抽選女子!C61 -> 51 | C63: =C62+1 -> 8 | D63: =[1]抽選女子!G61 -> 阿部 栞 | E63: =[1]抽選女子!K61 -> 愛媛 | F63: =[1]抽選女子!H61 -> 新居浜南高校 | G63: =[1]抽選女子!I61 -> 36599
A64: =IF([1]抽選女子!E62=76,"+75",[1]抽選女子!E62) -> 69 | B64: =[1]抽選女子!C62 -> 59 | C64: =C63+1 -> 9 | D64: =[1]抽選女子!G62 -> 関根 萌莉 | E64: =[1]抽選女子!K62 -> 埼玉 | F64: =[1]抽選女子!H62 -> 平成国際大学 | G64: =[1]抽選女子!I62 -> 35501
A65: =IF([1]抽選女子!E63=76,"+75",[1]抽選女子!E63) -> 69 | B65: =[1]抽選女子!C63 -> 61 | C65: =C64+1 -> 10 | D65: =[1]抽選女子!G63 -> 戸田妃乃子 | E65: =[1]抽選女子!K63 -> 福岡 | F65: =[1]抽選女子!H63 -> 九州国際大学 | G65: =[1]抽選女子!I63 -> 35908
A66: =IF([1]抽選女子!E64=76,"+75",[1]抽選女子!E64) -> 69 | B66: =[1]抽選女子!C64 -> 70 | C66: =C65+1 -> 11 | D66: =[1]抽選女子!G64 -> 岡野 萌絵 | E66: =[1]抽選女子!K64 -> 兵庫 | F66: =[1]抽選女子!H64 -> 明石南高等学校 | G66: =[1]抽選女子!I64 -> 36534
A67: =IF([1]抽選女子!E65=76,"+75",[1]抽選女子!E65) -> 75 | B67: =[1]抽選女子!C65 -> 13 | C67: =C66+1 -> 12 | D67: =[1]抽選女子!G65 -> 知念 ひめの | E67: =[1]抽選女子!K65 -> 大阪 | F67: =[1]抽選女子!H65 -> 大阪産業大学附属高等学校 | G67: =[1]抽選女子!I65 -> 35654
A68: =IF([1]抽選女子!E66=76,"+75",[1]抽選女子!E66) -> 75 | B68: =[1]抽選女子!C66 -> 18 | C68: =C67+1 -> 13 | D68: =[1]抽選女子!G66 -> 田中季恵 | E68: =[1]抽選女子!K66 -> 香川 | F68: =[1]抽選女子!H66 -> 早稲田大学 | G68: =[1]抽選女子!I66 -> 35371
... A76: =IF([1]抽選女子!E74=76,"+75",[1]抽選女子!E74) -> +75 | B76: =[1]抽選女子!C74 -> 73 | C76: =C75+1 -> 21 | D76: =[1]抽選女子!G74 -> 清水 里佳子 | E76: =[1]抽選女子!K74 -> 富山 | F76: =[1]抽選女子!H74 -> 立命館大学 | G76: =[1]抽選女子!I74 -> 35303

Sheet Sheet3
