Workbook

Sheet 入力用紙
A1: 平成２８年度 ジュニアユース研修合宿競技者推薦書
A3: ブロック（リストから選択） | I3: 都道府県名（リストから選択） | Y3: 用紙のNo. | AC3: 枚／ 枚中
Y4: /
A5: 競技者 | B5: フリガナ | J5: フリガナ | R5: 生年月日（西暦） 半角文字 | Y5: 学年（リストから選択） | AE5: JWA登録No.
R6: YYYY/MM/DDで入力する
B7: 氏名（姓） | J7: 氏名（名）
B8: 性別（男／女） | F8: 階級（㎏級） | J8: 身長（cm）半角文字 | P8: 平素の体重（㎏）半角文字 | V8: 競技開始時期 （入力例・・・中学２年４月より）
I9: kg級 | O9: cm | U9: kg
B10: 自宅住所 〒 | G10: 住所 | AD10: 最寄駅（○○線○○駅）
A12: 学校名（○○高等学校・中学校） | J12: 学校所在地 | M12: 〒 | N12: 住所 | AE12: 学校長名（姓） | AI12: 学校長名（名）
A14: ウエイトリフティングに関する記録
A15: 種目 | C15: スナッチ | M15: クリーン＆ジャーク | W15: バックスクワット | AA15: フロントスクワット | AE15: ミリタリープレス | AI15: クリーンデッドリフト
C16: 試合の最高（㎏） | H16: 練習の最高（㎏） | M16: 試合の最高（㎏） | R16: 練習の最高（㎏） | W16: （㎏） | AA16: （㎏） | AE16: （㎏） | AI16: （㎏）
A17: 記録 | G17: kg | L17: kg | Q17: kg | V17: kg | Z17: kg | AD17: kg | AH17: kg | AL17: kg
A18: 採点制競技会の記録 | H18: 種目の重量と合計得点
A19: 実施年月日（西暦で記入） | H19: Ｓ（㎏） | K19: Ｃ＆Ｊ（㎏） | N19: 点数（点）
J20: kg | M20: kg | P20: 点
A21: 新体力テストに関する記録
A22: 種目 | D22: 握力 | H22: 上体起こし | L22: 長座体前屈 | P22: 反復横とび | T22: シャトルラン | X22: ５０ｍ走 | AB22: 立ち幅とび | AF22: ハンドボール投げ | AJ22: 合計得点
D23: （㎏） | F23: 点 | H23: 回 | J23: 点 | L23: cm | N23: 点 | P23: 回 | R23: 点 | T23: 回 | V23: 点 | X23: 秒 | Z23: 点 | AB23: ｃｍ | AD23: 点 | AF23: ｍ | AH23: 点 | AJ23: 点
A24: 記録／得点 | E24: kg | G24: 点 | I24: 回 | K24: 点 | M24: cm | O24: 点 | Q24: 回 | S24: 点 | U24: 回 | W24: 点 | Y24: 秒 | AA24: 点 | AC24: cm | AE24: 点 | AG24: m | AI24: 点 | AL24: 点
A25: 郵送物 送付先（選手派遣文書送付先。例：顧問の先生宛。）入力必須
A26: 〒 | F26: 住所 | Y26: 宛名
Y27: 氏名（姓） | AF27: 氏名（名）
A30: 上記の競技者を推薦いたします。
B31: 平成 年 月 日 | L31: 学校 | W31: 部顧問氏名
L33: 高等学校ＷＬ専門部 | W33: 委員長氏名
B34: ※ 空欄がないようにしてください。不明な場合は「不明」等入力してください。
B35: ※ 数字は半角で入力してください。
B36: ※ スペースは入れないで入力してください。
B37: ※ 白黒印刷で大丈夫です。
B38: ※ | C38: シート名は変更しないでください。
B39: ※ 推薦書送付先 E-mail: jwa3@ny.airnet.ne.jp

Sheet DB用
A1: No | B1: ブロック | C1: 都道府県名 | D1: 氏名（姓） | E1: 氏名（名） | F1: フリガナ（姓） | G1: フリガナ（名） | H1: 生年月日 | I1: 学年 | J1: JWA登録No. | K1: 性別（男／女） | L1: 階級（㎏級） | M1: 身長（cm） | N1: 平素の体重（㎏） | O1: 競技開始時期 | P1: 〒（自宅） | Q1: 住所（自宅） | R1: 最寄駅（○○線○○駅） | S1: 学校名（○○高等学校） | T1: 学校〒 | U1: 学校住所 | V1: 学校長名（姓） | W1: 学校長名（名） | X1: S試合の最高（㎏） | Y1: S練習の最高（㎏） | Z1: C&J試合の最高（㎏） | AA1: C&J練習の最高（㎏） | AB1: バックスクワット | AC1: フロントスクワット | AD1: ミリタリープレス | AE1: クリーンデッドリフト | AF1: 採点制競技会の記録日付 | AG1: Ｓ（㎏） | AH1: Ｃ＆Ｊ（㎏） | AI1: 点数（点） | AJ1: 握力（㎏） | AK1: 点 | AL1: 上体起こし回 | AM1: 点 | AN1: 長座体前屈cm | AO1: 点 | AP1: 反復横跳び回 | AQ1: 点 | AR1: シャトルラン回 | AS1: 点 | AT1: 50m秒 | AU1: 点 | AV1: 立ち幅跳びｃｍ | AW1: 点 | AX1: ハンドｍ | AY1: 点 | AZ1: 合計点 | BA1: 郵送物〒 | BB1: 郵送物住所 | BC1: 郵送物宛名姓 | BD1: 郵送物宛名名 | BE1: 顧問学校 | BF1: 顧問氏名 | BG1: 専門部 | BH1: 委員長名
B2: =入力用紙!A4 -> 0 | C2: =入力用紙!I4 -> 0 | D2: =入力用紙!D7 -> 0 | E2: =入力用紙!L7 -> 0 | F2: =入力用紙!D5 -> 0 | G2: =入力用紙!L5 -> 0 | H2: =入力用紙!R7 -> 0 | I2: =入力用紙!Y7 -> 0 | J2: =入力用紙!AE7 -> 0 | K2: =入力用紙!B9 -> 0 | L2: =入力用紙!F9 -> 0 | M2: =入力用紙!J9 -> 0 | N2: =入力用紙!P9 -> 0 | O2: =入力用紙!V9 -> 0 | P2: =入力用紙!B11 -> 0 | Q2: =入力用紙!G11 -> 0 | R2: =入力用紙!AD11 -> 0 | S2: =入力用紙!A13 -> 0 | T2: =入力用紙!J13 -> 0 | U2: =入力用紙!N13 -> 0 | V2: =入力用紙!AE13 -> 0 | W2: =入力用紙!AI13 -> 0 | X2: =入力用紙!C17 -> 0 | Y2: =入力用紙!H17 -> 0 | Z2: =入力用紙!M17 -> 0 | AA2: =入力用紙!R17 -> 0 | AB2: =入力用紙!W17 -> 0 | AC2: =入力用紙!AA17 -> 0 | AD2: =入力用紙!AE17 -> 0 | AE2: =入力用紙!AI17 -> 0 | AF2: =入力用紙!A20 -> 0 | AG2: =入力用紙!H20 -> 0 | AH2: =入力用紙!K20 -> 0 | AI2: =入力用紙!N20 -> 0 | AJ2: =入力用紙!D24 -> 0 | AK2: =入力用紙!F24 -> 0 | AL2: =入力用紙!H24 -> 0 | AM2: =入力用紙!J24 -> 0 | AN2: =入力用紙!L24 -> 0 | AO2: =入力用紙!N24 -> 0 | AP2: =入力用紙!P24 -> 0 | AQ2: =入力用紙!R24 -> 0 | AR2: =入力用紙!T24 -> 0 | AS2: =入力用紙!V24 -> 0 | AT2: =入力用紙!X24 -> 0 | AU2: =入力用紙!Z24 -> 0 | AV2: =入力用紙!AB24 -> 0 | AW2: =入力用紙!AD24 -> 0 | AX2: =入力用紙!AF24 -> 0 | AY2: =入力用紙!AH24 -> 0 | AZ2: =入力用紙!AJ24 -> 0 | BA2: =入力用紙!A28 -> 0 | BB2: =入力用紙!F28 -> 0 | BC2: =入力用紙!Y28 -> 0 | BD2: =入力用紙!AF28 -> 0 | BE2: =入力用紙!L31 -> 学校 | BF2: =入力用紙!AA31 -> 0 | BG2: =入力用紙!L33 -> 高等学校ＷＬ専門部 | BH2: =入力用紙!AA33 -> 0

Sheet リスト
A2: 北海道・東北 | B2: 北海道 | C2: 高校1年生 | D2: 男
A3: 関東 | B3: 青森県 | C3: 中学3年生 | D3: 女
A4: 北信越・東海 | B4: 岩手県 | C4: 中学2年生
A5: 近畿 | B5: 宮城県 | C5: 中学1年生
A6: 中国・四国 | B6: 秋田県
A7: 九州 | B7: 山形県
B8: 福島県
B9: 茨城県
B10: 栃木県
B11: 群馬県
B12: 埼玉県
B13: 千葉県
B14: 東京都
B15: 神奈川県
B16: 山梨県
B17: 新潟県
B18: 長野県
B19: 富山県
... B48: 沖縄県
