Workbook

Sheet 入力例
A1: 男・女子用
C4: 令和元年度 第33回全国男子中学生ウエイトリフティング選手権大会
C6: 参 加 申 込 書
K8: フリガナ | P8: ヤマナシシリツマルマルチュウガッコウ
A9: 都道府県名 | K9: 学校名 | P9: 山梨市立○○中学校
A11: 山梨 | D11: 都 ・ 道 | K11: 所在地 | P11: 〒 | Q11: 405-****
P12: 山梨県山梨市△△町◇◇ 123
D13: 府 ・ 県 | K13: 電話・FAX | P13: 電話 | R13: 0553 － 22 － ****
P14: ＦＡＸ | R14: 0553 － 22 － ****
A16: 監 督 名 | H16: 勤 務 先 | P16: 現 住 所 （自宅）
A17: 甲州 次郎 | H17: 山梨市立○○中学校 | P17: 〒 | Q17: 405-****
P18: 山梨市 △△町□□ 5-8-10
P20: 電 話 | R20: 0553 － 22 － ****
P21: 携 帯 | R21: 090 － **** － ****
A23: 階級 | D23: ふりがな | L23: 学年 | N23: 生年月日 | R23: 登録番号 | W23: 保護者承諾署名印
D24: 選手名 | N24: （年齢）
A25: 例 55 | D25: やまなし たろう | L25: 3 | O25: 2004 | Q25: 年 | R25: 00021026 | W25: 山梨 良子 | AC25: 印
D26: 山梨 太郎 | N26: 7 | O26: 月 | P26: 12 | Q26: 日
A27: ㎏級 | N27: （ | O27: 14 | Q27: ）歳
A28: 例 45 | D28: かい はなこ | L28: 2 | O28: 2005 | Q28: 年 | R28: 00031202 | W28: 甲斐 松男 | AC28: 印
D29: 甲斐 花子 | N29: 10 | O29: 月 | P29: 10 | Q29: 日
A30: ㎏級 | N30: （ | O30: 13 | Q30: ）歳
Q31: 年 | AC31: 印
O32: 月 | Q32: 日
A33: ㎏級 | N33: （ | Q33: ）歳
Q34: 年 | AC34: 印
O35: 月 | Q35: 日
A36: ㎏級 | N36: （ | Q36: ）歳
Q37: 年 | AC37: 印
O38: 月 | Q38: 日
A39: ㎏級 | N39: （ | Q39: ）歳
Q40: 年 | AC40: 印
O41: 月 | Q41: 日
A42: ㎏級 | N42: （ | Q42: ）歳
Q43: 年 | AC43: 印
O44: 月 | Q44: 日
A45: ㎏級 | N45: （ | Q45: ）歳
Q46: 年 | AC46: 印
O47: 月 | Q47: 日
A48: ㎏級 | N48: （ | Q48: ）歳
...

Sheet 男子用
A1: 男子用
C4: 令和元年度 第33回全国男子中学生ウエイトリフティング選手権大会
C6: 参 加 申 込 書
K8: フリガナ
A9: 都道府県名 | K9: 学校名
D11: 都 ・ 道 | K11: 所在地 | P11: 〒 | Q11: －
D13: 府 ・ 県 | K13: 電話・FAX | P13: 電話 | R13: － －
P14: ＦＡＸ | R14: － －
A16: 監 督 名 | H16: 勤 務 先 | P16: 現 住 所 （自宅）
P17: 〒 | Q17: －
P20: 電 話 | R20: － －
P21: 携 帯 | R21: － －
A23: 階級 | D23: ふりがな | L23: 学年 | N23: 生年月日 | R23: 登録番号 | W23: 保護者承諾署名印
D24: 選手名 | N24: （年齢）
Q25: 年 | AC25: 印
O26: 月 | Q26: 日
A27: ㎏級 | N27: （ | Q27: ）歳
Q28: 年 | AC28: 印
O29: 月 | Q29: 日
A30: ㎏級 | N30: （ | Q30: ）歳
Q31: 年 | AC31: 印
O32: 月 | Q32: 日
A33: ㎏級 | N33: （ | Q33: ）歳
Q34: 年 | AC34: 印
O35: 月 | Q35: 日
A36: ㎏級 | N36: （ | Q36: ）歳
Q37: 年 | AC37: 印
O38: 月 | Q38: 日
A39: ㎏級 | N39: （ | Q39: ）歳
Q40: 年 | AC40: 印
O41: 月 | Q41: 日
A42: ㎏級 | N42: （ | Q42: ）歳
Q43: 年 | AC43: 印
O44: 月 | Q44: 日
A45: ㎏級 | N45: （ | Q45: ）歳
Q46: 年 | AC46: 印
O47: 月 | Q47: 日
A48: ㎏級 | N48: （ | Q48: ）歳
A50: 公益社団法人日本ウエイトリフティング協会会長 三宅 義行 様
B52: 上記の者は本校在学生徒であり、大会実施要項の規定に適格であるので参加申込みます。
...

Sheet 女子用
A1: 女子用
C4: 令和元年度 第18回全国女子中学生ウエイトリフティング選手権大会
C6: 参 加 申 込 書
K8: フリガナ
A9: 都道府県名 | K9: 学校名
D11: 都 ・ 道 | K11: 所在地 | P11: 〒 | Q11: －
D13: 府 ・ 県 | K13: 電話・FAX | P13: 電話 | R13: － －
P14: ＦＡＸ | R14: － －
A16: 監 督 名 | H16: 勤 務 先 | P16: 現 住 所 （自宅）
P17: 〒 | Q17: －
P20: 電 話 | R20: － －
P21: 携 帯 | R21: － －
A23: 階級 | D23: ふりがな | L23: 学年 | N23: 生年月日 | R23: 登録番号 | W23: 保護者承諾署名印
D24: 選手名 | N24: （年齢）
Q25: 年 | AC25: 印
O26: 月 | Q26: 日
A27: ㎏級 | N27: （ | Q27: ）歳
Q28: 年 | AC28: 印
O29: 月 | Q29: 日
A30: ㎏級 | N30: （ | Q30: ）歳
Q31: 年 | AC31: 印
O32: 月 | Q32: 日
A33: ㎏級 | N33: （ | Q33: ）歳
Q34: 年 | AC34: 印
O35: 月 | Q35: 日
A36: ㎏級 | N36: （ | Q36: ）歳
Q37: 年 | AC37: 印
O38: 月 | Q38: 日
A39: ㎏級 | N39: （ | Q39: ）歳
Q40: 年 | AC40: 印
O41: 月 | Q41: 日
A42: ㎏級 | N42: （ | Q42: ）歳
Q43: 年 | AC43: 印
O44: 月 | Q44: 日
A45: ㎏級 | N45: （ | Q45: ）歳
Q46: 年 | AC46: 印
O47: 月 | Q47: 日
A48: ㎏級 | N48: （ | Q48: ）歳
A50: 公益社団法人日本ウエイトリフティング協会会長 三宅 義行 様
B52: 上記の者は本校在学生徒であり、大会実施要項の規定に適格であるので参加申込みます。
...

Sheet 作業用
B1: 都道府県 | C1: 学校名 | D1: 学校（ふりがな） | E1: 〒 | F1: 所属住所 | G1: 所属電話 | H1: 所属FAX | I1: 監督名 | J1: 勤務先 | K1: 現住所〒 | L1: 現住所 | M1: 電話 | N1: 携帯
A2: 男子 | B2: =男子用!A11 -> 0 | C2: =男子用!P9 -> 0 | D2: =男子用!P8 -> 0 | E2: =男子用!Q11 -> － | F2: =男子用!P12 -> 0 | G2: =男子用!R13 -> － － | H2: =男子用!R14 -> － － | I2: =男子用!A17 -> 0 | J2: =男子用!H17 -> 0 | K2: =男子用!Q17 -> － | L2: =男子用!P18 -> 0 | M2: =男子用!R20 -> － － | N2: =男子用!R21 -> － －
A3: 女子 | B3: =女子用!A11 -> 0 | C3: =女子用!P9 -> 0 | D3: =女子用!P8 -> 0 | E3: =女子用!Q11 -> － | F3: =女子用!P12 -> 0 | G3: =女子用!R13 -> － － | H3: =女子用!R14 -> － － | I3: =女子用!A17 -> 0 | J3: =女子用!H17 -> 0 | K3: =女子用!Q17 -> － | L3: =女子用!P18 -> 0 | M3: =女子用!R20 -> － － | N3: =女子用!R21 -> － －
B5: 都道府県 | C5: 学校名 | D5: 学校（ふりがな） | E5: 階級 | F5: 選手名 | G5: ふりがな | H5: 学年 | I5: 年 | J5: 月 | K5: 日 | L5: 歳 | M5: 登録番号
A6: 1 | B6: =B2 -> 0 | C6: =C2 -> 0 | D6: =D2 -> 0 | E6: =男子用!A25 -> 0 | F6: =男子用!D26 -> 0 | G6: =男子用!D25 -> 0 | H6: =男子用!L25 -> 0 | I6: =男子用!O25 -> 0 | J6: =男子用!N26 -> 0 | K6: =男子用!P26 -> 0 | L6: =男子用!O27 -> 0 | M6: =男子用!R25 -> 0
A7: 2 | B7: =$B$6 -> 0 | C7: =$C$6 -> 0 | D7: =$D$6 -> 0 | E7: =男子用!A28 -> 0 | F7: =男子用!D29 -> 0 | G7: =男子用!D28 -> 0 | H7: =男子用!L28 -> 0 | I7: =男子用!O28 -> 0 | J7: =男子用!N29 -> 0 | K7: =男子用!P29 -> 0 | L7: =男子用!O30 -> 0 | M7: =男子用!R28 -> 0
A8: 3 | B8: =$B$6 -> 0 | C8: =$C$6 -> 0 | D8: =$D$6 -> 0 | E8: =男子用!A31 -> 0 | F8: =男子用!D32 -> 0 | G8: =男子用!D31 -> 0 | H8: =男子用!L31 -> 0 | I8: =男子用!O31 -> 0 | J8: =男子用!N32 -> 0 | K8: =男子用!P32 -> 0 | L8: =男子用!O33 -> 0 | M8: =男子用!R31 -> 0
A9: 4 | B9: =$B$6 -> 0 | C9: =$C$6 -> 0 | D9: =$D$6 -> 0 | E9: =男子用!A34 -> 0 | F9: =男子用!D35 -> 0 | G9: =男子用!D34 -> 0 | H9: =男子用!L34 -> 0 | I9: =男子用!O34 -> 0 | J9: =男子用!N35 -> 0 | K9: =男子用!P35 -> 0 | L9: =男子用!O36 -> 0 | M9: =男子用!R34 -> 0
A10: 5 | B10: =$B$6 -> 0 | C10: =$C$6 -> 0 | D10: =$D$6 -> 0 | E10: =男子用!A37 -> 0 | F10: =男子用!D38 -> 0 | G10: =男子用!D37 -> 0 | H10: =男子用!L37 -> 0 | I10: =男子用!O37 -> 0 | J10: =男子用!N38 -> 0 | K10: =男子用!P38 -> 0 | L10: =男子用!O39 -> 0 | M10: =男子用!R37 -> 0
A11: 6 | B11: =$B$6 -> 0 | C11: =$C$6 -> 0 | D11: =$D$6 -> 0 | E11: =男子用!A40 -> 0 | F11: =男子用!D41 -> 0 | G11: =男子用!D40 -> 0 | H11: =男子用!L40 -> 0 | I11: =男子用!O40 -> 0 | J11: =男子用!N41 -> 0 | K11: =男子用!P41 -> 0 | L11: =男子用!O42 -> 0 | M11: =男子用!R40 -> 0
A12: 7 | B12: =$B$6 -> 0 | C12: =$C$6 -> 0 | D12: =$D$6 -> 0 | E12: =男子用!A43 -> 0 | F12: =男子用!D44 -> 0 | G12: =男子用!D43 -> 0 | H12: =男子用!L43 -> 0 | I12: =男子用!O43 -> 0 | J12: =男子用!N44 -> 0 | K12: =男子用!P44 -> 0 | L12: =男子用!O45 -> 0 | M12: =男子用!R43 -> 0
A13: 8 | B13: =$B$6 -> 0 | C13: =$C$6 -> 0 | D13: =$D$6 -> 0 | E13: =男子用!A46 -> 0 | F13: =男子用!D47 -> 0 | G13: =男子用!D46 -> 0 | H13: =男子用!L46 -> 0 | I13: =男子用!O46 -> 0 | J13: =男子用!N47 -> 0 | K13: =男子用!P47 -> 0 | L13: =男子用!O48 -> 0 | M13: =男子用!R46 -> 0
A16: 1 | B16: =$B$3 -> 0 | C16: =$C$3 -> 0 | D16: =$D$3 -> 0 | E16: =女子用!A25 -> 0 | F16: =女子用!D26 -> 0 | G16: =女子用!D25 -> 0 | H16: =女子用!L25 -> 0 | I16: =女子用!O25 -> 0 | J16: =女子用!N26 -> 0 | K16: =女子用!P26 -> 0 | L16: =女子用!O27 -> 0 | M16: =女子用!R25 -> 0
A17: 2 | B17: =$B$3 -> 0 | C17: =$C$3 -> 0 | D17: =$D$3 -> 0 | E17: =女子用!A28 -> 0 | F17: =女子用!D29 -> 0 | G17: =女子用!D28 -> 0 | H17: =女子用!L28 -> 0 | I17: =女子用!O28 -> 0 | J17: =女子用!N29 -> 0 | K17: =女子用!P29 -> 0 | L17: =女子用!O30 -> 0 | M17: =女子用!R28 -> 0
A18: 3 | B18: =$B$3 -> 0 | C18: =$C$3 -> 0 | D18: =$D$3 -> 0 | E18: =女子用!A31 -> 0 | F18: =女子用!D32 -> 0 | G18: =女子用!D31 -> 0 | H18: =女子用!L31 -> 0 | I18: =女子用!O31 -> 0 | J18: =女子用!N32 -> 0 | K18: =女子用!P32 -> 0 | L18: =女子用!O33 -> 0 | M18: =女子用!R31 -> 0
A19: 4 | B19: =$B$3 -> 0 | C19: =$C$3 -> 0 | D19: =$D$3 -> 0 | E19: =女子用!A34 -> 0 | F19: =女子用!D35 -> 0 | G19: =女子用!D34 -> 0 | H19: =女子用!L34 -> 0 | I19: =女子用!O34 -> 0 | J19: =女子用!N35 -> 0 | K19: =女子用!P35 -> 0 | L19: =女子用!O36 -> 0 | M19: =女子用!R34 -> 0
A20: 5 | B20: =$B$3 -> 0 | C20: =$C$3 -> 0 | D20: =$D$3 -> 0 | E20: =女子用!A37 -> 0 | F20: =女子用!D38 -> 0 | G20: =女子用!D37 -> 0 | H20: =女子用!L37 -> 0 | I20: =女子用!O37 -> 0 | J20: =女子用!N38 -> 0 | K20: =女子用!P38 -> 0 | L20: =女子用!O39 -> 0 | M20: =女子用!R37 -> 0
A21: 6 | B21: =$B$3 -> 0 | C21: =$C$3 -> 0 | D21: =$D$3 -> 0 | E21: =女子用!A40 -> 0 | F21: =女子用!D41 -> 0 | G21: =女子用!D40 -> 0 | H21: =女子用!L40 -> 0 | I21: =女子用!O40 -> 0 | J21: =女子用!N41 -> 0 | K21: =女子用!P41 -> 0 | L21: =女子用!O42 -> 0 | M21: =女子用!R40 -> 0
A22: 7 | B22: =$B$3 -> 0 | C22: =$C$3 -> 0 | D22: =$D$3 -> 0 | E22: =女子用!A43 -> 0 | F22: =女子用!D44 -> 0 | G22: =女子用!D43 -> 0 | H22: =女子用!L43 -> 0 | I22: =女子用!O43 -> 0 | J22: =女子用!N44 -> 0 | K22: =女子用!P44 -> 0 | L22: =女子用!O45 -> 0 | M22: =女子用!R43 -> 0
A23: 8 | B23: =$B$3 -> 0 | C23: =$C$3 -> 0 | D23: =$D$3 -> 0 | E23: =女子用!A46 -> 0 | F23: =女子用!D47 -> 0 | G23: =女子用!D46 -> 0 | H23: =女子用!L46 -> 0 | I23: =女子用!O46 -> 0 | J23: =女子用!N47 -> 0 | K23: =女子用!P47 -> 0 | L23: =女子用!O48 -> 0 | M23: =女子用!R46 -> 0
