Workbook
Name 階級一覧: #REF!
Name 階級一覧: #REF!
Name 階級一覧: #REF!

Sheet はじめに(入力説明）
A1: 全日本ジュニア選手権大会参加申込書の入力についての説明
A2: （１） | B2: 入力は、入力画面から行って下さい。そのデータが申込用紙に反映されます。
B3: （申込用紙シートは保護がしてありますので、直接入力できません。また、操作しないで下さい）
A4: （２） | B4: 男女に分け、別シートに入力して下さい。
A5: （３） | B5: 入力が終了したら、申込用紙シートにデータが反映されているか確認し、印刷して下さい。
B6: （1名～9名分はシート1に、10名～18名はシート2に入力されます。）
A7: （４） | B7: 印刷した申込書に会長印を押印し、要項にある提出先2カ所に送付下さい。
A8: （５） | B8: データは、都道府県名等をつけ、保存して下さい。
A9: （６） | B9: 保存データ（ブックごと）を、電子メールで、要項にある提出先2カ所に送信して下さい。
B10: （添付データは、ｼﾞｭﾆｱ大会申込〇〇県 のタイトル名で送付下さい。押印は必要ありません。）
A12: 入力時の注意点（例にならって入力する）
A13: （１） | B13: 左上の都道府県、協会長等から入力。
B14: １．都道府県名 | C14: 都道府県まで記載。学連は記載不要。
B15: ２．会長名 | C15: 会長名を記載。（姓と名の間は1字開ける。）
B16: ３．事務連絡者 | C16: 問い合わせ等に対応できる責任者。（事務局長が望ましい）
B17: ４．連絡先住所 | C17: 上記3.の住所。
B18: ５．連絡先電話番号 | C18: 上記3．で普段連絡がつく番号。（携帯可）
B19: ６．PCメールアドレス | C19: 大会に関する連絡が受けられるアドレス。（送信先のアドレスが望ましい）
B20: ７．記載責任者 | C20: 入力した方の名前。
B21: ８．参加料 | C21: 人数を入力すると、合計額が自動入力される。
B22: ９．申込日 | C22: 2020/1/10と入力すると、2020年1月10日と自動変換される。
A23: （２） | B23: 個人データ入力（１～９は1申込用紙に、10名以上（10～18）は2申込用紙に反映する）
B24: 階級 | C24: セルにカーソルを合わせると右に三角マークが出る。そこをクリックすると階級が出るので選択してクリックする。
B25: 氏名 | C25: 姓と名の間、1字開ける。
B26: ふりがな（氏名） | C26: ひらがなで記載し、姓と名の間1字開ける。
B27: 所属 | C27: 高等学校は高校と略して記載。
B28: ふりがな（氏名） | C28: ひらがなで所属のふりがなを記載。
B29: 登録番号 | C29: ０００は省略して記載。（最初の0から入力しても、0は表示されない）
B30: 生年月日 | C30: 2001/12/15と西暦で記載。
B31: スナッチ | C31: 申込書の大会の記録を記載。
B32: ジャーク | C32: 申込書の大会の記録を記載。
B33: トータル | C33: 申込書の大会の記録を記載。
B34: 大会名 | C34: ウエイトリフティング等は省略。
B35: 大会期日 | C35: 記録を出した期日。
... B37: 出身高校都道府県 | C37: 出身高校の都道府県名。（高校生は在学高校の都道府県名）
A38: （３） | B38: 申込用紙
B39: 1. 入力画面のデータが反映されているか確認し、印刷して会長印を押印して提出する。
B40: 2. 10名以上の選手がいる場合は、申込用紙の１・２の二枚とも押印する。
B41: 3. 都道府県会長名の欄、全日本学生の削除は不要。

Sheet 男子入力画面
B1: 男子参加申込書入力表
B2: １．都道府県名 | I2: 例 | J2: 都道府県名 | K2: 東京都
B3: ２．会長名 | J3: 会長名 | K3: 昭和 太郎
B4: ３．事務連絡者 | J4: 事務連絡者 | K4: 平成 一郎
B5: ４．連絡先住所 | J5: 連絡先 | K5: 東京都平成区令和町１－１－１
B6: ５．連絡先電話番号 | J6: 電話番号 | K6: ０３３－３３３－３３３３
B7: ６．PCメールアドレス | J7: PCメールアドレス | K7: reiwa@yahoogmail.com
B8: ７．記載責任者 | J8: 都道府県協会名 | K8: 令和 二郎
B9: ８．参加料 | E9: 名分×3,000円＝ | F9: =IF(C9="","",C9*3000) | G9: 円
B10: ９．申込日
L11: 2020/12/31基準
B12: 個人データ入力 | C12: 階級 | E12: 氏名 | F12: ふりがな（氏名） | G12: 所属 | H12: ふりがな（所属） | I12: 登録番号 | J12: 生年月日 | M12: 年齢 | N12: スナッチ | O12: ジャーク | P12: トータル | T12: 大会名 | U12: 大会期日 | V12: 住所(都道府県） | W12: 出身高校都道府県 | X12: 申込 用紙
A13: 45 | B13: 例 | C13: 71 | D13: =IF(C13="","",C13&"㎏級") -> 71㎏級 | E13: 日本 太郎 | F13: にっぽん たろう | G13: 令和高校 | H13: れいわこうこう | I13: 20505 | J13: 37380 | K13: 43831 | L13: =IF(J13="","",DATEDIF(J13,K13,"Y")) -> 17 | M13: =IF(L13="","",L13&"歳") -> 17歳 | N13: 120 | O13: 145 | P13: 265 | Q13: =IF(N13="","",N13&"㎏") -> 120㎏ | R13: =IF(O13="","",O13&"㎏") -> 145㎏ | S13: =IF(P13="","",P13&"㎏") -> 265㎏ | T13: 第74回国民体育大会 | U13: 43741 | V13: 大阪府 | W13: 兵庫県
A14: 49 | B14: 1 | K14: 43831 | L14: =IF(J14="","",DATEDIF(J14,K14,"Y")) | M14: =IF(L14="","",L14&"歳") | Q14: =IF(N14="","",N14&"㎏") | R14: =IF(O14="","",O14&"㎏") | S14: =IF(P14="","",P14&"㎏") | X14: 1
A15: 55 | B15: 2 | D15: =IF(C15="","",C15&"㎏級") | K15: 43831 | L15: =IF(J15="","",DATEDIF(J15,K15,"Y")) | M15: =IF(L15="","",L15&"歳") | Q15: =IF(N15="","",N15&"㎏") | R15: =IF(O15="","",O15&"㎏") | S15: =IF(P15="","",P15&"㎏") | X15: 1
A16: 59 | B16: 3 | D16: =IF(C16="","",C16&"㎏級") | K16: 43831 | L16: =IF(J16="","",DATEDIF(J16,K16,"Y")) | M16: =IF(L16="","",L16&"歳") | Q16: =IF(N16="","",N16&"㎏") | R16: =IF(O16="","",O16&"㎏") | S16: =IF(P16="","",P16&"㎏") | X16: 1
A17: 64 | B17: 4 | D17: =IF(C17="","",C17&"㎏級") | K17: 43831 | L17: =IF(J17="","",DATEDIF(J17,K17,"Y")) | M17: =IF(L17="","",L17&"歳") | Q17: =IF(N17="","",N17&"㎏") | R17: =IF(O17="","",O17&"㎏") | S17: =IF(P17="","",P17&"㎏") | X17: 1
A18: 71 | B18: 5 | D18: =IF(C18="","",C18&"㎏級") | K18: 43831 | L18: =IF(J18="","",DATEDIF(J18,K18,"Y")) | M18: =IF(L18="","",L18&"歳") | Q18: =IF(N18="","",N18&"㎏") | R18: =IF(O18="","",O18&"㎏") | S18: =IF(P18="","",P18&"㎏") | X18: 1
A19: 76 | B19: 6 | D19: =IF(C19="","",C19&"㎏級") | K19: 43831 | L19: =IF(J19="","",DATEDIF(J19,K19,"Y")) | M19: =IF(L19="","",L19&"歳") | Q19: =IF(N19="","",N19&"㎏") | R19: =IF(O19="","",O19&"㎏") | S19: =IF(P19="","",P19&"㎏") | X19: 1
A20: 81 | B20: 7 | D20: =IF(C20="","",C20&"㎏級") | K20: 43831 | L20: =IF(J20="","",DATEDIF(J20,K20,"Y")) | M20: =IF(L20="","",L20&"歳") | Q20: =IF(N20="","",N20&"㎏") | R20: =IF(O20="","",O20&"㎏") | S20: =IF(P20="","",P20&"㎏") | X20: 1
A21: 87 | B21: 8 | D21: =IF(C21="","",C21&"㎏級") | K21: 43831 | L21: =IF(J21="","",DATEDIF(J21,K21,"Y")) | M21: =IF(L21="","",L21&"歳") | Q21: =IF(N21="","",N21&"㎏") | R21: =IF(O21="","",O21&"㎏") | S21: =IF(P21="","",P21&"㎏") | X21: 1
A22: +87 | B22: 9 | D22: =IF(C22="","",C22&"㎏級") | K22: 43831 | L22: =IF(J22="","",DATEDIF(J22,K22,"Y")) | M22: =IF(L22="","",L22&"歳") | Q22: =IF(N22="","",N22&"㎏") | R22: =IF(O22="","",O22&"㎏") | S22: =IF(P22="","",P22&"㎏") | X22: 1
B23: 10 | D23: =IF(C23="","",C23&"㎏級") | K23: 43831 | L23: =IF(J23="","",DATEDIF(J23,K23,"Y")) | M23: =IF(L23="","",L23&"歳") | Q23: =IF(N23="","",N23&"㎏") | R23: =IF(O23="","",O23&"㎏") | S23: =IF(P23="","",P23&"㎏") | X23: 2
B24: 11 | D24: =IF(C24="","",C24&"㎏級") | K24: 43831 | L24: =IF(J24="","",DATEDIF(J24,K24,"Y")) | M24: =IF(L24="","",L24&"歳") | Q24: =IF(N24="","",N24&"㎏") | R24: =IF(O24="","",O24&"㎏") | S24: =IF(P24="","",P24&"㎏") | X24: 2
A25: 歳 | B25: 12 | D25: =IF(C25="","",C25&"㎏級") | K25: 43831 | L25: =IF(J25="","",DATEDIF(J25,K25,"Y")) | M25: =IF(L25="","",L25&"歳") | Q25: =IF(N25="","",N25&"㎏") | R25: =IF(O25="","",O25&"㎏") | S25: =IF(P25="","",P25&"㎏") | X25: 2
A26: ㎏ | B26: 13 | D26: =IF(C26="","",C26&"㎏級") | K26: 43831 | L26: =IF(J26="","",DATEDIF(J26,K26,"Y")) | M26: =IF(L26="","",L26&"歳") | Q26: =IF(N26="","",N26&"㎏") | R26: =IF(O26="","",O26&"㎏") | S26: =IF(P26="","",P26&"㎏") | X26: 2
A27: ㎏級 | B27: 14 | D27: =IF(C27="","",C27&"㎏級") | K27: 43831 | L27: =IF(J27="","",DATEDIF(J27,K27,"Y")) | M27: =IF(L27="","",L27&"歳") | Q27: =IF(N27="","",N27&"㎏") | R27: =IF(O27="","",O27&"㎏") | S27: =IF(P27="","",P27&"㎏") | X27: 2
B28: 15 | D28: =IF(C28="","",C28&"㎏級") | K28: 43831 | L28: =IF(J28="","",DATEDIF(J28,K28,"Y")) | M28: =IF(L28="","",L28&"歳") | Q28: =IF(N28="","",N28&"㎏") | R28: =IF(O28="","",O28&"㎏") | S28: =IF(P28="","",P28&"㎏") | X28: 2
B29: 16 | D29: =IF(C29="","",C29&"㎏級") | K29: 43831 | L29: =IF(J29="","",DATEDIF(J29,K29,"Y")) | M29: =IF(L29="","",L29&"歳") | Q29: =IF(N29="","",N29&"㎏") | R29: =IF(O29="","",O29&"㎏") | S29: =IF(P29="","",P29&"㎏") | X29: 2
B30: 17 | D30: =IF(C30="","",C30&"㎏級") | K30: 43831 | L30: =IF(J30="","",DATEDIF(J30,K30,"Y")) | M30: =IF(L30="","",L30&"歳") | Q30: =IF(N30="","",N30&"㎏") | R30: =IF(O30="","",O30&"㎏") | S30: =IF(P30="","",P30&"㎏") | X30: 2
B31: 18 | D31: =IF(C31="","",C31&"㎏級") | K31: 43831 | L31: =IF(J31="","",DATEDIF(J31,K31,"Y")) | M31: =IF(L31="","",L31&"歳") | Q31: =IF(N31="","",N31&"㎏") | R31: =IF(O31="","",O31&"㎏") | S31: =IF(P31="","",P31&"㎏") | X31: 2

Sheet 1男子申込用紙(1～9)
C1: 令和元年度・JOC ジュニアオリンピックカップ | N1: 男 子
C2: 第４０回全日本ジュニアウエイトリフティング選手権大会 参加申込書 | N2: 様式2－1
B4: 都道府県名 | C4: =IF(男子入力画面!C2="","",男子入力画面!C2) | D4: 事務連絡者 | E4: =IF(男子入力画面!C4="","",男子入力画面!C4) | F4: 連絡先住所 | G4: =IF(男子入力画面!C5="","",男子入力画面!C5) | L4: 電話 （ ） | M4: =IF(男子入力画面!C6="","",男子入力画面!C6)
L5: PCﾒｰﾙｱﾄﾞﾚｽ | M5: =IF(男子入力画面!C7="","",男子入力画面!C7)
B6: 階 級 | C6: ふ り が な | D6: 2019年度 | E6: 西暦生年月日 | F6: 2018・2019年度の公式競技会での最高記録 | J6: 現 住 所 | M6: ふ り が な | N6: 出身高校
C7: 氏 名 | D7: 登 録 番 号 | F7: 大会名(期日） | G7: スナッチ | H7: ジャーク | I7: トータル | M7: 所 属 | N7: 都道府県
A8: 例 | B8: =IF(男子入力画面!D13="","",男子入力画面!D13) -> 71㎏級 | C8: =IF(男子入力画面!F13="","",男子入力画面!F13) -> にっぽん たろう | D8: =IF(男子入力画面!I13="","",男子入力画面!I13) -> 20505 | E8: =IF(男子入力画面!J13="","",男子入力画面!J13) -> 37380 | F8: =IF(男子入力画面!T13="","",男子入力画面!T13) -> 第74回国民体育大会 | G8: =IF(男子入力画面!Q13="","",男子入力画面!Q13) -> 120㎏ | H8: =IF(男子入力画面!R13="","",男子入力画面!R13) -> 145㎏ | I8: =IF(男子入力画面!S13="","",男子入力画面!S13) -> 265㎏ | J8: =IF(男子入力画面!V13="","",男子入力画面!V13) -> 大阪府 | M8: =IF(男子入力画面!H13="","",男子入力画面!H13) -> れいわこうこう | N8: =IF(男子入力画面!W13="","",男子入力画面!W13) -> 兵庫県
C9: =IF(男子入力画面!E13="","",男子入力画面!E13) -> 日本 太郎 | F9: =IF(男子入力画面!U13="","",男子入力画面!U13) -> 43741 | M9: =IF(男子入力画面!G13="","",男子入力画面!G13) -> 令和高校
A10: 1 | B10: =IF(男子入力画面!D14="","",男子入力画面!D14) | C10: =IF(男子入力画面!F14="","",男子入力画面!F14) | D10: =IF(男子入力画面!I14="","",男子入力画面!I14) | E10: =IF(男子入力画面!J14="","",男子入力画面!J14) | F10: =IF(男子入力画面!T14="","",男子入力画面!T14) | G10: =IF(男子入力画面!Q14="","",男子入力画面!Q14) | H10: =IF(男子入力画面!R14="","",男子入力画面!R14) | I10: =IF(男子入力画面!S14="","",男子入力画面!S14) | J10: =IF(男子入力画面!V14="","",男子入力画面!V14) | M10: =IF(男子入力画面!H14="","",男子入力画面!H14) | N10: =IF(男子入力画面!W14="","",男子入力画面!W14)
C11: =IF(男子入力画面!E14="","",男子入力画面!E14) | F11: =IF(男子入力画面!U14="","",男子入力画面!U14) | M11: =IF(男子入力画面!G14="","",男子入力画面!G14)
A12: 2 | B12: =IF(男子入力画面!D15="","",男子入力画面!D15) | C12: =IF(男子入力画面!F15="","",男子入力画面!F15) | D12: =IF(男子入力画面!I15="","",男子入力画面!I15) | E12: =IF(男子入力画面!J15="","",男子入力画面!J15) | F12: =IF(男子入力画面!T15="","",男子入力画面!T15) | G12: =IF(男子入力画面!Q15="","",男子入力画面!Q15) | H12: =IF(男子入力画面!R15="","",男子入力画面!R15) | I12: =IF(男子入力画面!S15="","",男子入力画面!S15) | J12: =IF(男子入力画面!V15="","",男子入力画面!V15) | M12: =IF(男子入力画面!H15="","",男子入力画面!H15) | N12: =IF(男子入力画面!W15="","",男子入力画面!W15)
C13: =IF(男子入力画面!E15="","",男子入力画面!E15) | F13: =IF(男子入力画面!U15="","",男子入力画面!U15) | M13: =IF(男子入力画面!G15="","",男子入力画面!G15)
A14: 3 | B14: =IF(男子入力画面!D16="","",男子入力画面!D16) | C14: =IF(男子入力画面!F16="","",男子入力画面!F16) | D14: =IF(男子入力画面!I16="","",男子入力画面!I16) | E14: =IF(男子入力画面!J16="","",男子入力画面!J16) | F14: =IF(男子入力画面!T16="","",男子入力画面!T16) | G14: =IF(男子入力画面!Q16="","",男子入力画面!Q16) | H14: =IF(男子入力画面!R16="","",男子入力画面!R16) | I14: =IF(男子入力画面!S16="","",男子入力画面!S16) | J14: =IF(男子入力画面!V16="","",男子入力画面!V16) | M14: =IF(男子入力画面!H16="","",男子入力画面!H16) | N14: =IF(男子入力画面!W16="","",男子入力画面!W16)
C15: =IF(男子入力画面!E16="","",男子入力画面!E16) | F15: =IF(男子入力画面!U16="","",男子入力画面!U16) | M15: =IF(男子入力画面!G16="","",男子入力画面!G16)
A16: 4 | B16: =IF(男子入力画面!D17="","",男子入力画面!D17) | C16: =IF(男子入力画面!F17="","",男子入力画面!F17) | D16: =IF(男子入力画面!I17="","",男子入力画面!I17) | E16: =IF(男子入力画面!J17="","",男子入力画面!J17) | F16: =IF(男子入力画面!T17="","",男子入力画面!T17) | G16: =IF(男子入力画面!Q17="","",男子入力画面!Q17) | H16: =IF(男子入力画面!R17="","",男子入力画面!R17) | I16: =IF(男子入力画面!S17="","",男子入力画面!S17) | J16: =IF(男子入力画面!V17="","",男子入力画面!V17) | M16: =IF(男子入力画面!H17="","",男子入力画面!H17) | N16: =IF(男子入力画面!W17="","",男子入力画面!W17)
C17: =IF(男子入力画面!E17="","",男子入力画面!E17) | F17: =IF(男子入力画面!U17="","",男子入力画面!U17) | M17: =IF(男子入力画面!G17="","",男子入力画面!G17)
A18: 5 | B18: =IF(男子入力画面!D18="","",男子入力画面!D18) | C18: =IF(男子入力画面!F18="","",男子入力画面!F18) | D18: =IF(男子入力画面!I18="","",男子入力画面!I18) | E18: =IF(男子入力画面!J18="","",男子入力画面!J18) | F18: =IF(男子入力画面!T18="","",男子入力画面!T18) | G18: =IF(男子入力画面!Q18="","",男子入力画面!Q18) | H18: =IF(男子入力画面!R18="","",男子入力画面!R18) | I18: =IF(男子入力画面!S18="","",男子入力画面!S18) | J18: =IF(男子入力画面!V18="","",男子入力画面!V18) | M18: =IF(男子入力画面!H18="","",男子入力画面!H18) | N18: =IF(男子入力画面!W18="","",男子入力画面!W18)
C19: =IF(男子入力画面!E18="","",男子入力画面!E18) | F19: =IF(男子入力画面!U18="","",男子入力画面!U18) | M19: =IF(男子入力画面!G18="","",男子入力画面!G18)
A20: 6 | B20: =IF(男子入力画面!D19="","",男子入力画面!D19) | C20: =IF(男子入力画面!F19="","",男子入力画面!F19) | D20: =IF(男子入力画面!I19="","",男子入力画面!I19) | E20: =IF(男子入力画面!J19="","",男子入力画面!J19) | F20: =IF(男子入力画面!T19="","",男子入力画面!T19) | G20: =IF(男子入力画面!Q19="","",男子入力画面!Q19) | H20: =IF(男子入力画面!R19="","",男子入力画面!R19) | I20: =IF(男子入力画面!S19="","",男子入力画面!S19) | J20: =IF(男子入力画面!V19="","",男子入力画面!V19) | M20: =IF(男子入力画面!H19="","",男子入力画面!H19) | N20: =IF(男子入力画面!W19="","",男子入力画面!W19)
C21: =IF(男子入力画面!E19="","",男子入力画面!E19) | F21: =IF(男子入力画面!U19="","",男子入力画面!U19) | M21: =IF(男子入力画面!G19="","",男子入力画面!G19)
A22: 7 | B22: =IF(男子入力画面!D20="","",男子入力画面!D20) | C22: =IF(男子入力画面!F20="","",男子入力画面!F20) | D22: =IF(男子入力画面!I20="","",男子入力画面!I20) | E22: =IF(男子入力画面!J20="","",男子入力画面!J20) | F22: =IF(男子入力画面!T20="","",男子入力画面!T20) | G22: =IF(男子入力画面!Q20="","",男子入力画面!Q20) | H22: =IF(男子入力画面!R20="","",男子入力画面!R20) | I22: =IF(男子入力画面!S20="","",男子入力画面!S20) | J22: =IF(男子入力画面!V20="","",男子入力画面!V20) | M22: =IF(男子入力画面!H20="","",男子入力画面!H20) | N22: =IF(男子入力画面!W20="","",男子入力画面!W20)
C23: =IF(男子入力画面!E20="","",男子入力画面!E20) | F23: =IF(男子入力画面!U20="","",男子入力画面!U20) | M23: =IF(男子入力画面!G20="","",男子入力画面!G20)
A24: 8 | B24: =IF(男子入力画面!D21="","",男子入力画面!D21) | C24: =IF(男子入力画面!F21="","",男子入力画面!F21) | D24: =IF(男子入力画面!I21="","",男子入力画面!I21) | E24: =IF(男子入力画面!J21="","",男子入力画面!J21) | F24: =IF(男子入力画面!T21="","",男子入力画面!T21) | G24: =IF(男子入力画面!Q21="","",男子入力画面!Q21) | H24: =IF(男子入力画面!R21="","",男子入力画面!R21) | I24: =IF(男子入力画面!S21="","",男子入力画面!S21) | J24: =IF(男子入力画面!V21="","",男子入力画面!V21) | M24: =IF(男子入力画面!H21="","",男子入力画面!H21) | N24: =IF(男子入力画面!W21="","",男子入力画面!W21)
C25: =IF(男子入力画面!E21="","",男子入力画面!E21) | F25: =IF(男子入力画面!U21="","",男子入力画面!U21) | M25: =IF(男子入力画面!G21="","",男子入力画面!G21)
A26: 9 | B26: =IF(男子入力画面!D22="","",男子入力画面!D22) | C26: =IF(男子入力画面!F22="","",男子入力画面!F22) | D26: =IF(男子入力画面!I22="","",男子入力画面!I22) | E26: =IF(男子入力画面!J22="","",男子入力画面!J22) | F26: =IF(男子入力画面!T22="","",男子入力画面!T22) | G26: =IF(男子入力画面!Q22="","",男子入力画面!Q22) | H26: =IF(男子入力画面!R22="","",男子入力画面!R22) | I26: =IF(男子入力画面!S22="","",男子入力画面!S22) | J26: =IF(男子入力画面!V22="","",男子入力画面!V22) | M26: =IF(男子入力画面!H22="","",男子入力画面!H22) | N26: =IF(男子入力画面!W22="","",男子入力画面!W22)
C27: =IF(男子入力画面!E22="","",男子入力画面!E22) | F27: =IF(男子入力画面!U22="","",男子入力画面!U22) | M27: =IF(男子入力画面!G22="","",男子入力画面!G22)
B29: 上記の者は、標記大会実施要項の規程に適確で健康上にも支障がないので、参加料振込み用紙の写しを添えて申し込みます。 | L29: 記載責任者 | M29: =IF(男子入力画面!C8="","",男子入力画面!C8)
L30: 参 加 料 | M30: =IF(男子入力画面!F9="","",男子入力画面!F9) | N30: 円
C31: 申込日： | D31: =IF(男子入力画面!C10="","",男子入力画面!C10)
I32: =IF(男子入力画面!C2="","",男子入力画面!C2) | K32: ウエイトリフティング協会会長 | M32: =IF(男子入力画面!C3="","",男子入力画面!C3) &" 印" -> 印
B33: 公益社団法人日本ウエイトリフティング協会 会長 | F33: 三宅 義行 様 | I33: 全日本学生 | K33: ウエイトリフティング連盟会長 | M33: =IF(男子入力画面!M12="","",男子入力画面!M12) -> 年齢

Sheet ２男子申込用紙(９～18）
C1: 令和元年度・JOC ジュニアオリンピックカップ | N1: 男 子
C2: 第４０回全日本ジュニアウエイトリフティング選手権大会 参加申込書 | N2: 様式2－2
B4: 都道府県名 | C4: =IF(男子入力画面!C2="","",男子入力画面!C2) | D4: 事務連絡者 | E4: =IF(男子入力画面!C4="","",男子入力画面!C4) | F4: 連絡先住所 | G4: =IF(男子入力画面!C5="","",男子入力画面!C5) | L4: 電話 （ ） | M4: =IF(男子入力画面!C6="","",男子入力画面!C6)
L5: PCﾒｰﾙｱﾄﾞﾚｽ | M5: =IF(男子入力画面!C7="","",男子入力画面!C7)
B6: 階 級 | C6: ふ り が な | D6: 2019年度 | E6: 西暦生年月日 | F6: 2018・2019年度の公式競技会での最高記録 | J6: 現 住 所 | M6: ふ り が な | N6: 出身高校
C7: 氏 名 | D7: 登 録 番 号 | F7: 大会名(期日） | G7: スナッチ | H7: ジャーク | I7: トータル | M7: 所 属 | N7: 都道府県
A8: 例 | B8: =IF(男子入力画面!D13="","",男子入力画面!D13) -> 71㎏級 | C8: =IF(男子入力画面!F13="","",男子入力画面!F13) -> にっぽん たろう | D8: =IF(男子入力画面!I13="","",男子入力画面!I13) -> 20505 | E8: =IF(男子入力画面!J13="","",男子入力画面!J13) -> 37380 | F8: =IF(男子入力画面!T13="","",男子入力画面!T13) -> 第74回国民体育大会 | G8: =IF(男子入力画面!Q13="","",男子入力画面!Q13) -> 120㎏ | H8: =IF(男子入力画面!R13="","",男子入力画面!R13) -> 145㎏ | I8: =IF(男子入力画面!S13="","",男子入力画面!S13) -> 265㎏ | J8: =IF(男子入力画面!V13="","",男子入力画面!V13) -> 大阪府 | M8: =IF(男子入力画面!H13="","",男子入力画面!H13) -> れいわこうこう | N8: =IF(男子入力画面!W13="","",男子入力画面!W13) -> 兵庫県
C9: =IF(男子入力画面!E13="","",男子入力画面!E13) -> 日本 太郎 | F9: =IF(男子入力画面!U13="","",男子入力画面!U13) -> 43741 | M9: =IF(男子入力画面!G13="","",男子入力画面!G13) -> 令和高校
A10: 1 | B10: =IF(男子入力画面!D23="","",男子入力画面!D23) | C10: =IF(男子入力画面!F23="","",男子入力画面!F23) | D10: =IF(男子入力画面!I23="","",男子入力画面!I23) | E10: =IF(男子入力画面!J23="","",男子入力画面!J23) | F10: =IF(男子入力画面!T23="","",男子入力画面!T23) | G10: =IF(男子入力画面!Q23="","",男子入力画面!Q23) | H10: =IF(男子入力画面!R23="","",男子入力画面!R23) | I10: =IF(男子入力画面!S23="","",男子入力画面!S23) | J10: =IF(男子入力画面!V23="","",男子入力画面!V23) | M10: =IF(男子入力画面!H23="","",男子入力画面!H23) | N10: =IF(男子入力画面!W23="","",男子入力画面!W23)
C11: =IF(男子入力画面!E23="","",男子入力画面!E23) | F11: =IF(男子入力画面!U23="","",男子入力画面!U23) | M11: =IF(男子入力画面!G23="","",男子入力画面!G23)
A12: 2 | B12: =IF(男子入力画面!D24="","",男子入力画面!D24) | C12: =IF(男子入力画面!F24="","",男子入力画面!F24) | D12: =IF(男子入力画面!I24="","",男子入力画面!I24) | E12: =IF(男子入力画面!J24="","",男子入力画面!J24) | F12: =IF(男子入力画面!T24="","",男子入力画面!T24) | G12: =IF(男子入力画面!Q24="","",男子入力画面!Q24) | H12: =IF(男子入力画面!R24="","",男子入力画面!R24) | I12: =IF(男子入力画面!S24="","",男子入力画面!S24) | J12: =IF(男子入力画面!V24="","",男子入力画面!V24) | M12: =IF(男子入力画面!H24="","",男子入力画面!H24) | N12: =IF(男子入力画面!W24="","",男子入力画面!W24)
C13: =IF(男子入力画面!E24="","",男子入力画面!E24) | F13: =IF(男子入力画面!U24="","",男子入力画面!U24) | M13: =IF(男子入力画面!G24="","",男子入力画面!G24)
A14: 3 | B14: =IF(男子入力画面!D25="","",男子入力画面!D25) | C14: =IF(男子入力画面!F25="","",男子入力画面!F25) | D14: =IF(男子入力画面!I25="","",男子入力画面!I25) | E14: =IF(男子入力画面!J25="","",男子入力画面!J25) | F14: =IF(男子入力画面!T25="","",男子入力画面!T25) | G14: =IF(男子入力画面!Q25="","",男子入力画面!Q25) | H14: =IF(男子入力画面!R25="","",男子入力画面!R25) | I14: =IF(男子入力画面!S25="","",男子入力画面!S25) | J14: =IF(男子入力画面!V25="","",男子入力画面!V25) | M14: =IF(男子入力画面!H25="","",男子入力画面!H25) | N14: =IF(男子入力画面!W25="","",男子入力画面!W25)
C15: =IF(男子入力画面!E25="","",男子入力画面!E25) | F15: =IF(男子入力画面!U25="","",男子入力画面!U25) | M15: =IF(男子入力画面!G25="","",男子入力画面!G25)
A16: 4 | B16: =IF(男子入力画面!D26="","",男子入力画面!D26) | C16: =IF(男子入力画面!F26="","",男子入力画面!F26) | D16: =IF(男子入力画面!I26="","",男子入力画面!I26) | E16: =IF(男子入力画面!J26="","",男子入力画面!J26) | F16: =IF(男子入力画面!T26="","",男子入力画面!T26) | G16: =IF(男子入力画面!Q26="","",男子入力画面!Q26) | H16: =IF(男子入力画面!R26="","",男子入力画面!R26) | I16: =IF(男子入力画面!S26="","",男子入力画面!S26) | J16: =IF(男子入力画面!V26="","",男子入力画面!V26) | M16: =IF(男子入力画面!H26="","",男子入力画面!H26) | N16: =IF(男子入力画面!W26="","",男子入力画面!W26)
C17: =IF(男子入力画面!E26="","",男子入力画面!E26) | F17: =IF(男子入力画面!U26="","",男子入力画面!U26) | M17: =IF(男子入力画面!G26="","",男子入力画面!G26)
A18: 5 | B18: =IF(男子入力画面!D27="","",男子入力画面!D27) | C18: =IF(男子入力画面!F27="","",男子入力画面!F27) | D18: =IF(男子入力画面!I27="","",男子入力画面!I27) | E18: =IF(男子入力画面!J27="","",男子入力画面!J27) | F18: =IF(男子入力画面!T27="","",男子入力画面!T27) | G18: =IF(男子入力画面!Q27="","",男子入力画面!Q27) | H18: =IF(男子入力画面!R27="","",男子入力画面!R27) | I18: =IF(男子入力画面!S27="","",男子入力画面!S27) | J18: =IF(男子入力画面!V27="","",男子入力画面!V27) | M18: =IF(男子入力画面!H27="","",男子入力画面!H27) | N18: =IF(男子入力画面!W27="","",男子入力画面!W27)
C19: =IF(男子入力画面!E27="","",男子入力画面!E27) | F19: =IF(男子入力画面!U27="","",男子入力画面!U27) | M19: =IF(男子入力画面!G27="","",男子入力画面!G27)
A20: 6 | B20: =IF(男子入力画面!D28="","",男子入力画面!D28) | C20: =IF(男子入力画面!F28="","",男子入力画面!F28) | D20: =IF(男子入力画面!I28="","",男子入力画面!I28) | E20: =IF(男子入力画面!J28="","",男子入力画面!J28) | F20: =IF(男子入力画面!T28="","",男子入力画面!T28) | G20: =IF(男子入力画面!Q28="","",男子入力画面!Q28) | H20: =IF(男子入力画面!R28="","",男子入力画面!R28) | I20: =IF(男子入力画面!S28="","",男子入力画面!S28) | J20: =IF(男子入力画面!V28="","",男子入力画面!V28) | M20: =IF(男子入力画面!H28="","",男子入力画面!H28) | N20: =IF(男子入力画面!W28="","",男子入力画面!W28)
C21: =IF(男子入力画面!E28="","",男子入力画面!E28) | F21: =IF(男子入力画面!U28="","",男子入力画面!U28) | M21: =IF(男子入力画面!G28="","",男子入力画面!G28)
A22: 7 | B22: =IF(男子入力画面!D29="","",男子入力画面!D29) | C22: =IF(男子入力画面!F29="","",男子入力画面!F29) | D22: =IF(男子入力画面!I29="","",男子入力画面!I29) | E22: =IF(男子入力画面!J29="","",男子入力画面!J29) | F22: =IF(男子入力画面!T29="","",男子入力画面!T29) | G22: =IF(男子入力画面!Q29="","",男子入力画面!Q29) | H22: =IF(男子入力画面!R29="","",男子入力画面!R29) | I22: =IF(男子入力画面!S29="","",男子入力画面!S29) | J22: =IF(男子入力画面!V29="","",男子入力画面!V29) | M22: =IF(男子入力画面!H29="","",男子入力画面!H29) | N22: =IF(男子入力画面!W29="","",男子入力画面!W29)
C23: =IF(男子入力画面!E29="","",男子入力画面!E29) | F23: =IF(男子入力画面!U29="","",男子入力画面!U29) | M23: =IF(男子入力画面!G29="","",男子入力画面!G29)
A24: 8 | B24: =IF(男子入力画面!D30="","",男子入力画面!D30) | C24: =IF(男子入力画面!F30="","",男子入力画面!F30) | D24: =IF(男子入力画面!I30="","",男子入力画面!I30) | E24: =IF(男子入力画面!J30="","",男子入力画面!J30) | F24: =IF(男子入力画面!T30="","",男子入力画面!T30) | G24: =IF(男子入力画面!Q30="","",男子入力画面!Q30) | H24: =IF(男子入力画面!R30="","",男子入力画面!R30) | I24: =IF(男子入力画面!S30="","",男子入力画面!S30) | J24: =IF(男子入力画面!V30="","",男子入力画面!V30) | M24: =IF(男子入力画面!H30="","",男子入力画面!H30) | N24: =IF(男子入力画面!W30="","",男子入力画面!W30)
C25: =IF(男子入力画面!E30="","",男子入力画面!E30) | F25: =IF(男子入力画面!U30="","",男子入力画面!U30) | M25: =IF(男子入力画面!G30="","",男子入力画面!G30)
A26: 9 | B26: =IF(男子入力画面!D31="","",男子入力画面!D31) | C26: =IF(男子入力画面!F31="","",男子入力画面!F31) | D26: =IF(男子入力画面!I31="","",男子入力画面!I31) | E26: =IF(男子入力画面!J31="","",男子入力画面!J31) | F26: =IF(男子入力画面!T31="","",男子入力画面!T31) | G26: =IF(男子入力画面!Q31="","",男子入力画面!Q31) | H26: =IF(男子入力画面!R31="","",男子入力画面!R31) | I26: =IF(男子入力画面!S31="","",男子入力画面!S31) | J26: =IF(男子入力画面!V31="","",男子入力画面!V31) | M26: =IF(男子入力画面!H31="","",男子入力画面!H31) | N26: =IF(男子入力画面!W31="","",男子入力画面!W31)
C27: =IF(男子入力画面!E31="","",男子入力画面!E31) | F27: =IF(男子入力画面!U31="","",男子入力画面!U31) | M27: =IF(男子入力画面!G31="","",男子入力画面!G31)
B29: 上記の者は、標記大会実施要項の規程に適確で健康上にも支障がないので、参加料振込み用紙の写しを添えて申し込みます。 | L29: 記載責任者 | M29: =IF(男子入力画面!C8="","",男子入力画面!C8)
L30: 参 加 料 | M30: =IF(男子入力画面!F9="","",男子入力画面!F9) | N30: 円
C31: 申込日： | D31: =IF(男子入力画面!C10="","",男子入力画面!C10)
I32: =IF(男子入力画面!C2="","",男子入力画面!C2) | K32: ウエイトリフティング協会会長 | M32: =IF(男子入力画面!C3="","",男子入力画面!C3) &" 印" -> 印
B33: 公益社団法人日本ウエイトリフティング協会 会長 | F33: 三宅 義行 様 | I33: 全日本学生 | K33: ウエイトリフティング連盟会長 | M33: =IF(男子入力画面!M12="","",男子入力画面!M12) -> 年齢

Sheet 女子入力画面
B1: 女子参加申込書入力表
B2: 都道府県名 | I2: 例 | J2: 都道府県名 | K2: 東京都
B3: 会長名 | J3: 会長名 | K3: 昭和 太郎
B4: 事務連絡者 | J4: 事務連絡者 | K4: 平成 一郎
B5: 連絡先住所 | J5: 連絡先 | K5: 東京都平成区令和町１－１－１
B6: 連絡先電話番号 | J6: 電話番号 | K6: ０３３－３３３－３３３３
B7: PCメールアドレス | J7: PCメールアドレス | K7: reiwa@yahoogmail.com
B8: 記載責任者 | J8: 都道府県協会名 | K8: 令和 二郎
B9: 参加料 | E9: 名分×3,000円＝ | F9: =IF(C9="","",C9*3000) | G9: 円
B10: 申込日
L11: 2020/12/31基準
C12: 階級 | E12: 氏名 | F12: ふりがな | G12: 所属 | H12: ふりがな | I12: 登録番号 | J12: 生年月日 | M12: 年齢 | N12: スナッチ | O12: ジャーク | P12: トータル | T12: 大会名 | U12: 大会期日 | V12: 住所(都道府県） | W12: 出身高校都道府県 | X12: 申込 用紙
A13: 45 | B13: 例 | C13: 55 | D13: =IF(C13="","",C13&"㎏級") -> 55㎏級 | E13: 日本 花子 | F13: にっぽん はなこ | G13: 令和大学 | H13: れいわだいがく | I13: 20505 | J13: 36527 | K13: 43831 | L13: =IF(J13="","",DATEDIF(J13,K13,"Y")) -> 19 | M13: =IF(L13="","",L13&"歳") -> 19歳 | N13: 80 | O13: 112 | P13: 192 | Q13: =IF(N13="","",N13&"㎏") -> 80㎏ | R13: =IF(O13="","",O13&"㎏") -> 112㎏ | S13: =IF(P13="","",P13&"㎏") -> 192㎏ | T13: 第11回全日本女子選抜 | U13: 43791 | V13: 大阪府 | W13: 兵庫県
A14: 49 | B14: 1 | K14: 43831 | L14: =IF(J14="","",DATEDIF(J14,K14,"Y")) | M14: =IF(L14="","",L14&"歳") | Q14: =IF(N14="","",N14&"㎏") | R14: =IF(O14="","",O14&"㎏") | S14: =IF(P14="","",P14&"㎏") | X14: 1
A15: 55 | B15: 2 | D15: =IF(C15="","",C15&"㎏級") | K15: 43831 | L15: =IF(J15="","",DATEDIF(J15,K15,"Y")) | M15: =IF(L15="","",L15&"歳") | Q15: =IF(N15="","",N15&"㎏") | R15: =IF(O15="","",O15&"㎏") | S15: =IF(P15="","",P15&"㎏") | X15: 1
A16: 59 | B16: 3 | D16: =IF(C16="","",C16&"㎏級") | K16: 43831 | L16: =IF(J16="","",DATEDIF(J16,K16,"Y")) | M16: =IF(L16="","",L16&"歳") | Q16: =IF(N16="","",N16&"㎏") | R16: =IF(O16="","",O16&"㎏") | S16: =IF(P16="","",P16&"㎏") | X16: 1
A17: 64 | B17: 4 | D17: =IF(C17="","",C17&"㎏級") | K17: 43831 | L17: =IF(J17="","",DATEDIF(J17,K17,"Y")) | M17: =IF(L17="","",L17&"歳") | Q17: =IF(N17="","",N17&"㎏") | R17: =IF(O17="","",O17&"㎏") | S17: =IF(P17="","",P17&"㎏") | X17: 1
A18: 71 | B18: 5 | D18: =IF(C18="","",C18&"㎏級") | K18: 43831 | L18: =IF(J18="","",DATEDIF(J18,K18,"Y")) | M18: =IF(L18="","",L18&"歳") | Q18: =IF(N18="","",N18&"㎏") | R18: =IF(O18="","",O18&"㎏") | S18: =IF(P18="","",P18&"㎏") | X18: 1
A19: 76 | B19: 6 | D19: =IF(C19="","",C19&"㎏級") | K19: 43831 | L19: =IF(J19="","",DATEDIF(J19,K19,"Y")) | M19: =IF(L19="","",L19&"歳") | Q19: =IF(N19="","",N19&"㎏") | R19: =IF(O19="","",O19&"㎏") | S19: =IF(P19="","",P19&"㎏") | X19: 1
A20: 81 | B20: 7 | D20: =IF(C20="","",C20&"㎏級") | K20: 43831 | L20: =IF(J20="","",DATEDIF(J20,K20,"Y")) | M20: =IF(L20="","",L20&"歳") | Q20: =IF(N20="","",N20&"㎏") | R20: =IF(O20="","",O20&"㎏") | S20: =IF(P20="","",P20&"㎏") | X20: 1
A21: 87 | B21: 8 | D21: =IF(C21="","",C21&"㎏級") | K21: 43831 | L21: =IF(J21="","",DATEDIF(J21,K21,"Y")) | M21: =IF(L21="","",L21&"歳") | Q21: =IF(N21="","",N21&"㎏") | R21: =IF(O21="","",O21&"㎏") | S21: =IF(P21="","",P21&"㎏") | X21: 1
A22: +87 | B22: 9 | D22: =IF(C22="","",C22&"㎏級") | K22: 43831 | L22: =IF(J22="","",DATEDIF(J22,K22,"Y")) | M22: =IF(L22="","",L22&"歳") | Q22: =IF(N22="","",N22&"㎏") | R22: =IF(O22="","",O22&"㎏") | S22: =IF(P22="","",P22&"㎏") | X22: 1
B23: 10 | D23: =IF(C23="","",C23&"㎏級") | K23: 43831 | L23: =IF(J23="","",DATEDIF(J23,K23,"Y")) | M23: =IF(L23="","",L23&"歳") | Q23: =IF(N23="","",N23&"㎏") | R23: =IF(O23="","",O23&"㎏") | S23: =IF(P23="","",P23&"㎏") | X23: 2
B24: 11 | D24: =IF(C24="","",C24&"㎏級") | K24: 43831 | L24: =IF(J24="","",DATEDIF(J24,K24,"Y")) | M24: =IF(L24="","",L24&"歳") | Q24: =IF(N24="","",N24&"㎏") | R24: =IF(O24="","",O24&"㎏") | S24: =IF(P24="","",P24&"㎏") | X24: 2
A25: 歳 | B25: 12 | D25: =IF(C25="","",C25&"㎏級") | K25: 43831 | L25: =IF(J25="","",DATEDIF(J25,K25,"Y")) | M25: =IF(L25="","",L25&"歳") | Q25: =IF(N25="","",N25&"㎏") | R25: =IF(O25="","",O25&"㎏") | S25: =IF(P25="","",P25&"㎏") | X25: 2
A26: ㎏ | B26: 13 | D26: =IF(C26="","",C26&"㎏級") | K26: 43831 | L26: =IF(J26="","",DATEDIF(J26,K26,"Y")) | M26: =IF(L26="","",L26&"歳") | Q26: =IF(N26="","",N26&"㎏") | R26: =IF(O26="","",O26&"㎏") | S26: =IF(P26="","",P26&"㎏") | X26: 2
A27: ㎏級 | B27: 14 | D27: =IF(C27="","",C27&"㎏級") | K27: 43831 | L27: =IF(J27="","",DATEDIF(J27,K27,"Y")) | M27: =IF(L27="","",L27&"歳") | Q27: =IF(N27="","",N27&"㎏") | R27: =IF(O27="","",O27&"㎏") | S27: =IF(P27="","",P27&"㎏") | X27: 2
B28: 15 | D28: =IF(C28="","",C28&"㎏級") | K28: 43831 | L28: =IF(J28="","",DATEDIF(J28,K28,"Y")) | M28: =IF(L28="","",L28&"歳") | Q28: =IF(N28="","",N28&"㎏") | R28: =IF(O28="","",O28&"㎏") | S28: =IF(P28="","",P28&"㎏") | X28: 2
B29: 16 | D29: =IF(C29="","",C29&"㎏級") | K29: 43831 | L29: =IF(J29="","",DATEDIF(J29,K29,"Y")) | M29: =IF(L29="","",L29&"歳") | Q29: =IF(N29="","",N29&"㎏") | R29: =IF(O29="","",O29&"㎏") | S29: =IF(P29="","",P29&"㎏") | X29: 2
B30: 17 | D30: =IF(C30="","",C30&"㎏級") | K30: 43831 | L30: =IF(J30="","",DATEDIF(J30,K30,"Y")) | M30: =IF(L30="","",L30&"歳") | Q30: =IF(N30="","",N30&"㎏") | R30: =IF(O30="","",O30&"㎏") | S30: =IF(P30="","",P30&"㎏") | X30: 2
B31: 18 | D31: =IF(C31="","",C31&"㎏級") | K31: 43831 | L31: =IF(J31="","",DATEDIF(J31,K31,"Y")) | M31: =IF(L31="","",L31&"歳") | Q31: =IF(N31="","",N31&"㎏") | R31: =IF(O31="","",O31&"㎏") | S31: =IF(P31="","",P31&"㎏") | X31: 2

Sheet 1女子申込用紙(1～9)
C1: 令和元年度・JOC ジュニアオリンピックカップ | N1: 女 子
C2: 第４０回全日本ジュニアウエイトリフティング選手権大会 参加申込書 | N2: 様式2－1
B4: 都道府県名 | C4: =IF(女子入力画面!C2="","",女子入力画面!C2) | D4: 事務連絡者 | E4: =IF(女子入力画面!C4="","",女子入力画面!C4) | F4: 連絡先住所 | G4: =IF(女子入力画面!C5="","",女子入力画面!C5) | L4: 電話 （ ） | M4: =IF(女子入力画面!C6="","",女子入力画面!C6)
L5: PCﾒｰﾙｱﾄﾞﾚｽ | M5: =IF(女子入力画面!C7="","",女子入力画面!C7)
B6: 階 級 | C6: ふ り が な | D6: 2019年度 | E6: 西暦生年月日 | F6: 2018・2019年度の公式競技会での最高記録 | J6: 現 住 所 | M6: ふ り が な | N6: 出身高校
C7: 氏 名 | D7: 登 録 番 号 | F7: 大会名(期日） | G7: スナッチ | H7: ジャーク | I7: トータル | M7: 所 属 | N7: 都道府県
A8: 例 | B8: =IF(女子入力画面!D13="","",女子入力画面!D13) -> 55㎏級 | C8: =IF(女子入力画面!F13="","",女子入力画面!F13) -> にっぽん はなこ | D8: =IF(女子入力画面!I13="","",女子入力画面!I13) -> 20505 | E8: =IF(女子入力画面!J13="","",女子入力画面!J13) -> 36527 | F8: =IF(女子入力画面!T13="","",女子入力画面!T13) -> 第11回全日本女子選抜 | G8: =IF(女子入力画面!Q13="","",女子入力画面!Q13) -> 80㎏ | H8: =IF(女子入力画面!R13="","",女子入力画面!R13) -> 112㎏ | I8: =IF(女子入力画面!S13="","",女子入力画面!S13) -> 192㎏ | J8: =IF(女子入力画面!V13="","",女子入力画面!V13) -> 大阪府 | M8: =IF(女子入力画面!H13="","",女子入力画面!H13) -> れいわだいがく | N8: =IF(女子入力画面!W13="","",女子入力画面!W13) -> 兵庫県
C9: =IF(女子入力画面!E13="","",女子入力画面!E13) -> 日本 花子 | F9: =IF(女子入力画面!U13="","",女子入力画面!U13) -> 43791 | M9: =IF(女子入力画面!G13="","",女子入力画面!G13) -> 令和大学
A10: 1 | B10: =IF(女子入力画面!D14="","",女子入力画面!D14) | C10: =IF(女子入力画面!F14="","",女子入力画面!F14) | D10: =IF(女子入力画面!I14="","",女子入力画面!I14) | E10: =IF(女子入力画面!J14="","",女子入力画面!J14) | F10: =IF(女子入力画面!T14="","",女子入力画面!T14) | G10: =IF(女子入力画面!Q14="","",女子入力画面!Q14) | H10: =IF(女子入力画面!R14="","",女子入力画面!R14) | I10: =IF(女子入力画面!S14="","",女子入力画面!S14) | J10: =IF(女子入力画面!V14="","",女子入力画面!V14) | M10: =IF(女子入力画面!H14="","",女子入力画面!H14) | N10: =IF(女子入力画面!W14="","",女子入力画面!W14)
C11: =IF(女子入力画面!E14="","",女子入力画面!E14) | F11: =IF(女子入力画面!U14="","",女子入力画面!U14) | M11: =IF(女子入力画面!G14="","",女子入力画面!G14)
A12: 2 | B12: =IF(女子入力画面!D15="","",女子入力画面!D15) | C12: =IF(女子入力画面!F15="","",女子入力画面!F15) | D12: =IF(女子入力画面!I15="","",女子入力画面!I15) | E12: =IF(女子入力画面!J15="","",女子入力画面!J15) | F12: =IF(女子入力画面!T15="","",女子入力画面!T15) | G12: =IF(女子入力画面!Q15="","",女子入力画面!Q15) | H12: =IF(女子入力画面!R15="","",女子入力画面!R15) | I12: =IF(女子入力画面!S15="","",女子入力画面!S15) | J12: =IF(女子入力画面!V15="","",女子入力画面!V15) | M12: =IF(女子入力画面!H15="","",女子入力画面!H15) | N12: =IF(女子入力画面!W15="","",女子入力画面!W15)
C13: =IF(女子入力画面!E15="","",女子入力画面!E15) | F13: =IF(女子入力画面!U15="","",女子入力画面!U15) | M13: =IF(女子入力画面!G15="","",女子入力画面!G15)
A14: 3 | B14: =IF(女子入力画面!D16="","",女子入力画面!D16) | C14: =IF(女子入力画面!F16="","",女子入力画面!F16) | D14: =IF(女子入力画面!I16="","",女子入力画面!I16) | E14: =IF(女子入力画面!J16="","",女子入力画面!J16) | F14: =IF(女子入力画面!T16="","",女子入力画面!T16) | G14: =IF(女子入力画面!Q16="","",女子入力画面!Q16) | H14: =IF(女子入力画面!R16="","",女子入力画面!R16) | I14: =IF(女子入力画面!S16="","",女子入力画面!S16) | J14: =IF(女子入力画面!V16="","",女子入力画面!V16) | M14: =IF(女子入力画面!H16="","",女子入力画面!H16) | N14: =IF(女子入力画面!W16="","",女子入力画面!W16)
C15: =IF(女子入力画面!E16="","",女子入力画面!E16) | F15: =IF(女子入力画面!U16="","",女子入力画面!U16) | M15: =IF(女子入力画面!G16="","",女子入力画面!G16)
A16: 4 | B16: =IF(女子入力画面!D17="","",女子入力画面!D17) | C16: =IF(女子入力画面!F17="","",女子入力画面!F17) | D16: =IF(女子入力画面!I17="","",女子入力画面!I17) | E16: =IF(女子入力画面!J17="","",女子入力画面!J17) | F16: =IF(女子入力画面!T17="","",女子入力画面!T17) | G16: =IF(女子入力画面!Q17="","",女子入力画面!Q17) | H16: =IF(女子入力画面!R17="","",女子入力画面!R17) | I16: =IF(女子入力画面!S17="","",女子入力画面!S17) | J16: =IF(女子入力画面!V17="","",女子入力画面!V17) | M16: =IF(女子入力画面!H17="","",女子入力画面!H17) | N16: =IF(女子入力画面!W17="","",女子入力画面!W17)
C17: =IF(女子入力画面!E17="","",女子入力画面!E17) | F17: =IF(女子入力画面!U17="","",女子入力画面!U17) | M17: =IF(女子入力画面!G17="","",女子入力画面!G17)
A18: 5 | B18: =IF(女子入力画面!D18="","",女子入力画面!D18) | C18: =IF(女子入力画面!F18="","",女子入力画面!F18) | D18: =IF(女子入力画面!I18="","",女子入力画面!I18) | E18: =IF(女子入力画面!J18="","",女子入力画面!J18) | F18: =IF(女子入力画面!T18="","",女子入力画面!T18) | G18: =IF(女子入力画面!Q18="","",女子入力画面!Q18) | H18: =IF(女子入力画面!R18="","",女子入力画面!R18) | I18: =IF(女子入力画面!S18="","",女子入力画面!S18) | J18: =IF(女子入力画面!V18="","",女子入力画面!V18) | M18: =IF(女子入力画面!H18="","",女子入力画面!H18) | N18: =IF(女子入力画面!W18="","",女子入力画面!W18)
C19: =IF(女子入力画面!E18="","",女子入力画面!E18) | F19: =IF(女子入力画面!U18="","",女子入力画面!U18) | M19: =IF(女子入力画面!G18="","",女子入力画面!G18)
A20: 6 | B20: =IF(女子入力画面!D19="","",女子入力画面!D19) | C20: =IF(女子入力画面!F19="","",女子入力画面!F19) | D20: =IF(女子入力画面!I19="","",女子入力画面!I19) | E20: =IF(女子入力画面!J19="","",女子入力画面!J19) | F20: =IF(女子入力画面!T19="","",女子入力画面!T19) | G20: =IF(女子入力画面!Q19="","",女子入力画面!Q19) | H20: =IF(女子入力画面!R19="","",女子入力画面!R19) | I20: =IF(女子入力画面!S19="","",女子入力画面!S19) | J20: =IF(女子入力画面!V19="","",女子入力画面!V19) | M20: =IF(女子入力画面!H19="","",女子入力画面!H19) | N20: =IF(女子入力画面!W19="","",女子入力画面!W19)
C21: =IF(女子入力画面!E19="","",女子入力画面!E19) | F21: =IF(女子入力画面!U19="","",女子入力画面!U19) | M21: =IF(女子入力画面!G19="","",女子入力画面!G19)
A22: 7 | B22: =IF(女子入力画面!D20="","",女子入力画面!D20) | C22: =IF(女子入力画面!F20="","",女子入力画面!F20) | D22: =IF(女子入力画面!I20="","",女子入力画面!I20) | E22: =IF(女子入力画面!J20="","",女子入力画面!J20) | F22: =IF(女子入力画面!T20="","",女子入力画面!T20) | G22: =IF(女子入力画面!Q20="","",女子入力画面!Q20) | H22: =IF(女子入力画面!R20="","",女子入力画面!R20) | I22: =IF(女子入力画面!S20="","",女子入力画面!S20) | J22: =IF(女子入力画面!V20="","",女子入力画面!V20) | M22: =IF(女子入力画面!H20="","",女子入力画面!H20) | N22: =IF(女子入力画面!W20="","",女子入力画面!W20)
C23: =IF(女子入力画面!E20="","",女子入力画面!E20) | F23: =IF(女子入力画面!U20="","",女子入力画面!U20) | M23: =IF(女子入力画面!G20="","",女子入力画面!G20)
A24: 8 | B24: =IF(女子入力画面!D21="","",女子入力画面!D21) | C24: =IF(女子入力画面!F21="","",女子入力画面!F21) | D24: =IF(女子入力画面!I21="","",女子入力画面!I21) | E24: =IF(女子入力画面!J21="","",女子入力画面!J21) | F24: =IF(女子入力画面!T21="","",女子入力画面!T21) | G24: =IF(女子入力画面!Q21="","",女子入力画面!Q21) | H24: =IF(女子入力画面!R21="","",女子入力画面!R21) | I24: =IF(女子入力画面!S21="","",女子入力画面!S21) | J24: =IF(女子入力画面!V21="","",女子入力画面!V21) | M24: =IF(女子入力画面!H21="","",女子入力画面!H21) | N24: =IF(女子入力画面!W21="","",女子入力画面!W21)
C25: =IF(女子入力画面!E21="","",女子入力画面!E21) | F25: =IF(女子入力画面!U21="","",女子入力画面!U21) | M25: =IF(女子入力画面!G21="","",女子入力画面!G21)
A26: 9 | B26: =IF(女子入力画面!D22="","",女子入力画面!D22) | C26: =IF(女子入力画面!F22="","",女子入力画面!F22) | D26: =IF(女子入力画面!I22="","",女子入力画面!I22) | E26: =IF(女子入力画面!J22="","",女子入力画面!J22) | F26: =IF(女子入力画面!T22="","",女子入力画面!T22) | G26: =IF(女子入力画面!Q22="","",女子入力画面!Q22) | H26: =IF(女子入力画面!R22="","",女子入力画面!R22) | I26: =IF(女子入力画面!S22="","",女子入力画面!S22) | J26: =IF(女子入力画面!V22="","",女子入力画面!V22) | M26: =IF(女子入力画面!H22="","",女子入力画面!H22) | N26: =IF(女子入力画面!W22="","",女子入力画面!W22)
C27: =IF(女子入力画面!E22="","",女子入力画面!E22) | F27: =IF(女子入力画面!U22="","",女子入力画面!U22) | M27: =IF(女子入力画面!G22="","",女子入力画面!G22)
B29: 上記の者は、標記大会実施要項の規程に適確で健康上にも支障がないので、参加料振込み用紙の写しを添えて申し込みます。 | L29: 記載責任者 | M29: =IF(女子入力画面!C8="","",女子入力画面!C8)
L30: 参 加 料 | M30: =IF(女子入力画面!F9="","",女子入力画面!F9) | N30: 円
C31: 申込日： | D31: =IF(女子入力画面!C10="","",女子入力画面!C10)
I32: =IF(女子入力画面!C2="","",女子入力画面!C2) | K32: ウエイトリフティング協会会長 | M32: =IF(女子入力画面!C3="","",女子入力画面!C3) &" 印" -> 印
B33: 公益社団法人日本ウエイトリフティング協会 会長 | F33: 三宅 義行 様 | I33: 全日本学生 | K33: ウエイトリフティング連盟会長 | M33: =IF(女子入力画面!M12="","",女子入力画面!M12) -> 年齢

Sheet ２女子申込用紙(９～18）
C1: 令和元年度・JOC ジュニアオリンピックカップ | N1: 女 子
C2: 第４０回全日本ジュニアウエイトリフティング選手権大会 参加申込書 | N2: 様式2－2
B4: 都道府県名 | C4: =IF(女子入力画面!C2="","",女子入力画面!C2) | D4: 事務連絡者 | E4: =IF(女子入力画面!C4="","",女子入力画面!C4) | F4: 連絡先住所 | G4: =IF(女子入力画面!C5="","",女子入力画面!C5) | L4: 電話 （ ） | M4: =IF(女子入力画面!C6="","",女子入力画面!C6)
L5: PCﾒｰﾙｱﾄﾞﾚｽ | M5: =IF(女子入力画面!C7="","",女子入力画面!C7)
B6: 階 級 | C6: ふ り が な | D6: 2019年度 | E6: 西暦生年月日 | F6: 2018・2019年度の公式競技会での最高記録 | J6: 現 住 所 | M6: ふ り が な | N6: 出身高校
C7: 氏 名 | D7: 登 録 番 号 | F7: 大会名(期日） | G7: スナッチ | H7: ジャーク | I7: トータル | M7: 所 属 | N7: 都道府県
A8: 例 | B8: =IF(女子入力画面!D13="","",女子入力画面!D13) -> 55㎏級 | C8: =IF(女子入力画面!F13="","",女子入力画面!F13) -> にっぽん はなこ | D8: =IF(女子入力画面!I13="","",女子入力画面!I13) -> 20505 | E8: =IF(女子入力画面!J13="","",女子入力画面!J13) -> 36527 | F8: =IF(女子入力画面!T13="","",女子入力画面!T13) -> 第11回全日本女子選抜 | G8: =IF(女子入力画面!Q13="","",女子入力画面!Q13) -> 80㎏ | H8: =IF(女子入力画面!R13="","",女子入力画面!R13) -> 112㎏ | I8: =IF(女子入力画面!S13="","",女子入力画面!S13) -> 192㎏ | J8: =IF(女子入力画面!V13="","",女子入力画面!V13) -> 大阪府 | M8: =IF(女子入力画面!H13="","",女子入力画面!H13) -> れいわだいがく | N8: =IF(女子入力画面!W13="","",女子入力画面!W13) -> 兵庫県
C9: =IF(女子入力画面!E13="","",女子入力画面!E13) -> 日本 花子 | F9: =IF(女子入力画面!U13="","",女子入力画面!U13) -> 43791 | M9: =IF(女子入力画面!G13="","",女子入力画面!G13) -> 令和大学
A10: 1 | B10: =IF(女子入力画面!D23="","",女子入力画面!D23) | C10: =IF(女子入力画面!F23="","",女子入力画面!F23) | D10: =IF(女子入力画面!I23="","",女子入力画面!I23) | E10: =IF(女子入力画面!J23="","",女子入力画面!J23) | F10: =IF(女子入力画面!T23="","",女子入力画面!T23) | G10: =IF(女子入力画面!Q23="","",女子入力画面!Q23) | H10: =IF(女子入力画面!R23="","",女子入力画面!R23) | I10: =IF(女子入力画面!S23="","",女子入力画面!S23) | J10: =IF(女子入力画面!V23="","",女子入力画面!V23) | M10: =IF(女子入力画面!H23="","",女子入力画面!H23) | N10: =IF(女子入力画面!W23="","",女子入力画面!W23)
C11: =IF(女子入力画面!E23="","",女子入力画面!E23) | F11: =IF(女子入力画面!U23="","",女子入力画面!U23) | M11: =IF(女子入力画面!G23="","",女子入力画面!G23)
A12: 2 | B12: =IF(女子入力画面!D24="","",女子入力画面!D24) | C12: =IF(女子入力画面!F24="","",女子入力画面!F24) | D12: =IF(女子入力画面!I24="","",女子入力画面!I24) | E12: =IF(女子入力画面!J24="","",女子入力画面!J24) | F12: =IF(女子入力画面!T24="","",女子入力画面!T24) | G12: =IF(女子入力画面!Q24="","",女子入力画面!Q24) | H12: =IF(女子入力画面!R24="","",女子入力画面!R24) | I12: =IF(女子入力画面!S24="","",女子入力画面!S24) | J12: =IF(女子入力画面!V24="","",女子入力画面!V24) | M12: =IF(女子入力画面!H24="","",女子入力画面!H24) | N12: =IF(女子入力画面!W24="","",女子入力画面!W24)
C13: =IF(女子入力画面!E24="","",女子入力画面!E24) | F13: =IF(女子入力画面!U24="","",女子入力画面!U24) | M13: =IF(女子入力画面!G24="","",女子入力画面!G24)
A14: 3 | B14: =IF(女子入力画面!D25="","",女子入力画面!D25) | C14: =IF(女子入力画面!F25="","",女子入力画面!F25) | D14: =IF(女子入力画面!I25="","",女子入力画面!I25) | E14: =IF(女子入力画面!J25="","",女子入力画面!J25) | F14: =IF(女子入力画面!T25="","",女子入力画面!T25) | G14: =IF(女子入力画面!Q25="","",女子入力画面!Q25) | H14: =IF(女子入力画面!R25="","",女子入力画面!R25) | I14: =IF(女子入力画面!S25="","",女子入力画面!S25) | J14: =IF(女子入力画面!V25="","",女子入力画面!V25) | M14: =IF(女子入力画面!H25="","",女子入力画面!H25) | N14: =IF(女子入力画面!W25="","",女子入力画面!W25)
C15: =IF(女子入力画面!E25="","",女子入力画面!E25) | F15: =IF(女子入力画面!U25="","",女子入力画面!U25) | M15: =IF(女子入力画面!G25="","",女子入力画面!G25)
A16: 4 | B16: =IF(女子入力画面!D26="","",女子入力画面!D26) | C16: =IF(女子入力画面!F26="","",女子入力画面!F26) | D16: =IF(女子入力画面!I26="","",女子入力画面!I26) | E16: =IF(女子入力画面!J26="","",女子入力画面!J26) | F16: =IF(女子入力画面!T26="","",女子入力画面!T26) | G16: =IF(女子入力画面!Q26="","",女子入力画面!Q26) | H16: =IF(女子入力画面!R26="","",女子入力画面!R26) | I16: =IF(女子入力画面!S26="","",女子入力画面!S26) | J16: =IF(女子入力画面!V26="","",女子入力画面!V26) | M16: =IF(女子入力画面!H26="","",女子入力画面!H26) | N16: =IF(女子入力画面!W26="","",女子入力画面!W26)
C17: =IF(女子入力画面!E26="","",女子入力画面!E26) | F17: =IF(女子入力画面!U26="","",女子入力画面!U26) | M17: =IF(女子入力画面!G26="","",女子入力画面!G26)
A18: 5 | B18: =IF(女子入力画面!D27="","",女子入力画面!D27) | C18: =IF(女子入力画面!F27="","",女子入力画面!F27) | D18: =IF(女子入力画面!I27="","",女子入力画面!I27) | E18: =IF(女子入力画面!J27="","",女子入力画面!J27) | F18: =IF(女子入力画面!T27="","",女子入力画面!T27) | G18: =IF(女子入力画面!Q27="","",女子入力画面!Q27) | H18: =IF(女子入力画面!R27="","",女子入力画面!R27) | I18: =IF(女子入力画面!S27="","",女子入力画面!S27) | J18: =IF(女子入力画面!V27="","",女子入力画面!V27) | M18: =IF(女子入力画面!H27="","",女子入力画面!H27) | N18: =IF(女子入力画面!W27="","",女子入力画面!W27)
C19: =IF(女子入力画面!E27="","",女子入力画面!E27) | F19: =IF(女子入力画面!U27="","",女子入力画面!U27) | M19: =IF(女子入力画面!G27="","",女子入力画面!G27)
A20: 6 | B20: =IF(女子入力画面!D28="","",女子入力画面!D28) | C20: =IF(女子入力画面!F28="","",女子入力画面!F28) | D20: =IF(女子入力画面!I28="","",女子入力画面!I28) | E20: =IF(女子入力画面!J28="","",女子入力画面!J28) | F20: =IF(女子入力画面!T28="","",女子入力画面!T28) | G20: =IF(女子入力画面!Q28="","",女子入力画面!Q28) | H20: =IF(女子入力画面!R28="","",女子入力画面!R28) | I20: =IF(女子入力画面!S28="","",女子入力画面!S28) | J20: =IF(女子入力画面!V28="","",女子入力画面!V28) | M20: =IF(女子入力画面!H28="","",女子入力画面!H28) | N20: =IF(女子入力画面!W28="","",女子入力画面!W28)
C21: =IF(女子入力画面!E28="","",女子入力画面!E28) | F21: =IF(女子入力画面!U28="","",女子入力画面!U28) | M21: =IF(女子入力画面!G28="","",女子入力画面!G28)
A22: 7 | B22: =IF(女子入力画面!D29="","",女子入力画面!D29) | C22: =IF(女子入力画面!F29="","",女子入力画面!F29) | D22: =IF(女子入力画面!I29="","",女子入力画面!I29) | E22: =IF(女子入力画面!J29="","",女子入力画面!J29) | F22: =IF(女子入力画面!T29="","",女子入力画面!T29) | G22: =IF(女子入力画面!Q29="","",女子入力画面!Q29) | H22: =IF(女子入力画面!R29="","",女子入力画面!R29) | I22: =IF(女子入力画面!S29="","",女子入力画面!S29) | J22: =IF(女子入力画面!V29="","",女子入力画面!V29) | M22: =IF(女子入力画面!H29="","",女子入力画面!H29) | N22: =IF(女子入力画面!W29="","",女子入力画面!W29)
C23: =IF(女子入力画面!E29="","",女子入力画面!E29) | F23: =IF(女子入力画面!U29="","",女子入力画面!U29) | M23: =IF(女子入力画面!G29="","",女子入力画面!G29)
A24: 8 | B24: =IF(女子入力画面!D30="","",女子入力画面!D30) | C24: =IF(女子入力画面!F30="","",女子入力画面!F30) | D24: =IF(女子入力画面!I30="","",女子入力画面!I30) | E24: =IF(女子入力画面!J30="","",女子入力画面!J30) | F24: =IF(女子入力画面!T30="","",女子入力画面!T30) | G24: =IF(女子入力画面!Q30="","",女子入力画面!Q30) | H24: =IF(女子入力画面!R30="","",女子入力画面!R30) | I24: =IF(女子入力画面!S30="","",女子入力画面!S30) | J24: =IF(女子入力画面!V30="","",女子入力画面!V30) | M24: =IF(女子入力画面!H30="","",女子入力画面!H30) | N24: =IF(女子入力画面!W30="","",女子入力画面!W30)
C25: =IF(女子入力画面!E30="","",女子入力画面!E30) | F25: =IF(女子入力画面!U30="","",女子入力画面!U30) | M25: =IF(女子入力画面!G30="","",女子入力画面!G30)
A26: 9 | B26: =IF(女子入力画面!D31="","",女子入力画面!D31) | C26: =IF(女子入力画面!F31="","",女子入力画面!F31) | D26: =IF(女子入力画面!I31="","",女子入力画面!I31) | E26: =IF(女子入力画面!J31="","",女子入力画面!J31) | F26: =IF(女子入力画面!T31="","",女子入力画面!T31) | G26: =IF(女子入力画面!Q31="","",女子入力画面!Q31) | H26: =IF(女子入力画面!R31="","",女子入力画面!R31) | I26: =IF(女子入力画面!S31="","",女子入力画面!S31) | J26: =IF(女子入力画面!V31="","",女子入力画面!V31) | M26: =IF(女子入力画面!H31="","",女子入力画面!H31) | N26: =IF(女子入力画面!W31="","",女子入力画面!W31)
C27: =IF(女子入力画面!E31="","",女子入力画面!E31) | F27: =IF(女子入力画面!U31="","",女子入力画面!U31) | M27: =IF(女子入力画面!G31="","",女子入力画面!G31)
B29: 上記の者は、標記大会実施要項の規程に適確で健康上にも支障がないので、参加料振込み用紙の写しを添えて申し込みます。 | L29: 記載責任者 | M29: =IF(女子入力画面!C8="","",女子入力画面!C8)
L30: 参 加 料 | M30: =IF(女子入力画面!F9="","",女子入力画面!F9) | N30: 円
C31: 申込日： | D31: =IF(女子入力画面!C10="","",女子入力画面!C10)
I32: =IF(女子入力画面!C2="","",女子入力画面!C2) | K32: ウエイトリフティング協会会長 | M32: =IF(女子入力画面!C3="","",女子入力画面!C3) &" 印" -> 印
B33: 公益社団法人日本ウエイトリフティング協会 会長 | F33: 三宅 義行 様 | I33: 全日本学生 | K33: ウエイトリフティング連盟会長 | M33: =IF(女子入力画面!M12="","",女子入力画面!M12) -> 年齢
