Workbook

Sheet 女子入力
B1: 女子選手入力画面
B3: 事務局関係の入力 | I3: 記入例
B4: 都道府県名 | E4: 都道府県を記入。学連は、全日本学生と記載する | I4: 都道府県名 | J4: 東京都
B5: 会長名 | E5: 姓と名の間、スペース（1字）を入れる | I5: 会長名 | J5: 浅草 太郎
B6: 事務連絡者 | E6: 姓と名の間、スペース（１字）を入れる | I6: 事務連絡者 | J6: 品川 二郎
B7: 郵便番号(〒) | E7: 半角数字（例：123-4567） | I7: 郵便番号(〒) | J7: 123-456
B8: 連絡先住所 | E8: 連絡通知等の送付先 | I8: 連絡先 | J8: 東京都世田谷区駒沢公園１
B9: 電話 | E9: 半角数字（例：03-111-3333） | I9: 電話 | J9: 03-111-2222
B10: ファクス | E10: 半角数字（例：03-111-2222） | I10: ファクス | J10: 03-111-2223
B11: メールアドレス | E11: 半角英数字（例：aiueo@yahoo.co.jp) | I11: メールアドレス | J11: abcdefg@･･･.･･
B12: 参加人数 | D12: 名 | E12: 参加人数を半角記入 | I12: 参加人数 | J12: 1 | K12: 名
B13: 参加料 | C13: =IF(C12="","",C12*10000) | D13: 円 | E13: 直接入力しない。（人数×10,000円を自動計算表示される。） | I13: 参加料 | J13: =IF(J12="","",J12*10000) -> 10000 | K13: 円
B14: 申込日 | E14: 西暦で記入（例：2020/4/25）→2020年4月25日と自動自動 | I14: 申込日 | J14: 44124
B15: 記載責任者 | E15: 姓と名の間、スペース（１字）入れる | I15: 記載責任者 | J15: 新宿 さくら
C17: 参加選手データ入力欄 | E17: ドロップダウン入力
A18: 女子階級 | B18: 入力方法 | D18: № | E18: 階級 | F18: 氏名 | G18: ふりがな | H18: 所属名 | I18: ふりがな | J18: 都道府県 | K18: 登録番号 | L18: 生年月日 | M18: 大会名 | N18: 大会期日 | O18: スナッチ | P18: ジャーク | Q18: トータル | R18: 現住所
B19: 女子入力シートで記入したものが女子様式(1),(2）に反映される。 | D19: 例 | E19: 49 | F19: 東京 花子 | G19: とうきょう はなこ | H19: 五輪商会 | I19: ごりんしょうかい | J19: 東京都 | K19: 00056789 | L19: 36000 | M19: 第74回国民体育大会 | N19: 43743 | O19: 75 | P19: 95 | Q19: =IF(O19="","",O19+P19) -> 170 | R19: 東京都世田谷区
A20: 45 | B20: (様式シートに直接入力しない。保護あり） | D20: 1 | Q20: =IF(O20="","",O20+P20)
A21: 49 | B21: １ はじめに、事務局関係を入力する。 | D21: 2 | Q21: =IF(O21="","",O21+P21)
A22: 55 | B22: ・ スペース右の指示に従って記入する。 | D22: 3 | Q22: =IF(O22="","",O22+P22)
A23: 59 | B23: （№1～8は様式１、9～18は様式2に反映） | D23: 4 | Q23: =IF(O23="","",O23+P23)
A24: 64 | B24: ２ 参加選手データ入力 | D24: 5 | Q24: =IF(O24="","",O24+P24)
A25: 71 | B25: ・ 階級は、ドロップダウン(セルの▼をクリック）入力。 | D25: 6 | Q25: =IF(O25="","",O25+P25)
A26: 76 | B26: ・ 氏名は、姓と名の間にスペース(1字）入れる | D26: 7 | Q26: =IF(O26="","",O26+P26)
A27: 81 | B27: ・ ふりがなは、姓と名の間にスペース(1字)入れる | D27: 8 | Q27: =IF(O27="","",O27+P27)
A28: 87 | B28: ・ 所属名で、学校関係者等の役職(教）・(職）も記入する | D28: 9 | Q28: =IF(O28="","",O28+P28)
A29: ＋87 | B29: ・ 都道府県は、大学生は出身地を記載する | D29: 10 | Q29: =IF(O29="","",O29+P29)
B30: ・ 登録番号は、半角で記入する。文字入力なので「0」から記入 | D30: 11 | Q30: =IF(O30="","",O30+P30)
B31: ・ 生年月日は、西暦で記入。 | D31: 12 | Q31: =IF(O31="","",O31+P31)
B32: ・ 大会名は、簡略して記入(ｳｴｲﾄﾘﾌﾃｨﾃｨﾝｸﾞ等は省く） | D32: 13 | Q32: =IF(O32="","",O32+P32)
B33: ・ 大会期日は、出場した日を西暦から記入する | D33: 14 | Q33: =IF(O33="","",O33+P33)
B34: ・ 記録欄は、ｽﾅｯﾁとｼﾞｬｰｸを入れるとﾄｰﾀﾙは計算される | D34: 15 | Q34: =IF(O34="","",O34+P34)
B35: ・ 現住所は、都道府県・市区町村までの記入 | D35: 16 | Q35: =IF(O35="","",O35+P35)
B36: ３ 提出方法 (要項の指定箇所に下記の通り送る）
B37: ・ 女子様式を印刷し、会長印を捺印して郵送する
B38: ・ メールにて、ブック全体をそのまま送信する。(会長印不要）

Sheet 女子記入例
Q1: 女 子
C2: 令和２年度 第３４回全日本女子ウエイトリフティング選手権大会 参加申込書 | L2: 訂正版 | Q2: 様 式 ２ 号
B4: 都道府県 学連名 | D4: =IF(女子入力!J4="","",女子入力!J4) -> 東京都 | E4: 事務連絡者 | F4: =IF(女子入力!J6="","",女子入力!J6) -> 品川 二郎 | G4: 連絡先住所 | H4: 〒 | I4: =IF(女子入力!J8="","",女子入力!J8) -> 東京都世田谷区駒沢公園１ | N4: 電話 | P4: =IF(女子入力!J9="","",女子入力!J9) -> 03-111-2222
H5: =IF(女子入力!J7="","",女子入力!J7) -> 123-456 | N5: FAX | P5: =IF(女子入力!J10="","",女子入力!J10) -> 03-111-2223
N6: メールアドレス | P6: =IF(女子入力!J11="","",女子入力!J11) -> abcdefg@･･･.･･
A8: № | B8: 階 級 | D8: ふ り が な | E8: ふりがな | G8: 都道府県名 | H8: 生年月日（西暦） | I8: 平成30年度以降の公式競技会での最高記録 | P8: 現 住 所
D9: 氏 名 | E9: 所 属 名 | H9: 登録番号 | I9: 大会名(上段)及び期日(下段) | J9: スナッチ | L9: ジャーク | N9: トータル
A10: 1 | B10: =IF(女子入力!E19="","",女子入力!E19) -> 49 | C10: ㎏級 | D10: =IF(女子入力!G19="","",女子入力!G19) -> とうきょう はなこ | E10: =IF(女子入力!I19="","",女子入力!I19) -> ごりんしょうかい | G10: =IF(女子入力!J19="","",女子入力!J19) -> 東京都 | H10: =IF(女子入力!L19="","",女子入力!L19) -> 36000 | I10: =IF(女子入力!M19="","",女子入力!M19) -> 第74回国民体育大会 | J10: =IF(女子入力!O19="","",女子入力!O19) -> 75 | K10: ㎏ | L10: =IF(女子入力!P19="","",女子入力!P19) -> 95 | M10: ㎏ | N10: =IF(女子入力!Q19="","",女子入力!Q19) -> 170 | O10: ㎏ | P10: =IF(女子入力!R19="","",女子入力!R19) -> 東京都世田谷区
D11: =IF(女子入力!F19="","",女子入力!F19) -> 東京 花子 | E11: =IF(女子入力!H19="","",女子入力!H19) -> 五輪商会 | H11: =女子入力!K19 -> 00056789 | I11: =IF(女子入力!N19="","",女子入力!N19) -> 43743
A12: 2
H13: =IF(女子入力!K21="","",女子入力!K21)
A14: 3
H15: =IF(女子入力!K22="","",女子入力!K22)
A16: 4
H17: =IF(女子入力!K23="","",女子入力!K23)
A18: 5
H19: =IF(女子入力!K24="","",女子入力!K24)
A20: 6
H21: =IF(女子入力!K25="","",女子入力!K25)
A22: 7
H23: =IF(女子入力!K26="","",女子入力!K26)
A24: 8
H25: =IF(女子入力!K27="","",女子入力!K27)
B27: 上記の者は、標記大会実施要項の規定に適確で健康上にも支障がないので、参加申し込みいたします。 | M27: 記 載 責 任 者 | Q27: =IF(女子入力!J15="","",女子入力!J15) -> 新宿 さくら | R27: =IF(#REF!="","",#REF!) -> #REF!
M28: 参加料 | O28: =IF(女子入力!J12="","",女子入力!J12) -> 1 | P28: 名分 | Q28: =IF(女子入力!J13="","",女子入力!J13) -> 10000 | R28: 円
D29: 申込日： | E29: =IF(女子入力!J14="","",女子入力!J14) -> 44124
M30: =IF(女子入力!J4="","",女子入力!J4) -> 東京都 | P30: ウエイトリフティング | R30: =IF(M30="全日本学生","連盟","協会") -> 協会
C31: 公益社団法人 日本ウエイトリフティング協会会長 三宅 義行 様 | M31: 会 長 | O31: =IF(女子入力!J5="","",女子入力!J5) -> 浅草 太郎 | R31: 印
M32: 注意：Eメールで送信する際は捺印不要です。
B36: ２．所属が学校の際は、教諭、職員の区分がわかるように所属の後に括弧書きで（教）又は（職）を表記して下さい。

Sheet 女子様式(1)直接入力不可
Q1: 女 子
C2: 令和２年度 第３４回全日本女子ウエイトリフティング選手権大会 参加申込書 | L2: 訂正版 | Q2: 様 式 ２ 号
B4: 都道府県 学連名 | D4: =IF(女子入力!C4="","",女子入力!C4) | E4: 事務連絡者 | F4: =IF(女子入力!C6="","",女子入力!C6) | G4: 連絡先住所 | H4: 〒 | I4: =IF(女子入力!C8="","",女子入力!C8) | N4: 電話 | P4: =IF(女子入力!C9="","",女子入力!C9)
H5: =IF(女子入力!C7="","",女子入力!C7) | N5: FAX | P5: =IF(女子入力!C10="","",女子入力!C10)
N6: メールアドレス | P6: =IF(女子入力!C11="","",女子入力!C11)
A8: № | B8: 階 級 | D8: ふ り が な | E8: ふりがな | G8: 都道府県名 | H8: 生年月日 （西暦） | I8: 平成30年度以降の公式競技会での最高記録 | P8: 現 住 所
D9: 氏 名 | E9: 所 属 名 | H9: 登録番号 | I9: 大会名(上段)及び期日(下段) | J9: スナッチ | L9: ジャーク | N9: トータル
A10: 1 | B10: =IF(女子入力!E20="","",女子入力!E20) | C10: ㎏級 | D10: =IF(女子入力!G20="","",女子入力!G20) | E10: =IF(女子入力!I20="","",女子入力!I20) | G10: =IF(女子入力!J20="","",女子入力!J20) | H10: =IF(女子入力!L20="","",女子入力!L20) | I10: =IF(女子入力!M20="","",女子入力!M20) | J10: =IF(女子入力!O20="","",女子入力!O20) | K10: ㎏ | L10: =IF(女子入力!P20="","",女子入力!P20) | M10: ㎏ | N10: =IF(女子入力!Q20="","",女子入力!Q20) | O10: ㎏ | P10: =IF(女子入力!R20="","",女子入力!R20)
D11: =IF(女子入力!F20="","",女子入力!F20) | E11: =IF(女子入力!H20="","",女子入力!H20) | H11: =IF(女子入力!K20="","",女子入力!K20) | I11: =IF(女子入力!N20="","",女子入力!N20)
A12: 2 | B12: =IF(女子入力!E21="","",女子入力!E21) | C12: ㎏級 | D12: =IF(女子入力!G21="","",女子入力!G21) | E12: =IF(女子入力!I21="","",女子入力!I21) | G12: =IF(女子入力!J21="","",女子入力!J21) | H12: =IF(女子入力!L21="","",女子入力!L21) | I12: =IF(女子入力!M21="","",女子入力!M21) | J12: =IF(女子入力!O21="","",女子入力!O21) | K12: ㎏ | L12: =IF(女子入力!P21="","",女子入力!P21) | M12: ㎏ | N12: =IF(女子入力!Q21="","",女子入力!Q21) | O12: ㎏ | P12: =IF(女子入力!R21="","",女子入力!R21)
D13: =IF(女子入力!F21="","",女子入力!F21) | E13: =IF(女子入力!H21="","",女子入力!H21) | H13: =IF(女子入力!K21="","",女子入力!K21) | I13: =IF(女子入力!N21="","",女子入力!N21)
A14: 3 | B14: =IF(女子入力!E22="","",女子入力!E22) | C14: ㎏級 | D14: =IF(女子入力!G22="","",女子入力!G22) | E14: =IF(女子入力!I22="","",女子入力!I22) | G14: =IF(女子入力!J22="","",女子入力!J22) | H14: =IF(女子入力!L22="","",女子入力!L22) | I14: =IF(女子入力!M22="","",女子入力!M22) | J14: =IF(女子入力!O22="","",女子入力!O22) | K14: ㎏ | L14: =IF(女子入力!P22="","",女子入力!P22) | M14: ㎏ | N14: =IF(女子入力!Q22="","",女子入力!Q22) | O14: ㎏ | P14: =IF(女子入力!R22="","",女子入力!R22)
D15: =IF(女子入力!F22="","",女子入力!F22) | E15: =IF(女子入力!H22="","",女子入力!H22) | H15: =IF(女子入力!K22="","",女子入力!K22) | I15: =IF(女子入力!N22="","",女子入力!N22)
A16: 4 | B16: =IF(女子入力!E23="","",女子入力!E23) | C16: ㎏級 | D16: =IF(女子入力!G23="","",女子入力!G23) | E16: =IF(女子入力!I23="","",女子入力!I23) | G16: =IF(女子入力!J23="","",女子入力!J23) | H16: =IF(女子入力!L23="","",女子入力!L23) | I16: =IF(女子入力!M23="","",女子入力!M23) | J16: =IF(女子入力!O23="","",女子入力!O23) | K16: ㎏ | L16: =IF(女子入力!P23="","",女子入力!P23) | M16: ㎏ | N16: =IF(女子入力!Q23="","",女子入力!Q23) | O16: ㎏ | P16: =IF(女子入力!R23="","",女子入力!R23)
D17: =IF(女子入力!F23="","",女子入力!F23) | E17: =IF(女子入力!H23="","",女子入力!H23) | H17: =IF(女子入力!K23="","",女子入力!K23) | I17: =IF(女子入力!N23="","",女子入力!N23)
A18: 5 | B18: =IF(女子入力!E24="","",女子入力!E24) | C18: ㎏級 | D18: =IF(女子入力!G24="","",女子入力!G24) | E18: =IF(女子入力!I24="","",女子入力!I24) | G18: =IF(女子入力!J24="","",女子入力!J24) | H18: =IF(女子入力!L24="","",女子入力!L24) | I18: =IF(女子入力!M24="","",女子入力!M24) | J18: =IF(女子入力!O24="","",女子入力!O24) | K18: ㎏ | L18: =IF(女子入力!P24="","",女子入力!P24) | M18: ㎏ | N18: =IF(女子入力!Q24="","",女子入力!Q24) | O18: ㎏ | P18: =IF(女子入力!R24="","",女子入力!R24)
D19: =IF(女子入力!F24="","",女子入力!F24) | E19: =IF(女子入力!H24="","",女子入力!H24) | H19: =IF(女子入力!K24="","",女子入力!K24) | I19: =IF(女子入力!N24="","",女子入力!N24)
A20: 6 | B20: =IF(女子入力!E25="","",女子入力!E25) | C20: ㎏級 | D20: =IF(女子入力!G25="","",女子入力!G25) | E20: =IF(女子入力!I25="","",女子入力!I25) | G20: =IF(女子入力!J25="","",女子入力!J25) | H20: =IF(女子入力!L25="","",女子入力!L25) | I20: =IF(女子入力!M25="","",女子入力!M25) | J20: =IF(女子入力!O25="","",女子入力!O25) | K20: ㎏ | L20: =IF(女子入力!P25="","",女子入力!P25) | M20: ㎏ | N20: =IF(女子入力!Q25="","",女子入力!Q25) | O20: ㎏ | P20: =IF(女子入力!R25="","",女子入力!R25)
D21: =IF(女子入力!F25="","",女子入力!F25) | E21: =IF(女子入力!H25="","",女子入力!H25) | H21: =IF(女子入力!K25="","",女子入力!K25) | I21: =IF(女子入力!N25="","",女子入力!N25)
A22: 7 | B22: =IF(女子入力!E26="","",女子入力!E26) | C22: ㎏級 | D22: =IF(女子入力!G26="","",女子入力!G26) | E22: =IF(女子入力!I26="","",女子入力!I26) | G22: =IF(女子入力!J26="","",女子入力!J26) | H22: =IF(女子入力!L26="","",女子入力!L26) | I22: =IF(女子入力!M26="","",女子入力!M26) | J22: =IF(女子入力!O26="","",女子入力!O26) | K22: ㎏ | L22: =IF(女子入力!P26="","",女子入力!P26) | M22: ㎏ | N22: =IF(女子入力!Q26="","",女子入力!Q26) | O22: ㎏ | P22: =IF(女子入力!R26="","",女子入力!R26)
D23: =IF(女子入力!F26="","",女子入力!F26) | E23: =IF(女子入力!H26="","",女子入力!H26) | H23: =IF(女子入力!K26="","",女子入力!K26) | I23: =IF(女子入力!N26="","",女子入力!N26)
A24: 8 | B24: =IF(女子入力!E27="","",女子入力!E27) | C24: ㎏級 | D24: =IF(女子入力!G27="","",女子入力!G27) | E24: =IF(女子入力!I27="","",女子入力!I27) | G24: =IF(女子入力!J27="","",女子入力!J27) | H24: =IF(女子入力!L27="","",女子入力!L27) | I24: =IF(女子入力!M27="","",女子入力!M27) | J24: =IF(女子入力!O27="","",女子入力!O27) | K24: ㎏ | L24: =IF(女子入力!P27="","",女子入力!P27) | M24: ㎏ | N24: =IF(女子入力!Q27="","",女子入力!Q27) | O24: ㎏ | P24: =IF(女子入力!R27="","",女子入力!R27)
D25: =IF(女子入力!F27="","",女子入力!F27) | E25: =IF(女子入力!H27="","",女子入力!H27) | H25: =IF(女子入力!K27="","",女子入力!K27) | I25: =IF(女子入力!N27="","",女子入力!N27)
B27: 上記の者は、標記大会実施要項の規定に適確で健康上にも支障がないので、参加申し込みいたします。 | M27: 記 載 責 任 者 | Q27: =IF(女子入力!C15="","",女子入力!C15) | R27: =IF(#REF!="","",#REF!) -> #REF!
M28: 参加料 | O28: =IF(女子入力!C12="","",女子入力!C12) | P28: 名分 | Q28: =IF(女子入力!C13="","",女子入力!C13) | R28: 円
D29: 申込日： | E29: =IF(女子入力!C14="","",女子入力!C14)
M30: =IF(女子入力!C4="","",女子入力!C4) | P30: ウエイトリフティング | R30: =IF(M30="全日本学生","連盟","協会") -> 協会
C31: 公益社団法人 日本ウエイトリフティング協会会長 三宅 義行 様 | M31: 会 長 | O31: =IF(女子入力!C5="","",女子入力!C5) | R31: 印
M32: 注意：Eメールで送信する際は捺印不要です。

Sheet 女子様式(2)直接入力不可
Q1: 女 子
C2: 令和２年度 第３４回全日本女子ウエイトリフティング選手権大会 参加申込書 | L2: 訂正版 | Q2: 様 式 ２ 号 - 2
B4: 都道府県 学連名 | D4: =IF(女子入力!C4="","",女子入力!C4) | E4: 事務連絡者 | F4: =IF(女子入力!C6="","",女子入力!C6) | G4: 連絡先住所 | H4: 〒 | I4: =IF(女子入力!C8="","",女子入力!C8) | N4: 電話 | P4: =IF(女子入力!C9="","",女子入力!C9)
H5: =IF(女子入力!C7="","",女子入力!C7) | N5: FAX | P5: =IF(女子入力!C10="","",女子入力!C10)
N6: メールアドレス | P6: =IF(女子入力!C11="","",女子入力!C11)
A8: № | B8: 階 級 | D8: ふ り が な | E8: ふりがな | G8: 都道府県名 | H8: 生年月日 （西暦） | I8: 平成30年度以降の公式競技会での最高記録 | P8: 現 住 所
D9: 氏 名 | E9: 所 属 名 | H9: 登録番号 | I9: 大会名(上段)及び期日(下段) | J9: スナッチ | L9: ジャーク | N9: トータル
A10: 9 | B10: =IF(女子入力!E28="","",女子入力!E28) | C10: ㎏級 | D10: =IF(女子入力!G28="","",女子入力!G28) | E10: =IF(女子入力!I28="","",女子入力!I28) | G10: =IF(女子入力!J28="","",女子入力!J28) | H10: =IF(女子入力!L28="","",女子入力!L28) | I10: =IF(女子入力!M28="","",女子入力!M28) | J10: =IF(女子入力!O28="","",女子入力!O28) | K10: ㎏ | L10: =IF(女子入力!P28="","",女子入力!P28) | M10: ㎏ | N10: =IF(女子入力!Q28="","",女子入力!Q28) | O10: ㎏ | P10: =IF(女子入力!R28="","",女子入力!R28)
D11: =IF(女子入力!F28="","",女子入力!F28) | E11: =IF(女子入力!H28="","",女子入力!H28) | H11: =IF(女子入力!K28="","",女子入力!K28) | I11: =IF(女子入力!N28="","",女子入力!N28)
A12: 10 | B12: =IF(女子入力!E29="","",女子入力!E29) | C12: ㎏級 | D12: =IF(女子入力!G29="","",女子入力!G29) | E12: =IF(女子入力!I29="","",女子入力!I29) | G12: =IF(女子入力!J29="","",女子入力!J29) | H12: =IF(女子入力!L29="","",女子入力!L29) | I12: =IF(女子入力!M29="","",女子入力!M29) | J12: =IF(女子入力!O29="","",女子入力!O29) | K12: ㎏ | L12: =IF(女子入力!P29="","",女子入力!P29) | M12: ㎏ | N12: =IF(女子入力!Q29="","",女子入力!Q29) | O12: ㎏ | P12: =IF(女子入力!R29="","",女子入力!R29)
D13: =IF(女子入力!F29="","",女子入力!F29) | E13: =IF(女子入力!H29="","",女子入力!H29) | H13: =IF(女子入力!K29="","",女子入力!K29) | I13: =IF(女子入力!N29="","",女子入力!N29)
A14: 11 | B14: =IF(女子入力!E30="","",女子入力!E30) | C14: ㎏級 | D14: =IF(女子入力!G30="","",女子入力!G30) | E14: =IF(女子入力!I30="","",女子入力!I30) | G14: =IF(女子入力!J30="","",女子入力!J30) | H14: =IF(女子入力!L30="","",女子入力!L30) | I14: =IF(女子入力!M30="","",女子入力!M30) | J14: =IF(女子入力!O30="","",女子入力!O30) | K14: ㎏ | L14: =IF(女子入力!P30="","",女子入力!P30) | M14: ㎏ | N14: =IF(女子入力!Q30="","",女子入力!Q30) | O14: ㎏ | P14: =IF(女子入力!R30="","",女子入力!R30)
D15: =IF(女子入力!F30="","",女子入力!F30) | E15: =IF(女子入力!H30="","",女子入力!H30) | H15: =IF(女子入力!K30="","",女子入力!K30) | I15: =IF(女子入力!N30="","",女子入力!N30)
A16: 12 | B16: =IF(女子入力!E31="","",女子入力!E31) | C16: ㎏級 | D16: =IF(女子入力!G31="","",女子入力!G31) | E16: =IF(女子入力!I31="","",女子入力!I31) | G16: =IF(女子入力!J31="","",女子入力!J31) | H16: =IF(女子入力!L31="","",女子入力!L31) | I16: =IF(女子入力!M31="","",女子入力!M31) | J16: =IF(女子入力!O31="","",女子入力!O31) | K16: ㎏ | L16: =IF(女子入力!P31="","",女子入力!P31) | M16: ㎏ | N16: =IF(女子入力!Q31="","",女子入力!Q31) | O16: ㎏ | P16: =IF(女子入力!R31="","",女子入力!R31)
D17: =IF(女子入力!F31="","",女子入力!F31) | E17: =IF(女子入力!H31="","",女子入力!H31) | H17: =IF(女子入力!K31="","",女子入力!K31) | I17: =IF(女子入力!N31="","",女子入力!N31)
A18: 13 | B18: =IF(女子入力!E32="","",女子入力!E32) | C18: ㎏級 | D18: =IF(女子入力!G32="","",女子入力!G32) | E18: =IF(女子入力!I32="","",女子入力!I32) | G18: =IF(女子入力!J32="","",女子入力!J32) | H18: =IF(女子入力!L32="","",女子入力!L32) | I18: =IF(女子入力!M32="","",女子入力!M32) | J18: =IF(女子入力!O32="","",女子入力!O32) | K18: ㎏ | L18: =IF(女子入力!P32="","",女子入力!P32) | M18: ㎏ | N18: =IF(女子入力!Q32="","",女子入力!Q32) | O18: ㎏ | P18: =IF(女子入力!R32="","",女子入力!R32)
D19: =IF(女子入力!F32="","",女子入力!F32) | E19: =IF(女子入力!H32="","",女子入力!H32) | H19: =IF(女子入力!K32="","",女子入力!K32) | I19: =IF(女子入力!N32="","",女子入力!N32)
A20: 14 | B20: =IF(女子入力!E33="","",女子入力!E33) | C20: ㎏級 | D20: =IF(女子入力!G33="","",女子入力!G33) | E20: =IF(女子入力!I33="","",女子入力!I33) | G20: =IF(女子入力!J33="","",女子入力!J33) | H20: =IF(女子入力!L33="","",女子入力!L33) | I20: =IF(女子入力!M33="","",女子入力!M33) | J20: =IF(女子入力!O33="","",女子入力!O33) | K20: ㎏ | L20: =IF(女子入力!P33="","",女子入力!P33) | M20: ㎏ | N20: =IF(女子入力!Q33="","",女子入力!Q33) | O20: ㎏ | P20: =IF(女子入力!R33="","",女子入力!R33)
D21: =IF(女子入力!F33="","",女子入力!F33) | E21: =IF(女子入力!H33="","",女子入力!H33) | H21: =IF(女子入力!K33="","",女子入力!K33) | I21: =IF(女子入力!N33="","",女子入力!N33)
A22: 15 | B22: =IF(女子入力!E34="","",女子入力!E34) | C22: ㎏級 | D22: =IF(女子入力!G34="","",女子入力!G34) | E22: =IF(女子入力!I34="","",女子入力!I34) | G22: =IF(女子入力!J34="","",女子入力!J34) | H22: =IF(女子入力!L34="","",女子入力!L34) | I22: =IF(女子入力!M34="","",女子入力!M34) | J22: =IF(女子入力!O34="","",女子入力!O34) | K22: ㎏ | L22: =IF(女子入力!P34="","",女子入力!P34) | M22: ㎏ | N22: =IF(女子入力!Q34="","",女子入力!Q34) | O22: ㎏ | P22: =IF(女子入力!R34="","",女子入力!R34)
D23: =IF(女子入力!F34="","",女子入力!F34) | E23: =IF(女子入力!H34="","",女子入力!H34) | H23: =IF(女子入力!K34="","",女子入力!K34) | I23: =IF(女子入力!N34="","",女子入力!N34)
A24: 16 | B24: =IF(女子入力!E35="","",女子入力!E35) | C24: ㎏級 | D24: =IF(女子入力!G35="","",女子入力!G35) | E24: =IF(女子入力!I35="","",女子入力!I35) | G24: =IF(女子入力!J35="","",女子入力!J35) | H24: =IF(女子入力!L35="","",女子入力!L35) | I24: =IF(女子入力!M35="","",女子入力!M35) | J24: =IF(女子入力!O35="","",女子入力!O35) | K24: ㎏ | L24: =IF(女子入力!P35="","",女子入力!P35) | M24: ㎏ | N24: =IF(女子入力!Q35="","",女子入力!Q35) | O24: ㎏ | P24: =IF(女子入力!R35="","",女子入力!R35)
D25: =IF(女子入力!F35="","",女子入力!F35) | E25: =IF(女子入力!H35="","",女子入力!H35) | H25: =IF(女子入力!K35="","",女子入力!K35) | I25: =IF(女子入力!N35="","",女子入力!N35)
B27: 上記の者は、標記大会実施要項の規定に適確で健康上にも支障がないので、参加申し込みいたします。 | M27: 記 載 責 任 者 | Q27: =IF(女子入力!C15="","",女子入力!C15) | R27: =IF(#REF!="","",#REF!) -> #REF!
M28: 参加料 | O28: =IF(女子入力!C12="","",女子入力!C12) | P28: 名分 | Q28: =IF(女子入力!C13="","",女子入力!C13) | R28: 円
D29: 申込日： | E29: =IF(女子入力!C14="","",女子入力!C14)
M30: =IF(女子入力!C4="","",女子入力!C4) | P30: ウエイトリフティング | R30: =IF(M30="全日本学生","連盟","協会") -> 協会
C31: 公益社団法人 日本ウエイトリフティング協会会長 三宅 義行 様 | M31: 会 長 | O31: =IF(女子入力!C5="","",女子入力!C5) | R31: 印
M32: 注意：Eメールで送信する際は捺印不要です。

Sheet Sheet1
