Workbook

Sheet 入力エリア
A1: ★参加申込書作成方法
A2: １ 記載責任者等欄を記入する
A3: ２ 選手情報欄を例に習って記入する
A4: ３ 「参加申込書1-15」シートの左上、宛先欄を選択する
A5: ４ 必要な参加申込シートを印刷する
A6: ５ 以下３を繰り返す
A8: 【記載責任者等】
A9: 大会名 | B9: 令和２年度全国中学生ウエイトリフティング競技通信記録会
A10: 申請月日 | C10: 月 | E10: 日
A11: 都道府県名 | C11: 記載責任者氏名 | F11: 所属学校名 | G11: =B11&"ウエイトリフティング協会" -> ウエイトリフティング協会 | I11: 〒 | K11: 住所
A12: 記載責任者携帯番号 | D12: メールアドレス
A13: =B11&"ウエイトリフティング協会会長名" -> ウエイトリフティング協会会長名
A15: 【選手情報】
B16: 都道府県名 | C16: 学校名 | D16: 氏名 | E16: ふりがな | F16: 生年月日 | G16: 学年 | H16: JWA登録番号 | I16: 競技会名 | J16: 競技会期日 | K16: 性別 | L16: 階級 | M16: ベスト | P16: 保護者の同意 | Q16: 入力
M17: スナッチ | N17: C&ジャーク | O17: T | R17: 北海道 | S17: 男子 | T17: 55
A18: 例 | B18: =IF(D18="","",$B$11) -> 0 | C18: ××中学校 | D18: 京都 太郎 | E18: きょうと たろう | F18: 38808 | G18: 3 | H18: 00000000 | I18: ××大会 | J18: 44101 | K18: 男子 | L18: 102 | M18: 100 | N18: 120 | O18: =IF(M18="","",M18+N18) -> 220 | P18: 〇 | Q18: =IF(D18="","","〇") -> 〇 | R18: 青森県 | S18: 女子 | T18: 61
A19: 1 | B19: =IF(D19="","",$B$11) | Q19: =IF(D19="","","〇") | R19: 秋田県 | T19: 67
A20: 2 | B20: =IF(D20="","",$B$11) | O20: =IF(M20="","",M20+N20) | Q20: =IF(D20="","","〇") | R20: 岩手県 | S20: 〇 | T20: 73
A21: 3 | B21: =IF(D21="","",$B$11) | O21: =IF(M21="","",M21+N21) | Q21: =IF(D21="","","〇") | R21: 山形県 | S21: × | T21: 81
A22: 4 | B22: =IF(D22="","",$B$11) | O22: =IF(M22="","",M22+N22) | Q22: =IF(D22="","","〇") | R22: 宮城県 | T22: 89
A23: 5 | B23: =IF(D23="","",$B$11) | O23: =IF(M23="","",M23+N23) | Q23: =IF(D23="","","〇") | R23: 福島県 | S23: 1 | T23: 96
A24: 6 | B24: =IF(D24="","",$B$11) | O24: =IF(M24="","",M24+N24) | Q24: =IF(D24="","","〇") | R24: 茨城県 | S24: 2 | T24: 102
A25: 7 | B25: =IF(D25="","",$B$11) | O25: =IF(M25="","",M25+N25) | Q25: =IF(D25="","","〇") | R25: 栃木県 | S25: 3 | T25: +102
A26: 8 | B26: =IF(D26="","",$B$11) | O26: =IF(M26="","",M26+N26) | Q26: =IF(D26="","","〇") | R26: 群馬県
A27: 9 | B27: =IF(D27="","",$B$11) | O27: =IF(M27="","",M27+N27) | Q27: =IF(D27="","","〇") | R27: 千葉県 | T27: 45
A28: 10 | B28: =IF(D28="","",$B$11) | O28: =IF(M28="","",M28+N28) | Q28: =IF(D28="","","〇") | R28: 埼玉県 | T28: 49
A29: 11 | B29: =IF(D29="","",$B$11) | O29: =IF(M29="","",M29+N29) | Q29: =IF(D29="","","〇") | R29: 東京都 | T29: 55
A30: 12 | B30: =IF(D30="","",$B$11) | O30: =IF(M30="","",M30+N30) | Q30: =IF(D30="","","〇") | R30: 神奈川県 | T30: 59
A31: 13 | B31: =IF(D31="","",$B$11) | O31: =IF(M31="","",M31+N31) | Q31: =IF(D31="","","〇") | R31: 山梨県 | T31: 64
A32: 14 | B32: =IF(D32="","",$B$11) | O32: =IF(M32="","",M32+N32) | Q32: =IF(D32="","","〇") | R32: 長野県 | T32: 71
A33: 15 | B33: =IF(D33="","",$B$11) | O33: =IF(M33="","",M33+N33) | Q33: =IF(D33="","","〇") | R33: 新潟県 | T33: 76
A34: 16 | B34: =IF(D34="","",$B$11) | O34: =IF(M34="","",M34+N34) | Q34: =IF(D34="","","〇") | R34: 富山県 | T34: +76
A35: 17 | B35: =IF(D35="","",$B$11) | O35: =IF(M35="","",M35+N35) | Q35: =IF(D35="","","〇") | R35: 石川県
A36: 18 | B36: =IF(D36="","",$B$11) | O36: =IF(M36="","",M36+N36) | Q36: =IF(D36="","","〇") | R36: 福井県
A37: 19 | B37: =IF(D37="","",$B$11) | O37: =IF(M37="","",M37+N37) | Q37: =IF(D37="","","〇") | R37: 静岡県
A38: 20 | B38: =IF(D38="","",$B$11) | O38: =IF(M38="","",M38+N38) | Q38: =IF(D38="","","〇") | R38: 愛知県
A39: 21 | B39: =IF(D39="","",$B$11) | O39: =IF(M39="","",M39+N39) | Q39: =IF(D39="","","〇") | R39: 岐阜県
A40: 22 | B40: =IF(D40="","",$B$11) | O40: =IF(M40="","",M40+N40) | Q40: =IF(D40="","","〇") | R40: 三重県
A41: 23 | B41: =IF(D41="","",$B$11) | O41: =IF(M41="","",M41+N41) | Q41: =IF(D41="","","〇") | R41: 滋賀県
A42: 24 | B42: =IF(D42="","",$B$11) | O42: =IF(M42="","",M42+N42) | Q42: =IF(D42="","","〇") | R42: 京都府
...

Sheet 参加申込書1-15
H3: =入力エリア!B9 -> 令和２年度全国中学生ウエイトリフティング競技通信記録会
D4: 様式1
C7: 参加申込書
E12: =IF(入力エリア!Q64="〇","4",IF(入力エリア!Q49="〇","3",IF(入力エリア!Q34="〇","2","1"))) -> 1 | F12: 枚中
K14: 日本協会 宛
G15: 1 | I15: 枚目
BB17: 日本協会 宛
D18: 都道府県名 | K18: 記載責任者氏名 | R18: 協会名 | AF18: 所在地 | AR18: 電話番号 | BB18: 全国中学生通信記録会実行委員会 宛
BB19: 申込者控
D20: =入力エリア!B11 -> 0 | K20: =入力エリア!D11 -> 0 | R20: =入力エリア!G11 -> ウエイトリフティング協会 | AF20: 〒 | AG20: =入力エリア!J11 -> 0 | AR20: =入力エリア!B12 -> 0
AF22: =入力エリア!L11 -> 0
D27: Ｎｏ | F27: 性別 | H27: 階 級 | L27: ふりがな | S27: 日本協会登録番号 | AG27: 学 校 名 | AL27: 競技会記録 | AR27: 競技会名 | AY27: 保護者の同意
L28: 氏 名 | S28: 学年 | X28: 生年月日 | AL28: スナッチ | AN28: ジャーク | AP28: トータル | AR28: 競技会期日
D30: 1 | F30: =IF(AZ30=0,"",VLOOKUP(D30,入力エリア!$A$19:$P$78,11,FALSE)) | H30: =IF(AZ30=0,"",VLOOKUP(D30,入力エリア!$A$19:$P$78,12,FALSE)) | K30: kg級 | L30: =IF(AZ30=0,"",VLOOKUP(D30,入力エリア!$A$19:$P$78,5,)) | S30: =IF(AZ30=0,"",VLOOKUP(D30,入力エリア!$A$19:$P$78,8,FALSE)) | AG30: =IF(AZ30=0,"",VLOOKUP(D30,入力エリア!$A$19:$O$78,3,FALSE)) | AL30: =IF(AZ30=0,"",VLOOKUP(D30,入力エリア!$A$19:$O$78,13,FALSE)) | AN30: =IF(AZ30=0,"",VLOOKUP(D30,入力エリア!$A$19:$O$78,14,FALSE)) | AP30: =IF(AZ30=0,"",VLOOKUP(D30,入力エリア!$A$19:$O$78,15,FALSE)) | AR30: =IF(AZ30=0,"",VLOOKUP(D30,入力エリア!$A$19:$O$78,9,FALSE)) | AY30: =IF(AZ30=0,"",VLOOKUP(D30,入力エリア!$A$19:$P$78,16,TRUE)) | AZ30: =VLOOKUP(D30,入力エリア!$A$19:$P$79,16,FALSE) -> 0
L31: =IF(AZ30=0,"",VLOOKUP(D30,入力エリア!$A$19:$P$78,4,)) | T31: =IF(AZ30=0,"",VLOOKUP(D30,入力エリア!$A$19:$O$78,7,FALSE)) | V31: 学年 | X31: =IF(AZ30=0,"",VLOOKUP(D30,入力エリア!$A$19:$O$78,6,FALSE)) | AR31: =IF(AZ30=0,"",VLOOKUP(D30,入力エリア!$A$19:$O$78,10,FALSE)) | AZ31: =IF(AT30=0,"",VLOOKUP(AR30,入力エリア!$A$19:$P$78,4,))
D32: 2 | F32: =IF(AZ32=0,"",VLOOKUP(D32,入力エリア!$A$19:$P$78,11,FALSE)) | H32: =IF(AZ32=0,"",VLOOKUP(D32,入力エリア!$A$19:$P$78,12,FALSE)) | K32: kg級 | L32: =IF(AZ32=0,"",VLOOKUP(D32,入力エリア!$A$19:$P$78,5,)) | S32: =IF(AZ32=0,"",VLOOKUP(D32,入力エリア!$A$19:$P$78,8,FALSE)) | AG32: =IF(AZ32=0,"",VLOOKUP(D32,入力エリア!$A$19:$O$78,3,FALSE)) | AL32: =IF(AZ32=0,"",VLOOKUP(D32,入力エリア!$A$19:$O$78,13,FALSE)) | AN32: =IF(AZ32=0,"",VLOOKUP(D32,入力エリア!$A$19:$O$78,14,FALSE)) | AP32: =IF(AZ32=0,"",VLOOKUP(D32,入力エリア!$A$19:$O$78,15,FALSE)) | AR32: =IF(AZ32=0,"",VLOOKUP(D32,入力エリア!$A$19:$O$78,9,FALSE)) | AY32: =IF(AZ32=0,"",VLOOKUP(D32,入力エリア!$A$19:$P$78,16,TRUE)) | AZ32: =VLOOKUP(D32,入力エリア!$A$19:$P$79,16,FALSE) -> 0
L33: =IF(AZ32=0,"",VLOOKUP(D32,入力エリア!$A$19:$P$78,4,)) | T33: =IF(AZ32=0,"",VLOOKUP(D32,入力エリア!$A$19:$O$78,7,FALSE)) | V33: 学年 | X33: =IF(AZ32=0,"",VLOOKUP(D32,入力エリア!$A$19:$O$78,6,FALSE)) | AR33: =IF(AZ32=0,"",VLOOKUP(D32,入力エリア!$A$19:$O$78,10,FALSE)) | AZ33: =IF(AT32=0,"",VLOOKUP(AR32,入力エリア!$A$19:$P$78,4,))
D34: 3 | F34: =IF(AZ34=0,"",VLOOKUP(D34,入力エリア!$A$19:$P$78,11,FALSE)) | H34: =IF(AZ34=0,"",VLOOKUP(D34,入力エリア!$A$19:$P$78,12,FALSE)) | K34: kg級 | L34: =IF(AZ34=0,"",VLOOKUP(D34,入力エリア!$A$19:$P$78,5,)) | S34: =IF(AZ34=0,"",VLOOKUP(D34,入力エリア!$A$19:$P$78,8,FALSE)) | AG34: =IF(AZ34=0,"",VLOOKUP(D34,入力エリア!$A$19:$O$78,3,FALSE)) | AL34: =IF(AZ34=0,"",VLOOKUP(D34,入力エリア!$A$19:$O$78,13,FALSE)) | AN34: =IF(AZ34=0,"",VLOOKUP(D34,入力エリア!$A$19:$O$78,14,FALSE)) | AP34: =IF(AZ34=0,"",VLOOKUP(D34,入力エリア!$A$19:$O$78,15,FALSE)) | AR34: =IF(AZ34=0,"",VLOOKUP(D34,入力エリア!$A$19:$O$78,9,FALSE)) | AY34: =IF(AZ34=0,"",VLOOKUP(D34,入力エリア!$A$19:$P$78,16,TRUE)) | AZ34: =VLOOKUP(D34,入力エリア!$A$19:$P$79,16,FALSE) -> 0
L35: =IF(AZ34=0,"",VLOOKUP(D34,入力エリア!$A$19:$P$78,4,)) | T35: =IF(AZ34=0,"",VLOOKUP(D34,入力エリア!$A$19:$O$78,7,FALSE)) | V35: 学年 | X35: =IF(AZ34=0,"",VLOOKUP(D34,入力エリア!$A$19:$O$78,6,FALSE)) | AR35: =IF(AZ34=0,"",VLOOKUP(D34,入力エリア!$A$19:$O$78,10,FALSE)) | AZ35: =IF(AT34=0,"",VLOOKUP(AR34,入力エリア!$A$19:$P$78,4,))
D36: 4 | F36: =IF(AZ36=0,"",VLOOKUP(D36,入力エリア!$A$19:$P$78,11,FALSE)) | H36: =IF(AZ36=0,"",VLOOKUP(D36,入力エリア!$A$19:$P$78,12,FALSE)) | K36: kg級 | L36: =IF(AZ36=0,"",VLOOKUP(D36,入力エリア!$A$19:$P$78,5,)) | S36: =IF(AZ36=0,"",VLOOKUP(D36,入力エリア!$A$19:$P$78,8,FALSE)) | AG36: =IF(AZ36=0,"",VLOOKUP(D36,入力エリア!$A$19:$O$78,3,FALSE)) | AL36: =IF(AZ36=0,"",VLOOKUP(D36,入力エリア!$A$19:$O$78,13,FALSE)) | AN36: =IF(AZ36=0,"",VLOOKUP(D36,入力エリア!$A$19:$O$78,14,FALSE)) | AP36: =IF(AZ36=0,"",VLOOKUP(D36,入力エリア!$A$19:$O$78,15,FALSE)) | AR36: =IF(AZ36=0,"",VLOOKUP(D36,入力エリア!$A$19:$O$78,9,FALSE)) | AY36: =IF(AZ36=0,"",VLOOKUP(D36,入力エリア!$A$19:$P$78,16,TRUE)) | AZ36: =VLOOKUP(D36,入力エリア!$A$19:$P$79,16,FALSE) -> 0
L37: =IF(AZ36=0,"",VLOOKUP(D36,入力エリア!$A$19:$P$78,4,)) | T37: =IF(AZ36=0,"",VLOOKUP(D36,入力エリア!$A$19:$O$78,7,FALSE)) | V37: 学年 | X37: =IF(AZ36=0,"",VLOOKUP(D36,入力エリア!$A$19:$O$78,6,FALSE)) | AR37: =IF(AZ36=0,"",VLOOKUP(D36,入力エリア!$A$19:$O$78,10,FALSE)) | AZ37: =IF(AT36=0,"",VLOOKUP(AR36,入力エリア!$A$19:$P$78,4,))
D38: 5 | F38: =IF(AZ38=0,"",VLOOKUP(D38,入力エリア!$A$19:$P$78,11,FALSE)) | H38: =IF(AZ38=0,"",VLOOKUP(D38,入力エリア!$A$19:$P$78,12,FALSE)) | K38: kg級 | L38: =IF(AZ38=0,"",VLOOKUP(D38,入力エリア!$A$19:$P$78,5,)) | S38: =IF(AZ38=0,"",VLOOKUP(D38,入力エリア!$A$19:$P$78,8,FALSE)) | AG38: =IF(AZ38=0,"",VLOOKUP(D38,入力エリア!$A$19:$O$78,3,FALSE)) | AL38: =IF(AZ38=0,"",VLOOKUP(D38,入力エリア!$A$19:$O$78,13,FALSE)) | AN38: =IF(AZ38=0,"",VLOOKUP(D38,入力エリア!$A$19:$O$78,14,FALSE)) | AP38: =IF(AZ38=0,"",VLOOKUP(D38,入力エリア!$A$19:$O$78,15,FALSE)) | AR38: =IF(AZ38=0,"",VLOOKUP(D38,入力エリア!$A$19:$O$78,9,FALSE)) | AY38: =IF(AZ38=0,"",VLOOKUP(D38,入力エリア!$A$19:$P$78,16,TRUE)) | AZ38: =VLOOKUP(D38,入力エリア!$A$19:$P$79,16,FALSE) -> 0
L39: =IF(AZ38=0,"",VLOOKUP(D38,入力エリア!$A$19:$P$78,4,)) | T39: =IF(AZ38=0,"",VLOOKUP(D38,入力エリア!$A$19:$O$78,7,FALSE)) | V39: 学年 | X39: =IF(AZ38=0,"",VLOOKUP(D38,入力エリア!$A$19:$O$78,6,FALSE)) | AR39: =IF(AZ38=0,"",VLOOKUP(D38,入力エリア!$A$19:$O$78,10,FALSE)) | AZ39: =IF(AT38=0,"",VLOOKUP(AR38,入力エリア!$A$19:$P$78,4,))
D40: 6 | F40: =IF(AZ40=0,"",VLOOKUP(D40,入力エリア!$A$19:$P$78,11,FALSE)) | H40: =IF(AZ40=0,"",VLOOKUP(D40,入力エリア!$A$19:$P$78,12,FALSE)) | K40: kg級 | L40: =IF(AZ40=0,"",VLOOKUP(D40,入力エリア!$A$19:$P$78,5,)) | S40: =IF(AZ40=0,"",VLOOKUP(D40,入力エリア!$A$19:$P$78,8,FALSE)) | AG40: =IF(AZ40=0,"",VLOOKUP(D40,入力エリア!$A$19:$O$78,3,FALSE)) | AL40: =IF(AZ40=0,"",VLOOKUP(D40,入力エリア!$A$19:$O$78,13,FALSE)) | AN40: =IF(AZ40=0,"",VLOOKUP(D40,入力エリア!$A$19:$O$78,14,FALSE)) | AP40: =IF(AZ40=0,"",VLOOKUP(D40,入力エリア!$A$19:$O$78,15,FALSE)) | AR40: =IF(AZ40=0,"",VLOOKUP(D40,入力エリア!$A$19:$O$78,9,FALSE)) | AY40: =IF(AZ40=0,"",VLOOKUP(D40,入力エリア!$A$19:$P$78,16,TRUE)) | AZ40: =VLOOKUP(D40,入力エリア!$A$19:$P$79,16,FALSE) -> 0
L41: =IF(AZ40=0,"",VLOOKUP(D40,入力エリア!$A$19:$P$78,4,)) | T41: =IF(AZ40=0,"",VLOOKUP(D40,入力エリア!$A$19:$O$78,7,FALSE)) | V41: 学年 | X41: =IF(AZ40=0,"",VLOOKUP(D40,入力エリア!$A$19:$O$78,6,FALSE)) | AR41: =IF(AZ40=0,"",VLOOKUP(D40,入力エリア!$A$19:$O$78,10,FALSE)) | AZ41: =IF(AT40=0,"",VLOOKUP(AR40,入力エリア!$A$19:$P$78,4,))
D42: 7 | F42: =IF(AZ42=0,"",VLOOKUP(D42,入力エリア!$A$19:$P$78,11,FALSE)) | H42: =IF(AZ42=0,"",VLOOKUP(D42,入力エリア!$A$19:$P$78,12,FALSE)) | K42: kg級 | L42: =IF(AZ42=0,"",VLOOKUP(D42,入力エリア!$A$19:$P$78,5,)) | S42: =IF(AZ42=0,"",VLOOKUP(D42,入力エリア!$A$19:$P$78,8,FALSE)) | AG42: =IF(AZ42=0,"",VLOOKUP(D42,入力エリア!$A$19:$O$78,3,FALSE)) | AL42: =IF(AZ42=0,"",VLOOKUP(D42,入力エリア!$A$19:$O$78,13,FALSE)) | AN42: =IF(AZ42=0,"",VLOOKUP(D42,入力エリア!$A$19:$O$78,14,FALSE)) | AP42: =IF(AZ42=0,"",VLOOKUP(D42,入力エリア!$A$19:$O$78,15,FALSE)) | AR42: =IF(AZ42=0,"",VLOOKUP(D42,入力エリア!$A$19:$O$78,9,FALSE)) | AY42: =IF(AZ42=0,"",VLOOKUP(D42,入力エリア!$A$19:$P$78,16,TRUE)) | AZ42: =VLOOKUP(D42,入力エリア!$A$19:$P$79,16,FALSE) -> 0
L43: =IF(AZ42=0,"",VLOOKUP(D42,入力エリア!$A$19:$P$78,4,)) | T43: =IF(AZ42=0,"",VLOOKUP(D42,入力エリア!$A$19:$O$78,7,FALSE)) | V43: 学年 | X43: =IF(AZ42=0,"",VLOOKUP(D42,入力エリア!$A$19:$O$78,6,FALSE)) | AR43: =IF(AZ42=0,"",VLOOKUP(D42,入力エリア!$A$19:$O$78,10,FALSE)) | AZ43: =IF(AT42=0,"",VLOOKUP(AR42,入力エリア!$A$19:$P$78,4,))
D44: 8 | F44: =IF(AZ44=0,"",VLOOKUP(D44,入力エリア!$A$19:$P$78,11,FALSE)) | H44: =IF(AZ44=0,"",VLOOKUP(D44,入力エリア!$A$19:$P$78,12,FALSE)) | K44: kg級 | L44: =IF(AZ44=0,"",VLOOKUP(D44,入力エリア!$A$19:$P$78,5,)) | S44: =IF(AZ44=0,"",VLOOKUP(D44,入力エリア!$A$19:$P$78,8,FALSE)) | AG44: =IF(AZ44=0,"",VLOOKUP(D44,入力エリア!$A$19:$O$78,3,FALSE)) | AL44: =IF(AZ44=0,"",VLOOKUP(D44,入力エリア!$A$19:$O$78,13,FALSE)) | AN44: =IF(AZ44=0,"",VLOOKUP(D44,入力エリア!$A$19:$O$78,14,FALSE)) | AP44: =IF(AZ44=0,"",VLOOKUP(D44,入力エリア!$A$19:$O$78,15,FALSE)) | AR44: =IF(AZ44=0,"",VLOOKUP(D44,入力エリア!$A$19:$O$78,9,FALSE)) | AY44: =IF(AZ44=0,"",VLOOKUP(D44,入力エリア!$A$19:$P$78,16,TRUE)) | AZ44: =VLOOKUP(D44,入力エリア!$A$19:$P$79,16,FALSE) -> 0
L45: =IF(AZ44=0,"",VLOOKUP(D44,入力エリア!$A$19:$P$78,4,)) | T45: =IF(AZ44=0,"",VLOOKUP(D44,入力エリア!$A$19:$O$78,7,FALSE)) | V45: 学年 | X45: =IF(AZ44=0,"",VLOOKUP(D44,入力エリア!$A$19:$O$78,6,FALSE)) | AR45: =IF(AZ44=0,"",VLOOKUP(D44,入力エリア!$A$19:$O$78,10,FALSE)) | AZ45: =IF(AT44=0,"",VLOOKUP(AR44,入力エリア!$A$19:$P$78,4,))
D46: 9 | F46: =IF(AZ46=0,"",VLOOKUP(D46,入力エリア!$A$19:$P$78,11,FALSE)) | H46: =IF(AZ46=0,"",VLOOKUP(D46,入力エリア!$A$19:$P$78,12,FALSE)) | K46: kg級 | L46: =IF(AZ46=0,"",VLOOKUP(D46,入力エリア!$A$19:$P$78,5,)) | S46: =IF(AZ46=0,"",VLOOKUP(D46,入力エリア!$A$19:$P$78,8,FALSE)) | AG46: =IF(AZ46=0,"",VLOOKUP(D46,入力エリア!$A$19:$O$78,3,FALSE)) | AL46: =IF(AZ46=0,"",VLOOKUP(D46,入力エリア!$A$19:$O$78,13,FALSE)) | AN46: =IF(AZ46=0,"",VLOOKUP(D46,入力エリア!$A$19:$O$78,14,FALSE)) | AP46: =IF(AZ46=0,"",VLOOKUP(D46,入力エリア!$A$19:$O$78,15,FALSE)) | AR46: =IF(AZ46=0,"",VLOOKUP(D46,入力エリア!$A$19:$O$78,9,FALSE)) | AY46: =IF(AZ46=0,"",VLOOKUP(D46,入力エリア!$A$19:$P$78,16,TRUE)) | AZ46: =VLOOKUP(D46,入力エリア!$A$19:$P$79,16,FALSE) -> 0
L47: =IF(AZ46=0,"",VLOOKUP(D46,入力エリア!$A$19:$P$78,4,)) | T47: =IF(AZ46=0,"",VLOOKUP(D46,入力エリア!$A$19:$O$78,7,FALSE)) | V47: 学年 | X47: =IF(AZ46=0,"",VLOOKUP(D46,入力エリア!$A$19:$O$78,6,FALSE)) | AR47: =IF(AZ46=0,"",VLOOKUP(D46,入力エリア!$A$19:$O$78,10,FALSE)) | AZ47: =IF(AT46=0,"",VLOOKUP(AR46,入力エリア!$A$19:$P$78,4,))
D48: 10 | F48: =IF(AZ48=0,"",VLOOKUP(D48,入力エリア!$A$19:$P$78,11,FALSE)) | H48: =IF(AZ48=0,"",VLOOKUP(D48,入力エリア!$A$19:$P$78,12,FALSE)) | K48: kg級 | L48: =IF(AZ48=0,"",VLOOKUP(D48,入力エリア!$A$19:$P$78,5,)) | S48: =IF(AZ48=0,"",VLOOKUP(D48,入力エリア!$A$19:$P$78,8,FALSE)) | AG48: =IF(AZ48=0,"",VLOOKUP(D48,入力エリア!$A$19:$O$78,3,FALSE)) | AL48: =IF(AZ48=0,"",VLOOKUP(D48,入力エリア!$A$19:$O$78,13,FALSE)) | AN48: =IF(AZ48=0,"",VLOOKUP(D48,入力エリア!$A$19:$O$78,14,FALSE)) | AP48: =IF(AZ48=0,"",VLOOKUP(D48,入力エリア!$A$19:$O$78,15,FALSE)) | AR48: =IF(AZ48=0,"",VLOOKUP(D48,入力エリア!$A$19:$O$78,9,FALSE)) | AY48: =IF(AZ48=0,"",VLOOKUP(D48,入力エリア!$A$19:$P$78,16,TRUE)) | AZ48: =VLOOKUP(D48,入力エリア!$A$19:$P$79,16,FALSE) -> 0
L49: =IF(AZ48=0,"",VLOOKUP(D48,入力エリア!$A$19:$P$78,4,)) | T49: =IF(AZ48=0,"",VLOOKUP(D48,入力エリア!$A$19:$O$78,7,FALSE)) | V49: 学年 | X49: =IF(AZ48=0,"",VLOOKUP(D48,入力エリア!$A$19:$O$78,6,FALSE)) | AR49: =IF(AZ48=0,"",VLOOKUP(D48,入力エリア!$A$19:$O$78,10,FALSE)) | AZ49: =IF(AT48=0,"",VLOOKUP(AR48,入力エリア!$A$19:$P$78,4,))
D50: 11 | F50: =IF(AZ50=0,"",VLOOKUP(D50,入力エリア!$A$19:$P$78,11,FALSE)) | H50: =IF(AZ50=0,"",VLOOKUP(D50,入力エリア!$A$19:$P$78,12,FALSE)) | K50: kg級 | L50: =IF(AZ50=0,"",VLOOKUP(D50,入力エリア!$A$19:$P$78,5,)) | S50: =IF(AZ50=0,"",VLOOKUP(D50,入力エリア!$A$19:$P$78,8,FALSE)) | AG50: =IF(AZ50=0,"",VLOOKUP(D50,入力エリア!$A$19:$O$78,3,FALSE)) | AL50: =IF(AZ50=0,"",VLOOKUP(D50,入力エリア!$A$19:$O$78,13,FALSE)) | AN50: =IF(AZ50=0,"",VLOOKUP(D50,入力エリア!$A$19:$O$78,14,FALSE)) | AP50: =IF(AZ50=0,"",VLOOKUP(D50,入力エリア!$A$19:$O$78,15,FALSE)) | AR50: =IF(AZ50=0,"",VLOOKUP(D50,入力エリア!$A$19:$O$78,9,FALSE)) | AY50: =IF(AZ50=0,"",VLOOKUP(D50,入力エリア!$A$19:$P$78,16,TRUE)) | AZ50: =VLOOKUP(D50,入力エリア!$A$19:$P$79,16,FALSE) -> 0
L51: =IF(AZ50=0,"",VLOOKUP(D50,入力エリア!$A$19:$P$78,4,)) | T51: =IF(AZ50=0,"",VLOOKUP(D50,入力エリア!$A$19:$O$78,7,FALSE)) | V51: 学年 | X51: =IF(AZ50=0,"",VLOOKUP(D50,入力エリア!$A$19:$O$78,6,FALSE)) | AR51: =IF(AZ50=0,"",VLOOKUP(D50,入力エリア!$A$19:$O$78,10,FALSE)) | AZ51: =IF(AT50=0,"",VLOOKUP(AR50,入力エリア!$A$19:$P$78,4,))
D52: 12 | F52: =IF(AZ52=0,"",VLOOKUP(D52,入力エリア!$A$19:$P$78,11,FALSE)) | H52: =IF(AZ52=0,"",VLOOKUP(D52,入力エリア!$A$19:$P$78,12,FALSE)) | K52: kg級 | L52: =IF(AZ52=0,"",VLOOKUP(D52,入力エリア!$A$19:$P$78,5,)) | S52: =IF(AZ52=0,"",VLOOKUP(D52,入力エリア!$A$19:$P$78,8,FALSE)) | AG52: =IF(AZ52=0,"",VLOOKUP(D52,入力エリア!$A$19:$O$78,3,FALSE)) | AL52: =IF(AZ52=0,"",VLOOKUP(D52,入力エリア!$A$19:$O$78,13,FALSE)) | AN52: =IF(AZ52=0,"",VLOOKUP(D52,入力エリア!$A$19:$O$78,14,FALSE)) | AP52: =IF(AZ52=0,"",VLOOKUP(D52,入力エリア!$A$19:$O$78,15,FALSE)) | AR52: =IF(AZ52=0,"",VLOOKUP(D52,入力エリア!$A$19:$O$78,9,FALSE)) | AY52: =IF(AZ52=0,"",VLOOKUP(D52,入力エリア!$A$19:$P$78,16,TRUE)) | AZ52: =VLOOKUP(D52,入力エリア!$A$19:$P$79,16,FALSE) -> 0
L53: =IF(AZ52=0,"",VLOOKUP(D52,入力エリア!$A$19:$P$78,4,)) | T53: =IF(AZ52=0,"",VLOOKUP(D52,入力エリア!$A$19:$O$78,7,FALSE)) | V53: 学年 | X53: =IF(AZ52=0,"",VLOOKUP(D52,入力エリア!$A$19:$O$78,6,FALSE)) | AR53: =IF(AZ52=0,"",VLOOKUP(D52,入力エリア!$A$19:$O$78,10,FALSE)) | AZ53: =IF(AT52=0,"",VLOOKUP(AR52,入力エリア!$A$19:$P$78,4,))
D54: 13 | F54: =IF(AZ54=0,"",VLOOKUP(D54,入力エリア!$A$19:$P$78,11,FALSE)) | H54: =IF(AZ54=0,"",VLOOKUP(D54,入力エリア!$A$19:$P$78,12,FALSE)) | K54: kg級 | L54: =IF(AZ54=0,"",VLOOKUP(D54,入力エリア!$A$19:$P$78,5,)) | S54: =IF(AZ54=0,"",VLOOKUP(D54,入力エリア!$A$19:$P$78,8,FALSE)) | AG54: =IF(AZ54=0,"",VLOOKUP(D54,入力エリア!$A$19:$O$78,3,FALSE)) | AL54: =IF(AZ54=0,"",VLOOKUP(D54,入力エリア!$A$19:$O$78,13,FALSE)) | AN54: =IF(AZ54=0,"",VLOOKUP(D54,入力エリア!$A$19:$O$78,14,FALSE)) | AP54: =IF(AZ54=0,"",VLOOKUP(D54,入力エリア!$A$19:$O$78,15,FALSE)) | AR54: =IF(AZ54=0,"",VLOOKUP(D54,入力エリア!$A$19:$O$78,9,FALSE)) | AY54: =IF(AZ54=0,"",VLOOKUP(D54,入力エリア!$A$19:$P$78,16,TRUE)) | AZ54: =VLOOKUP(D54,入力エリア!$A$19:$P$79,16,FALSE) -> 0
L55: =IF(AZ54=0,"",VLOOKUP(D54,入力エリア!$A$19:$P$78,4,)) | T55: =IF(AZ54=0,"",VLOOKUP(D54,入力エリア!$A$19:$O$78,7,FALSE)) | V55: 学年 | X55: =IF(AZ54=0,"",VLOOKUP(D54,入力エリア!$A$19:$O$78,6,FALSE)) | AR55: =IF(AZ54=0,"",VLOOKUP(D54,入力エリア!$A$19:$O$78,10,FALSE)) | AZ55: =IF(AT54=0,"",VLOOKUP(AR54,入力エリア!$A$19:$P$78,4,))
D56: 14 | F56: =IF(AZ56=0,"",VLOOKUP(D56,入力エリア!$A$19:$P$78,11,FALSE)) | H56: =IF(AZ56=0,"",VLOOKUP(D56,入力エリア!$A$19:$P$78,12,FALSE)) | K56: kg級 | L56: =IF(AZ56=0,"",VLOOKUP(D56,入力エリア!$A$19:$P$78,5,)) | S56: =IF(AZ56=0,"",VLOOKUP(D56,入力エリア!$A$19:$P$78,8,FALSE)) | AG56: =IF(AZ56=0,"",VLOOKUP(D56,入力エリア!$A$19:$O$78,3,FALSE)) | AL56: =IF(AZ56=0,"",VLOOKUP(D56,入力エリア!$A$19:$O$78,13,FALSE)) | AN56: =IF(AZ56=0,"",VLOOKUP(D56,入力エリア!$A$19:$O$78,14,FALSE)) | AP56: =IF(AZ56=0,"",VLOOKUP(D56,入力エリア!$A$19:$O$78,15,FALSE)) | AR56: =IF(AZ56=0,"",VLOOKUP(D56,入力エリア!$A$19:$O$78,9,FALSE)) | AY56: =IF(AZ56=0,"",VLOOKUP(D56,入力エリア!$A$19:$P$78,16,TRUE)) | AZ56: =VLOOKUP(D56,入力エリア!$A$19:$P$79,16,FALSE) -> 0
...

Sheet 参加申込書16-30
H3: =入力エリア!B9 -> 令和２年度全国中学生ウエイトリフティング競技通信記録会
D4: 様式1
C7: 参加申込書
E12: =IF(入力エリア!Q64="〇","4",IF(入力エリア!Q49="〇","3",IF(入力エリア!Q34="〇","2","1"))) -> 1 | F12: 枚中
K14: ='参加申込書1-15'!K14:W16 -> 日本協会 宛
G15: 2 | I15: 枚目
BB17: 都道府県高等学校体育連盟ウエイトリフティング専門部 宛
D18: 都道府県名 | K18: 記載責任者氏名 | R18: 協会名 | AF18: 所在地 | AR18: 電話番号 | BB18: 各高等学校 控
D20: =入力エリア!B11 -> 0 | K20: =入力エリア!D11 -> 0 | R20: =入力エリア!G11 -> ウエイトリフティング協会 | AF20: 〒 | AG20: =入力エリア!J11 -> 0 | AR20: =入力エリア!B12 -> 0
AF22: =入力エリア!L11 -> 0
D27: Ｎｏ | F27: 性別 | H27: 階 級 | L27: ふりがな | S27: 日本協会登録番号 | AG27: 学 校 名 | AL27: 競技会記録 | AR27: 競技会名 | AY27: 保護者の同意
L28: 氏 名 | S28: 学年 | X28: 生年月日 | AL28: スナッチ | AN28: ジャーク | AP28: トータル | AR28: 競技会期日
D30: 16 | F30: =IF(AZ30=0,"",VLOOKUP(D30,入力エリア!$A$19:$P$78,11,FALSE)) | H30: =IF(AZ30=0,"",VLOOKUP(D30,入力エリア!$A$19:$P$78,12,FALSE)) | K30: kg級 | L30: =IF(AZ30=0,"",VLOOKUP(D30,入力エリア!$A$19:$P$78,5,)) | S30: =IF(AZ30=0,"",VLOOKUP(D30,入力エリア!$A$19:$P$78,8,FALSE)) | AG30: =IF(AZ30=0,"",VLOOKUP(D30,入力エリア!$A$19:$O$78,3,FALSE)) | AL30: =IF(AZ30=0,"",VLOOKUP(D30,入力エリア!$A$19:$O$78,13,FALSE)) | AN30: =IF(AZ30=0,"",VLOOKUP(D30,入力エリア!$A$19:$O$78,14,FALSE)) | AP30: =IF(AZ30=0,"",VLOOKUP(D30,入力エリア!$A$19:$O$78,15,FALSE)) | AR30: =IF(AZ30=0,"",VLOOKUP(D30,入力エリア!$A$19:$O$78,9,FALSE)) | AY30: =IF(AZ30=0,"",VLOOKUP(D30,入力エリア!$A$19:$P$78,16,TRUE)) | AZ30: =VLOOKUP(D30,入力エリア!$A$19:$P$79,16,FALSE) -> 0
L31: =IF(AZ30=0,"",VLOOKUP(D30,入力エリア!$A$19:$P$78,4,)) | T31: =IF(AZ30=0,"",VLOOKUP(D30,入力エリア!$A$19:$O$78,7,FALSE)) | V31: 学年 | X31: =IF(AZ30=0,"",VLOOKUP(D30,入力エリア!$A$19:$O$78,6,FALSE)) | AR31: =IF(AZ30=0,"",VLOOKUP(D30,入力エリア!$A$19:$O$78,10,FALSE)) | AZ31: =IF(AT30=0,"",VLOOKUP(AR30,入力エリア!$A$19:$P$78,4,))
D32: 17 | F32: =IF(AZ32=0,"",VLOOKUP(D32,入力エリア!$A$19:$P$78,11,FALSE)) | H32: =IF(AZ32=0,"",VLOOKUP(D32,入力エリア!$A$19:$P$78,12,FALSE)) | K32: kg級 | L32: =IF(AZ32=0,"",VLOOKUP(D32,入力エリア!$A$19:$P$78,5,)) | S32: =IF(AZ32=0,"",VLOOKUP(D32,入力エリア!$A$19:$P$78,8,FALSE)) | AG32: =IF(AZ32=0,"",VLOOKUP(D32,入力エリア!$A$19:$O$78,3,FALSE)) | AL32: =IF(AZ32=0,"",VLOOKUP(D32,入力エリア!$A$19:$O$78,13,FALSE)) | AN32: =IF(AZ32=0,"",VLOOKUP(D32,入力エリア!$A$19:$O$78,14,FALSE)) | AP32: =IF(AZ32=0,"",VLOOKUP(D32,入力エリア!$A$19:$O$78,15,FALSE)) | AR32: =IF(AZ32=0,"",VLOOKUP(D32,入力エリア!$A$19:$O$78,9,FALSE)) | AY32: =IF(AZ32=0,"",VLOOKUP(D32,入力エリア!$A$19:$P$78,16,TRUE)) | AZ32: =VLOOKUP(D32,入力エリア!$A$19:$P$79,16,FALSE) -> 0
L33: =IF(AZ32=0,"",VLOOKUP(D32,入力エリア!$A$19:$P$78,4,)) | T33: =IF(AZ32=0,"",VLOOKUP(D32,入力エリア!$A$19:$O$78,7,FALSE)) | V33: 学年 | X33: =IF(AZ32=0,"",VLOOKUP(D32,入力エリア!$A$19:$O$78,6,FALSE)) | AR33: =IF(AZ32=0,"",VLOOKUP(D32,入力エリア!$A$19:$O$78,10,FALSE)) | AZ33: =IF(AT32=0,"",VLOOKUP(AR32,入力エリア!$A$19:$P$78,4,))
D34: 18 | F34: =IF(AZ34=0,"",VLOOKUP(D34,入力エリア!$A$19:$P$78,11,FALSE)) | H34: =IF(AZ34=0,"",VLOOKUP(D34,入力エリア!$A$19:$P$78,12,FALSE)) | K34: kg級 | L34: =IF(AZ34=0,"",VLOOKUP(D34,入力エリア!$A$19:$P$78,5,)) | S34: =IF(AZ34=0,"",VLOOKUP(D34,入力エリア!$A$19:$P$78,8,FALSE)) | AG34: =IF(AZ34=0,"",VLOOKUP(D34,入力エリア!$A$19:$O$78,3,FALSE)) | AL34: =IF(AZ34=0,"",VLOOKUP(D34,入力エリア!$A$19:$O$78,13,FALSE)) | AN34: =IF(AZ34=0,"",VLOOKUP(D34,入力エリア!$A$19:$O$78,14,FALSE)) | AP34: =IF(AZ34=0,"",VLOOKUP(D34,入力エリア!$A$19:$O$78,15,FALSE)) | AR34: =IF(AZ34=0,"",VLOOKUP(D34,入力エリア!$A$19:$O$78,9,FALSE)) | AY34: =IF(AZ34=0,"",VLOOKUP(D34,入力エリア!$A$19:$P$78,16,TRUE)) | AZ34: =VLOOKUP(D34,入力エリア!$A$19:$P$79,16,FALSE) -> 0
L35: =IF(AZ34=0,"",VLOOKUP(D34,入力エリア!$A$19:$P$78,4,)) | T35: =IF(AZ34=0,"",VLOOKUP(D34,入力エリア!$A$19:$O$78,7,FALSE)) | V35: 学年 | X35: =IF(AZ34=0,"",VLOOKUP(D34,入力エリア!$A$19:$O$78,6,FALSE)) | AR35: =IF(AZ34=0,"",VLOOKUP(D34,入力エリア!$A$19:$O$78,10,FALSE)) | AZ35: =IF(AT34=0,"",VLOOKUP(AR34,入力エリア!$A$19:$P$78,4,))
D36: 19 | F36: =IF(AZ36=0,"",VLOOKUP(D36,入力エリア!$A$19:$P$78,11,FALSE)) | H36: =IF(AZ36=0,"",VLOOKUP(D36,入力エリア!$A$19:$P$78,12,FALSE)) | K36: kg級 | L36: =IF(AZ36=0,"",VLOOKUP(D36,入力エリア!$A$19:$P$78,5,)) | S36: =IF(AZ36=0,"",VLOOKUP(D36,入力エリア!$A$19:$P$78,8,FALSE)) | AG36: =IF(AZ36=0,"",VLOOKUP(D36,入力エリア!$A$19:$O$78,3,FALSE)) | AL36: =IF(AZ36=0,"",VLOOKUP(D36,入力エリア!$A$19:$O$78,13,FALSE)) | AN36: =IF(AZ36=0,"",VLOOKUP(D36,入力エリア!$A$19:$O$78,14,FALSE)) | AP36: =IF(AZ36=0,"",VLOOKUP(D36,入力エリア!$A$19:$O$78,15,FALSE)) | AR36: =IF(AZ36=0,"",VLOOKUP(D36,入力エリア!$A$19:$O$78,9,FALSE)) | AY36: =IF(AZ36=0,"",VLOOKUP(D36,入力エリア!$A$19:$P$78,16,TRUE)) | AZ36: =VLOOKUP(D36,入力エリア!$A$19:$P$79,16,FALSE) -> 0
L37: =IF(AZ36=0,"",VLOOKUP(D36,入力エリア!$A$19:$P$78,4,)) | T37: =IF(AZ36=0,"",VLOOKUP(D36,入力エリア!$A$19:$O$78,7,FALSE)) | V37: 学年 | X37: =IF(AZ36=0,"",VLOOKUP(D36,入力エリア!$A$19:$O$78,6,FALSE)) | AR37: =IF(AZ36=0,"",VLOOKUP(D36,入力エリア!$A$19:$O$78,10,FALSE)) | AZ37: =IF(AT36=0,"",VLOOKUP(AR36,入力エリア!$A$19:$P$78,4,))
D38: 20 | F38: =IF(AZ38=0,"",VLOOKUP(D38,入力エリア!$A$19:$P$78,11,FALSE)) | H38: =IF(AZ38=0,"",VLOOKUP(D38,入力エリア!$A$19:$P$78,12,FALSE)) | K38: kg級 | L38: =IF(AZ38=0,"",VLOOKUP(D38,入力エリア!$A$19:$P$78,5,)) | S38: =IF(AZ38=0,"",VLOOKUP(D38,入力エリア!$A$19:$P$78,8,FALSE)) | AG38: =IF(AZ38=0,"",VLOOKUP(D38,入力エリア!$A$19:$O$78,3,FALSE)) | AL38: =IF(AZ38=0,"",VLOOKUP(D38,入力エリア!$A$19:$O$78,13,FALSE)) | AN38: =IF(AZ38=0,"",VLOOKUP(D38,入力エリア!$A$19:$O$78,14,FALSE)) | AP38: =IF(AZ38=0,"",VLOOKUP(D38,入力エリア!$A$19:$O$78,15,FALSE)) | AR38: =IF(AZ38=0,"",VLOOKUP(D38,入力エリア!$A$19:$O$78,9,FALSE)) | AY38: =IF(AZ38=0,"",VLOOKUP(D38,入力エリア!$A$19:$P$78,16,TRUE)) | AZ38: =VLOOKUP(D38,入力エリア!$A$19:$P$79,16,FALSE) -> 0
L39: =IF(AZ38=0,"",VLOOKUP(D38,入力エリア!$A$19:$P$78,4,)) | T39: =IF(AZ38=0,"",VLOOKUP(D38,入力エリア!$A$19:$O$78,7,FALSE)) | V39: 学年 | X39: =IF(AZ38=0,"",VLOOKUP(D38,入力エリア!$A$19:$O$78,6,FALSE)) | AR39: =IF(AZ38=0,"",VLOOKUP(D38,入力エリア!$A$19:$O$78,10,FALSE)) | AZ39: =IF(AT38=0,"",VLOOKUP(AR38,入力エリア!$A$19:$P$78,4,))
D40: 21 | F40: =IF(AZ40=0,"",VLOOKUP(D40,入力エリア!$A$19:$P$78,11,FALSE)) | H40: =IF(AZ40=0,"",VLOOKUP(D40,入力エリア!$A$19:$P$78,12,FALSE)) | K40: kg級 | L40: =IF(AZ40=0,"",VLOOKUP(D40,入力エリア!$A$19:$P$78,5,)) | S40: =IF(AZ40=0,"",VLOOKUP(D40,入力エリア!$A$19:$P$78,8,FALSE)) | AG40: =IF(AZ40=0,"",VLOOKUP(D40,入力エリア!$A$19:$O$78,3,FALSE)) | AL40: =IF(AZ40=0,"",VLOOKUP(D40,入力エリア!$A$19:$O$78,13,FALSE)) | AN40: =IF(AZ40=0,"",VLOOKUP(D40,入力エリア!$A$19:$O$78,14,FALSE)) | AP40: =IF(AZ40=0,"",VLOOKUP(D40,入力エリア!$A$19:$O$78,15,FALSE)) | AR40: =IF(AZ40=0,"",VLOOKUP(D40,入力エリア!$A$19:$O$78,9,FALSE)) | AY40: =IF(AZ40=0,"",VLOOKUP(D40,入力エリア!$A$19:$P$78,16,TRUE)) | AZ40: =VLOOKUP(D40,入力エリア!$A$19:$P$79,16,FALSE) -> 0
L41: =IF(AZ40=0,"",VLOOKUP(D40,入力エリア!$A$19:$P$78,4,)) | T41: =IF(AZ40=0,"",VLOOKUP(D40,入力エリア!$A$19:$O$78,7,FALSE)) | V41: 学年 | X41: =IF(AZ40=0,"",VLOOKUP(D40,入力エリア!$A$19:$O$78,6,FALSE)) | AR41: =IF(AZ40=0,"",VLOOKUP(D40,入力エリア!$A$19:$O$78,10,FALSE)) | AZ41: =IF(AT40=0,"",VLOOKUP(AR40,入力エリア!$A$19:$P$78,4,))
D42: 22 | F42: =IF(AZ42=0,"",VLOOKUP(D42,入力エリア!$A$19:$P$78,11,FALSE)) | H42: =IF(AZ42=0,"",VLOOKUP(D42,入力エリア!$A$19:$P$78,12,FALSE)) | K42: kg級 | L42: =IF(AZ42=0,"",VLOOKUP(D42,入力エリア!$A$19:$P$78,5,)) | S42: =IF(AZ42=0,"",VLOOKUP(D42,入力エリア!$A$19:$P$78,8,FALSE)) | AG42: =IF(AZ42=0,"",VLOOKUP(D42,入力エリア!$A$19:$O$78,3,FALSE)) | AL42: =IF(AZ42=0,"",VLOOKUP(D42,入力エリア!$A$19:$O$78,13,FALSE)) | AN42: =IF(AZ42=0,"",VLOOKUP(D42,入力エリア!$A$19:$O$78,14,FALSE)) | AP42: =IF(AZ42=0,"",VLOOKUP(D42,入力エリア!$A$19:$O$78,15,FALSE)) | AR42: =IF(AZ42=0,"",VLOOKUP(D42,入力エリア!$A$19:$O$78,9,FALSE)) | AY42: =IF(AZ42=0,"",VLOOKUP(D42,入力エリア!$A$19:$P$78,16,TRUE)) | AZ42: =VLOOKUP(D42,入力エリア!$A$19:$P$79,16,FALSE) -> 0
L43: =IF(AZ42=0,"",VLOOKUP(D42,入力エリア!$A$19:$P$78,4,)) | T43: =IF(AZ42=0,"",VLOOKUP(D42,入力エリア!$A$19:$O$78,7,FALSE)) | V43: 学年 | X43: =IF(AZ42=0,"",VLOOKUP(D42,入力エリア!$A$19:$O$78,6,FALSE)) | AR43: =IF(AZ42=0,"",VLOOKUP(D42,入力エリア!$A$19:$O$78,10,FALSE)) | AZ43: =IF(AT42=0,"",VLOOKUP(AR42,入力エリア!$A$19:$P$78,4,))
D44: 23 | F44: =IF(AZ44=0,"",VLOOKUP(D44,入力エリア!$A$19:$P$78,11,FALSE)) | H44: =IF(AZ44=0,"",VLOOKUP(D44,入力エリア!$A$19:$P$78,12,FALSE)) | K44: kg級 | L44: =IF(AZ44=0,"",VLOOKUP(D44,入力エリア!$A$19:$P$78,5,)) | S44: =IF(AZ44=0,"",VLOOKUP(D44,入力エリア!$A$19:$P$78,8,FALSE)) | AG44: =IF(AZ44=0,"",VLOOKUP(D44,入力エリア!$A$19:$O$78,3,FALSE)) | AL44: =IF(AZ44=0,"",VLOOKUP(D44,入力エリア!$A$19:$O$78,13,FALSE)) | AN44: =IF(AZ44=0,"",VLOOKUP(D44,入力エリア!$A$19:$O$78,14,FALSE)) | AP44: =IF(AZ44=0,"",VLOOKUP(D44,入力エリア!$A$19:$O$78,15,FALSE)) | AR44: =IF(AZ44=0,"",VLOOKUP(D44,入力エリア!$A$19:$O$78,9,FALSE)) | AY44: =IF(AZ44=0,"",VLOOKUP(D44,入力エリア!$A$19:$P$78,16,TRUE)) | AZ44: =VLOOKUP(D44,入力エリア!$A$19:$P$79,16,FALSE) -> 0
L45: =IF(AZ44=0,"",VLOOKUP(D44,入力エリア!$A$19:$P$78,4,)) | T45: =IF(AZ44=0,"",VLOOKUP(D44,入力エリア!$A$19:$O$78,7,FALSE)) | V45: 学年 | X45: =IF(AZ44=0,"",VLOOKUP(D44,入力エリア!$A$19:$O$78,6,FALSE)) | AR45: =IF(AZ44=0,"",VLOOKUP(D44,入力エリア!$A$19:$O$78,10,FALSE)) | AZ45: =IF(AT44=0,"",VLOOKUP(AR44,入力エリア!$A$19:$P$78,4,))
D46: 24 | F46: =IF(AZ46=0,"",VLOOKUP(D46,入力エリア!$A$19:$P$78,11,FALSE)) | H46: =IF(AZ46=0,"",VLOOKUP(D46,入力エリア!$A$19:$P$78,12,FALSE)) | K46: kg級 | L46: =IF(AZ46=0,"",VLOOKUP(D46,入力エリア!$A$19:$P$78,5,)) | S46: =IF(AZ46=0,"",VLOOKUP(D46,入力エリア!$A$19:$P$78,8,FALSE)) | AG46: =IF(AZ46=0,"",VLOOKUP(D46,入力エリア!$A$19:$O$78,3,FALSE)) | AL46: =IF(AZ46=0,"",VLOOKUP(D46,入力エリア!$A$19:$O$78,13,FALSE)) | AN46: =IF(AZ46=0,"",VLOOKUP(D46,入力エリア!$A$19:$O$78,14,FALSE)) | AP46: =IF(AZ46=0,"",VLOOKUP(D46,入力エリア!$A$19:$O$78,15,FALSE)) | AR46: =IF(AZ46=0,"",VLOOKUP(D46,入力エリア!$A$19:$O$78,9,FALSE)) | AY46: =IF(AZ46=0,"",VLOOKUP(D46,入力エリア!$A$19:$P$78,16,TRUE)) | AZ46: =VLOOKUP(D46,入力エリア!$A$19:$P$79,16,FALSE) -> 0
L47: =IF(AZ46=0,"",VLOOKUP(D46,入力エリア!$A$19:$P$78,4,)) | T47: =IF(AZ46=0,"",VLOOKUP(D46,入力エリア!$A$19:$O$78,7,FALSE)) | V47: 学年 | X47: =IF(AZ46=0,"",VLOOKUP(D46,入力エリア!$A$19:$O$78,6,FALSE)) | AR47: =IF(AZ46=0,"",VLOOKUP(D46,入力エリア!$A$19:$O$78,10,FALSE)) | AZ47: =IF(AT46=0,"",VLOOKUP(AR46,入力エリア!$A$19:$P$78,4,))
D48: 25 | F48: =IF(AZ48=0,"",VLOOKUP(D48,入力エリア!$A$19:$P$78,11,FALSE)) | H48: =IF(AZ48=0,"",VLOOKUP(D48,入力エリア!$A$19:$P$78,12,FALSE)) | K48: kg級 | L48: =IF(AZ48=0,"",VLOOKUP(D48,入力エリア!$A$19:$P$78,5,)) | S48: =IF(AZ48=0,"",VLOOKUP(D48,入力エリア!$A$19:$P$78,8,FALSE)) | AG48: =IF(AZ48=0,"",VLOOKUP(D48,入力エリア!$A$19:$O$78,3,FALSE)) | AL48: =IF(AZ48=0,"",VLOOKUP(D48,入力エリア!$A$19:$O$78,13,FALSE)) | AN48: =IF(AZ48=0,"",VLOOKUP(D48,入力エリア!$A$19:$O$78,14,FALSE)) | AP48: =IF(AZ48=0,"",VLOOKUP(D48,入力エリア!$A$19:$O$78,15,FALSE)) | AR48: =IF(AZ48=0,"",VLOOKUP(D48,入力エリア!$A$19:$O$78,9,FALSE)) | AY48: =IF(AZ48=0,"",VLOOKUP(D48,入力エリア!$A$19:$P$78,16,TRUE)) | AZ48: =VLOOKUP(D48,入力エリア!$A$19:$P$79,16,FALSE) -> 0
L49: =IF(AZ48=0,"",VLOOKUP(D48,入力エリア!$A$19:$P$78,4,)) | T49: =IF(AZ48=0,"",VLOOKUP(D48,入力エリア!$A$19:$O$78,7,FALSE)) | V49: 学年 | X49: =IF(AZ48=0,"",VLOOKUP(D48,入力エリア!$A$19:$O$78,6,FALSE)) | AR49: =IF(AZ48=0,"",VLOOKUP(D48,入力エリア!$A$19:$O$78,10,FALSE)) | AZ49: =IF(AT48=0,"",VLOOKUP(AR48,入力エリア!$A$19:$P$78,4,))
D50: 26 | F50: =IF(AZ50=0,"",VLOOKUP(D50,入力エリア!$A$19:$P$78,11,FALSE)) | H50: =IF(AZ50=0,"",VLOOKUP(D50,入力エリア!$A$19:$P$78,12,FALSE)) | K50: kg級 | L50: =IF(AZ50=0,"",VLOOKUP(D50,入力エリア!$A$19:$P$78,5,)) | S50: =IF(AZ50=0,"",VLOOKUP(D50,入力エリア!$A$19:$P$78,8,FALSE)) | AG50: =IF(AZ50=0,"",VLOOKUP(D50,入力エリア!$A$19:$O$78,3,FALSE)) | AL50: =IF(AZ50=0,"",VLOOKUP(D50,入力エリア!$A$19:$O$78,13,FALSE)) | AN50: =IF(AZ50=0,"",VLOOKUP(D50,入力エリア!$A$19:$O$78,14,FALSE)) | AP50: =IF(AZ50=0,"",VLOOKUP(D50,入力エリア!$A$19:$O$78,15,FALSE)) | AR50: =IF(AZ50=0,"",VLOOKUP(D50,入力エリア!$A$19:$O$78,9,FALSE)) | AY50: =IF(AZ50=0,"",VLOOKUP(D50,入力エリア!$A$19:$P$78,16,TRUE)) | AZ50: =VLOOKUP(D50,入力エリア!$A$19:$P$79,16,FALSE) -> 0
L51: =IF(AZ50=0,"",VLOOKUP(D50,入力エリア!$A$19:$P$78,4,)) | T51: =IF(AZ50=0,"",VLOOKUP(D50,入力エリア!$A$19:$O$78,7,FALSE)) | V51: 学年 | X51: =IF(AZ50=0,"",VLOOKUP(D50,入力エリア!$A$19:$O$78,6,FALSE)) | AR51: =IF(AZ50=0,"",VLOOKUP(D50,入力エリア!$A$19:$O$78,10,FALSE)) | AZ51: =IF(AT50=0,"",VLOOKUP(AR50,入力エリア!$A$19:$P$78,4,))
D52: 27 | F52: =IF(AZ52=0,"",VLOOKUP(D52,入力エリア!$A$19:$P$78,11,FALSE)) | H52: =IF(AZ52=0,"",VLOOKUP(D52,入力エリア!$A$19:$P$78,12,FALSE)) | K52: kg級 | L52: =IF(AZ52=0,"",VLOOKUP(D52,入力エリア!$A$19:$P$78,5,)) | S52: =IF(AZ52=0,"",VLOOKUP(D52,入力エリア!$A$19:$P$78,8,FALSE)) | AG52: =IF(AZ52=0,"",VLOOKUP(D52,入力エリア!$A$19:$O$78,3,FALSE)) | AL52: =IF(AZ52=0,"",VLOOKUP(D52,入力エリア!$A$19:$O$78,13,FALSE)) | AN52: =IF(AZ52=0,"",VLOOKUP(D52,入力エリア!$A$19:$O$78,14,FALSE)) | AP52: =IF(AZ52=0,"",VLOOKUP(D52,入力エリア!$A$19:$O$78,15,FALSE)) | AR52: =IF(AZ52=0,"",VLOOKUP(D52,入力エリア!$A$19:$O$78,9,FALSE)) | AY52: =IF(AZ52=0,"",VLOOKUP(D52,入力エリア!$A$19:$P$78,16,TRUE)) | AZ52: =VLOOKUP(D52,入力エリア!$A$19:$P$79,16,FALSE) -> 0
L53: =IF(AZ52=0,"",VLOOKUP(D52,入力エリア!$A$19:$P$78,4,)) | T53: =IF(AZ52=0,"",VLOOKUP(D52,入力エリア!$A$19:$O$78,7,FALSE)) | V53: 学年 | X53: =IF(AZ52=0,"",VLOOKUP(D52,入力エリア!$A$19:$O$78,6,FALSE)) | AR53: =IF(AZ52=0,"",VLOOKUP(D52,入力エリア!$A$19:$O$78,10,FALSE)) | AZ53: =IF(AT52=0,"",VLOOKUP(AR52,入力エリア!$A$19:$P$78,4,))
D54: 28 | F54: =IF(AZ54=0,"",VLOOKUP(D54,入力エリア!$A$19:$P$78,11,FALSE)) | H54: =IF(AZ54=0,"",VLOOKUP(D54,入力エリア!$A$19:$P$78,12,FALSE)) | K54: kg級 | L54: =IF(AZ54=0,"",VLOOKUP(D54,入力エリア!$A$19:$P$78,5,)) | S54: =IF(AZ54=0,"",VLOOKUP(D54,入力エリア!$A$19:$P$78,8,FALSE)) | AG54: =IF(AZ54=0,"",VLOOKUP(D54,入力エリア!$A$19:$O$78,3,FALSE)) | AL54: =IF(AZ54=0,"",VLOOKUP(D54,入力エリア!$A$19:$O$78,13,FALSE)) | AN54: =IF(AZ54=0,"",VLOOKUP(D54,入力エリア!$A$19:$O$78,14,FALSE)) | AP54: =IF(AZ54=0,"",VLOOKUP(D54,入力エリア!$A$19:$O$78,15,FALSE)) | AR54: =IF(AZ54=0,"",VLOOKUP(D54,入力エリア!$A$19:$O$78,9,FALSE)) | AY54: =IF(AZ54=0,"",VLOOKUP(D54,入力エリア!$A$19:$P$78,16,TRUE)) | AZ54: =VLOOKUP(D54,入力エリア!$A$19:$P$79,16,FALSE) -> 0
L55: =IF(AZ54=0,"",VLOOKUP(D54,入力エリア!$A$19:$P$78,4,)) | T55: =IF(AZ54=0,"",VLOOKUP(D54,入力エリア!$A$19:$O$78,7,FALSE)) | V55: 学年 | X55: =IF(AZ54=0,"",VLOOKUP(D54,入力エリア!$A$19:$O$78,6,FALSE)) | AR55: =IF(AZ54=0,"",VLOOKUP(D54,入力エリア!$A$19:$O$78,10,FALSE)) | AZ55: =IF(AT54=0,"",VLOOKUP(AR54,入力エリア!$A$19:$P$78,4,))
D56: 29 | F56: =IF(AZ56=0,"",VLOOKUP(D56,入力エリア!$A$19:$P$78,11,FALSE)) | H56: =IF(AZ56=0,"",VLOOKUP(D56,入力エリア!$A$19:$P$78,12,FALSE)) | K56: kg級 | L56: =IF(AZ56=0,"",VLOOKUP(D56,入力エリア!$A$19:$P$78,5,)) | S56: =IF(AZ56=0,"",VLOOKUP(D56,入力エリア!$A$19:$P$78,8,FALSE)) | AG56: =IF(AZ56=0,"",VLOOKUP(D56,入力エリア!$A$19:$O$78,3,FALSE)) | AL56: =IF(AZ56=0,"",VLOOKUP(D56,入力エリア!$A$19:$O$78,13,FALSE)) | AN56: =IF(AZ56=0,"",VLOOKUP(D56,入力エリア!$A$19:$O$78,14,FALSE)) | AP56: =IF(AZ56=0,"",VLOOKUP(D56,入力エリア!$A$19:$O$78,15,FALSE)) | AR56: =IF(AZ56=0,"",VLOOKUP(D56,入力エリア!$A$19:$O$78,9,FALSE)) | AY56: =IF(AZ56=0,"",VLOOKUP(D56,入力エリア!$A$19:$P$78,16,TRUE)) | AZ56: =VLOOKUP(D56,入力エリア!$A$19:$P$79,16,FALSE) -> 0
L57: =IF(AZ56=0,"",VLOOKUP(D56,入力エリア!$A$19:$P$78,4,)) | T57: =IF(AZ56=0,"",VLOOKUP(D56,入力エリア!$A$19:$O$78,7,FALSE)) | V57: 学年 | X57: =IF(AZ56=0,"",VLOOKUP(D56,入力エリア!$A$19:$O$78,6,FALSE)) | AR57: =IF(AZ56=0,"",VLOOKUP(D56,入力エリア!$A$19:$O$78,10,FALSE)) | AZ57: =IF(AT56=0,"",VLOOKUP(AR56,入力エリア!$A$19:$P$78,4,))
...

Sheet 参加申込書31-45
H3: =入力エリア!B9 -> 令和２年度全国中学生ウエイトリフティング競技通信記録会
D4: 様式1
C7: 参加申込書
E12: =IF(入力エリア!Q64="〇","4",IF(入力エリア!Q49="〇","3",IF(入力エリア!Q34="〇","2","1"))) -> 1 | F12: 枚中
K14: ='参加申込書1-15'!K14:W16 -> 日本協会 宛
G15: 3 | I15: 枚目
D18: 都道府県名 | K18: 記載責任者氏名 | R18: 協会名 | AF18: 所在地 | AR18: 電話番号
D20: =入力エリア!B11 -> 0 | K20: =入力エリア!D11 -> 0 | R20: =入力エリア!G11 -> ウエイトリフティング協会 | AF20: 〒 | AG20: =入力エリア!J11 -> 0 | AR20: =入力エリア!B12 -> 0
AF22: =入力エリア!L11 -> 0
D27: Ｎｏ | F27: 性別 | H27: 階 級 | L27: ふりがな | S27: 日本協会登録番号 | AG27: 学 校 名 | AL27: 競技会記録 | AR27: 競技会名 | AY27: 保護者の同意
L28: 氏 名 | S28: 学年 | X28: 生年月日 | AL28: スナッチ | AN28: ジャーク | AP28: トータル | AR28: 競技会期日
D30: 31 | F30: =IF(AZ30=0,"",VLOOKUP(D30,入力エリア!$A$19:$P$78,11,FALSE)) | H30: =IF(AZ30=0,"",VLOOKUP(D30,入力エリア!$A$19:$P$78,12,FALSE)) | K30: kg級 | L30: =IF(AZ30=0,"",VLOOKUP(D30,入力エリア!$A$19:$P$78,5,)) | S30: =IF(AZ30=0,"",VLOOKUP(D30,入力エリア!$A$19:$P$78,8,FALSE)) | AG30: =IF(AZ30=0,"",VLOOKUP(D30,入力エリア!$A$19:$O$78,3,FALSE)) | AL30: =IF(AZ30=0,"",VLOOKUP(D30,入力エリア!$A$19:$O$78,13,FALSE)) | AN30: =IF(AZ30=0,"",VLOOKUP(D30,入力エリア!$A$19:$O$78,14,FALSE)) | AP30: =IF(AZ30=0,"",VLOOKUP(D30,入力エリア!$A$19:$O$78,15,FALSE)) | AR30: =IF(AZ30=0,"",VLOOKUP(D30,入力エリア!$A$19:$O$78,9,FALSE)) | AY30: =IF(AZ30=0,"",VLOOKUP(D30,入力エリア!$A$19:$P$78,16,TRUE)) | AZ30: =VLOOKUP(D30,入力エリア!$A$19:$P$79,16,FALSE) -> 0
L31: =IF(AZ30=0,"",VLOOKUP(D30,入力エリア!$A$19:$P$78,4,)) | T31: =IF(AZ30=0,"",VLOOKUP(D30,入力エリア!$A$19:$O$78,7,FALSE)) | V31: 学年 | X31: =IF(AZ30=0,"",VLOOKUP(D30,入力エリア!$A$19:$O$78,6,FALSE)) | AR31: =IF(AZ30=0,"",VLOOKUP(D30,入力エリア!$A$19:$O$78,10,FALSE)) | AZ31: =IF(AT30=0,"",VLOOKUP(AR30,入力エリア!$A$19:$P$78,4,))
D32: 32 | F32: =IF(AZ32=0,"",VLOOKUP(D32,入力エリア!$A$19:$P$78,11,FALSE)) | H32: =IF(AZ32=0,"",VLOOKUP(D32,入力エリア!$A$19:$P$78,12,FALSE)) | K32: kg級 | L32: =IF(AZ32=0,"",VLOOKUP(D32,入力エリア!$A$19:$P$78,5,)) | S32: =IF(AZ32=0,"",VLOOKUP(D32,入力エリア!$A$19:$P$78,8,FALSE)) | AG32: =IF(AZ32=0,"",VLOOKUP(D32,入力エリア!$A$19:$O$78,3,FALSE)) | AL32: =IF(AZ32=0,"",VLOOKUP(D32,入力エリア!$A$19:$O$78,13,FALSE)) | AN32: =IF(AZ32=0,"",VLOOKUP(D32,入力エリア!$A$19:$O$78,14,FALSE)) | AP32: =IF(AZ32=0,"",VLOOKUP(D32,入力エリア!$A$19:$O$78,15,FALSE)) | AR32: =IF(AZ32=0,"",VLOOKUP(D32,入力エリア!$A$19:$O$78,9,FALSE)) | AY32: =IF(AZ32=0,"",VLOOKUP(D32,入力エリア!$A$19:$P$78,16,TRUE)) | AZ32: =VLOOKUP(D32,入力エリア!$A$19:$P$79,16,FALSE) -> 0
L33: =IF(AZ32=0,"",VLOOKUP(D32,入力エリア!$A$19:$P$78,4,)) | T33: =IF(AZ32=0,"",VLOOKUP(D32,入力エリア!$A$19:$O$78,7,FALSE)) | V33: 学年 | X33: =IF(AZ32=0,"",VLOOKUP(D32,入力エリア!$A$19:$O$78,6,FALSE)) | AR33: =IF(AZ32=0,"",VLOOKUP(D32,入力エリア!$A$19:$O$78,10,FALSE)) | AZ33: =IF(AT32=0,"",VLOOKUP(AR32,入力エリア!$A$19:$P$78,4,))
D34: 33 | F34: =IF(AZ34=0,"",VLOOKUP(D34,入力エリア!$A$19:$P$78,11,FALSE)) | H34: =IF(AZ34=0,"",VLOOKUP(D34,入力エリア!$A$19:$P$78,12,FALSE)) | K34: kg級 | L34: =IF(AZ34=0,"",VLOOKUP(D34,入力エリア!$A$19:$P$78,5,)) | S34: =IF(AZ34=0,"",VLOOKUP(D34,入力エリア!$A$19:$P$78,8,FALSE)) | AG34: =IF(AZ34=0,"",VLOOKUP(D34,入力エリア!$A$19:$O$78,3,FALSE)) | AL34: =IF(AZ34=0,"",VLOOKUP(D34,入力エリア!$A$19:$O$78,13,FALSE)) | AN34: =IF(AZ34=0,"",VLOOKUP(D34,入力エリア!$A$19:$O$78,14,FALSE)) | AP34: =IF(AZ34=0,"",VLOOKUP(D34,入力エリア!$A$19:$O$78,15,FALSE)) | AR34: =IF(AZ34=0,"",VLOOKUP(D34,入力エリア!$A$19:$O$78,9,FALSE)) | AY34: =IF(AZ34=0,"",VLOOKUP(D34,入力エリア!$A$19:$P$78,16,TRUE)) | AZ34: =VLOOKUP(D34,入力エリア!$A$19:$P$79,16,FALSE) -> 0
L35: =IF(AZ34=0,"",VLOOKUP(D34,入力エリア!$A$19:$P$78,4,)) | T35: =IF(AZ34=0,"",VLOOKUP(D34,入力エリア!$A$19:$O$78,7,FALSE)) | V35: 学年 | X35: =IF(AZ34=0,"",VLOOKUP(D34,入力エリア!$A$19:$O$78,6,FALSE)) | AR35: =IF(AZ34=0,"",VLOOKUP(D34,入力エリア!$A$19:$O$78,10,FALSE)) | AZ35: =IF(AT34=0,"",VLOOKUP(AR34,入力エリア!$A$19:$P$78,4,))
D36: 34 | F36: =IF(AZ36=0,"",VLOOKUP(D36,入力エリア!$A$19:$P$78,11,FALSE)) | H36: =IF(AZ36=0,"",VLOOKUP(D36,入力エリア!$A$19:$P$78,12,FALSE)) | K36: kg級 | L36: =IF(AZ36=0,"",VLOOKUP(D36,入力エリア!$A$19:$P$78,5,)) | S36: =IF(AZ36=0,"",VLOOKUP(D36,入力エリア!$A$19:$P$78,8,FALSE)) | AG36: =IF(AZ36=0,"",VLOOKUP(D36,入力エリア!$A$19:$O$78,3,FALSE)) | AL36: =IF(AZ36=0,"",VLOOKUP(D36,入力エリア!$A$19:$O$78,13,FALSE)) | AN36: =IF(AZ36=0,"",VLOOKUP(D36,入力エリア!$A$19:$O$78,14,FALSE)) | AP36: =IF(AZ36=0,"",VLOOKUP(D36,入力エリア!$A$19:$O$78,15,FALSE)) | AR36: =IF(AZ36=0,"",VLOOKUP(D36,入力エリア!$A$19:$O$78,9,FALSE)) | AY36: =IF(AZ36=0,"",VLOOKUP(D36,入力エリア!$A$19:$P$78,16,TRUE)) | AZ36: =VLOOKUP(D36,入力エリア!$A$19:$P$79,16,FALSE) -> 0
L37: =IF(AZ36=0,"",VLOOKUP(D36,入力エリア!$A$19:$P$78,4,)) | T37: =IF(AZ36=0,"",VLOOKUP(D36,入力エリア!$A$19:$O$78,7,FALSE)) | V37: 学年 | X37: =IF(AZ36=0,"",VLOOKUP(D36,入力エリア!$A$19:$O$78,6,FALSE)) | AR37: =IF(AZ36=0,"",VLOOKUP(D36,入力エリア!$A$19:$O$78,10,FALSE)) | AZ37: =IF(AT36=0,"",VLOOKUP(AR36,入力エリア!$A$19:$P$78,4,))
D38: 35 | F38: =IF(AZ38=0,"",VLOOKUP(D38,入力エリア!$A$19:$P$78,11,FALSE)) | H38: =IF(AZ38=0,"",VLOOKUP(D38,入力エリア!$A$19:$P$78,12,FALSE)) | K38: kg級 | L38: =IF(AZ38=0,"",VLOOKUP(D38,入力エリア!$A$19:$P$78,5,)) | S38: =IF(AZ38=0,"",VLOOKUP(D38,入力エリア!$A$19:$P$78,8,FALSE)) | AG38: =IF(AZ38=0,"",VLOOKUP(D38,入力エリア!$A$19:$O$78,3,FALSE)) | AL38: =IF(AZ38=0,"",VLOOKUP(D38,入力エリア!$A$19:$O$78,13,FALSE)) | AN38: =IF(AZ38=0,"",VLOOKUP(D38,入力エリア!$A$19:$O$78,14,FALSE)) | AP38: =IF(AZ38=0,"",VLOOKUP(D38,入力エリア!$A$19:$O$78,15,FALSE)) | AR38: =IF(AZ38=0,"",VLOOKUP(D38,入力エリア!$A$19:$O$78,9,FALSE)) | AY38: =IF(AZ38=0,"",VLOOKUP(D38,入力エリア!$A$19:$P$78,16,TRUE)) | AZ38: =VLOOKUP(D38,入力エリア!$A$19:$P$79,16,FALSE) -> 0
L39: =IF(AZ38=0,"",VLOOKUP(D38,入力エリア!$A$19:$P$78,4,)) | T39: =IF(AZ38=0,"",VLOOKUP(D38,入力エリア!$A$19:$O$78,7,FALSE)) | V39: 学年 | X39: =IF(AZ38=0,"",VLOOKUP(D38,入力エリア!$A$19:$O$78,6,FALSE)) | AR39: =IF(AZ38=0,"",VLOOKUP(D38,入力エリア!$A$19:$O$78,10,FALSE)) | AZ39: =IF(AT38=0,"",VLOOKUP(AR38,入力エリア!$A$19:$P$78,4,))
D40: 36 | F40: =IF(AZ40=0,"",VLOOKUP(D40,入力エリア!$A$19:$P$78,11,FALSE)) | H40: =IF(AZ40=0,"",VLOOKUP(D40,入力エリア!$A$19:$P$78,12,FALSE)) | K40: kg級 | L40: =IF(AZ40=0,"",VLOOKUP(D40,入力エリア!$A$19:$P$78,5,)) | S40: =IF(AZ40=0,"",VLOOKUP(D40,入力エリア!$A$19:$P$78,8,FALSE)) | AG40: =IF(AZ40=0,"",VLOOKUP(D40,入力エリア!$A$19:$O$78,3,FALSE)) | AL40: =IF(AZ40=0,"",VLOOKUP(D40,入力エリア!$A$19:$O$78,13,FALSE)) | AN40: =IF(AZ40=0,"",VLOOKUP(D40,入力エリア!$A$19:$O$78,14,FALSE)) | AP40: =IF(AZ40=0,"",VLOOKUP(D40,入力エリア!$A$19:$O$78,15,FALSE)) | AR40: =IF(AZ40=0,"",VLOOKUP(D40,入力エリア!$A$19:$O$78,9,FALSE)) | AY40: =IF(AZ40=0,"",VLOOKUP(D40,入力エリア!$A$19:$P$78,16,TRUE)) | AZ40: =VLOOKUP(D40,入力エリア!$A$19:$P$79,16,FALSE) -> 0
L41: =IF(AZ40=0,"",VLOOKUP(D40,入力エリア!$A$19:$P$78,4,)) | T41: =IF(AZ40=0,"",VLOOKUP(D40,入力エリア!$A$19:$O$78,7,FALSE)) | V41: 学年 | X41: =IF(AZ40=0,"",VLOOKUP(D40,入力エリア!$A$19:$O$78,6,FALSE)) | AR41: =IF(AZ40=0,"",VLOOKUP(D40,入力エリア!$A$19:$O$78,10,FALSE)) | AZ41: =IF(AT40=0,"",VLOOKUP(AR40,入力エリア!$A$19:$P$78,4,))
D42: 37 | F42: =IF(AZ42=0,"",VLOOKUP(D42,入力エリア!$A$19:$P$78,11,FALSE)) | H42: =IF(AZ42=0,"",VLOOKUP(D42,入力エリア!$A$19:$P$78,12,FALSE)) | K42: kg級 | L42: =IF(AZ42=0,"",VLOOKUP(D42,入力エリア!$A$19:$P$78,5,)) | S42: =IF(AZ42=0,"",VLOOKUP(D42,入力エリア!$A$19:$P$78,8,FALSE)) | AG42: =IF(AZ42=0,"",VLOOKUP(D42,入力エリア!$A$19:$O$78,3,FALSE)) | AL42: =IF(AZ42=0,"",VLOOKUP(D42,入力エリア!$A$19:$O$78,13,FALSE)) | AN42: =IF(AZ42=0,"",VLOOKUP(D42,入力エリア!$A$19:$O$78,14,FALSE)) | AP42: =IF(AZ42=0,"",VLOOKUP(D42,入力エリア!$A$19:$O$78,15,FALSE)) | AR42: =IF(AZ42=0,"",VLOOKUP(D42,入力エリア!$A$19:$O$78,9,FALSE)) | AY42: =IF(AZ42=0,"",VLOOKUP(D42,入力エリア!$A$19:$P$78,16,TRUE)) | AZ42: =VLOOKUP(D42,入力エリア!$A$19:$P$79,16,FALSE) -> 0
L43: =IF(AZ42=0,"",VLOOKUP(D42,入力エリア!$A$19:$P$78,4,)) | T43: =IF(AZ42=0,"",VLOOKUP(D42,入力エリア!$A$19:$O$78,7,FALSE)) | V43: 学年 | X43: =IF(AZ42=0,"",VLOOKUP(D42,入力エリア!$A$19:$O$78,6,FALSE)) | AR43: =IF(AZ42=0,"",VLOOKUP(D42,入力エリア!$A$19:$O$78,10,FALSE)) | AZ43: =IF(AT42=0,"",VLOOKUP(AR42,入力エリア!$A$19:$P$78,4,))
D44: 38 | F44: =IF(AZ44=0,"",VLOOKUP(D44,入力エリア!$A$19:$P$78,11,FALSE)) | H44: =IF(AZ44=0,"",VLOOKUP(D44,入力エリア!$A$19:$P$78,12,FALSE)) | K44: kg級 | L44: =IF(AZ44=0,"",VLOOKUP(D44,入力エリア!$A$19:$P$78,5,)) | S44: =IF(AZ44=0,"",VLOOKUP(D44,入力エリア!$A$19:$P$78,8,FALSE)) | AG44: =IF(AZ44=0,"",VLOOKUP(D44,入力エリア!$A$19:$O$78,3,FALSE)) | AL44: =IF(AZ44=0,"",VLOOKUP(D44,入力エリア!$A$19:$O$78,13,FALSE)) | AN44: =IF(AZ44=0,"",VLOOKUP(D44,入力エリア!$A$19:$O$78,14,FALSE)) | AP44: =IF(AZ44=0,"",VLOOKUP(D44,入力エリア!$A$19:$O$78,15,FALSE)) | AR44: =IF(AZ44=0,"",VLOOKUP(D44,入力エリア!$A$19:$O$78,9,FALSE)) | AY44: =IF(AZ44=0,"",VLOOKUP(D44,入力エリア!$A$19:$P$78,16,TRUE)) | AZ44: =VLOOKUP(D44,入力エリア!$A$19:$P$79,16,FALSE) -> 0
L45: =IF(AZ44=0,"",VLOOKUP(D44,入力エリア!$A$19:$P$78,4,)) | T45: =IF(AZ44=0,"",VLOOKUP(D44,入力エリア!$A$19:$O$78,7,FALSE)) | V45: 学年 | X45: =IF(AZ44=0,"",VLOOKUP(D44,入力エリア!$A$19:$O$78,6,FALSE)) | AR45: =IF(AZ44=0,"",VLOOKUP(D44,入力エリア!$A$19:$O$78,10,FALSE)) | AZ45: =IF(AT44=0,"",VLOOKUP(AR44,入力エリア!$A$19:$P$78,4,))
D46: 39 | F46: =IF(AZ46=0,"",VLOOKUP(D46,入力エリア!$A$19:$P$78,11,FALSE)) | H46: =IF(AZ46=0,"",VLOOKUP(D46,入力エリア!$A$19:$P$78,12,FALSE)) | K46: kg級 | L46: =IF(AZ46=0,"",VLOOKUP(D46,入力エリア!$A$19:$P$78,5,)) | S46: =IF(AZ46=0,"",VLOOKUP(D46,入力エリア!$A$19:$P$78,8,FALSE)) | AG46: =IF(AZ46=0,"",VLOOKUP(D46,入力エリア!$A$19:$O$78,3,FALSE)) | AL46: =IF(AZ46=0,"",VLOOKUP(D46,入力エリア!$A$19:$O$78,13,FALSE)) | AN46: =IF(AZ46=0,"",VLOOKUP(D46,入力エリア!$A$19:$O$78,14,FALSE)) | AP46: =IF(AZ46=0,"",VLOOKUP(D46,入力エリア!$A$19:$O$78,15,FALSE)) | AR46: =IF(AZ46=0,"",VLOOKUP(D46,入力エリア!$A$19:$O$78,9,FALSE)) | AY46: =IF(AZ46=0,"",VLOOKUP(D46,入力エリア!$A$19:$P$78,16,TRUE)) | AZ46: =VLOOKUP(D46,入力エリア!$A$19:$P$79,16,FALSE) -> 0
L47: =IF(AZ46=0,"",VLOOKUP(D46,入力エリア!$A$19:$P$78,4,)) | T47: =IF(AZ46=0,"",VLOOKUP(D46,入力エリア!$A$19:$O$78,7,FALSE)) | V47: 学年 | X47: =IF(AZ46=0,"",VLOOKUP(D46,入力エリア!$A$19:$O$78,6,FALSE)) | AR47: =IF(AZ46=0,"",VLOOKUP(D46,入力エリア!$A$19:$O$78,10,FALSE)) | AZ47: =IF(AT46=0,"",VLOOKUP(AR46,入力エリア!$A$19:$P$78,4,))
D48: 40 | F48: =IF(AZ48=0,"",VLOOKUP(D48,入力エリア!$A$19:$P$78,11,FALSE)) | H48: =IF(AZ48=0,"",VLOOKUP(D48,入力エリア!$A$19:$P$78,12,FALSE)) | K48: kg級 | L48: =IF(AZ48=0,"",VLOOKUP(D48,入力エリア!$A$19:$P$78,5,)) | S48: =IF(AZ48=0,"",VLOOKUP(D48,入力エリア!$A$19:$P$78,8,FALSE)) | AG48: =IF(AZ48=0,"",VLOOKUP(D48,入力エリア!$A$19:$O$78,3,FALSE)) | AL48: =IF(AZ48=0,"",VLOOKUP(D48,入力エリア!$A$19:$O$78,13,FALSE)) | AN48: =IF(AZ48=0,"",VLOOKUP(D48,入力エリア!$A$19:$O$78,14,FALSE)) | AP48: =IF(AZ48=0,"",VLOOKUP(D48,入力エリア!$A$19:$O$78,15,FALSE)) | AR48: =IF(AZ48=0,"",VLOOKUP(D48,入力エリア!$A$19:$O$78,9,FALSE)) | AY48: =IF(AZ48=0,"",VLOOKUP(D48,入力エリア!$A$19:$P$78,16,TRUE)) | AZ48: =VLOOKUP(D48,入力エリア!$A$19:$P$79,16,FALSE) -> 0
L49: =IF(AZ48=0,"",VLOOKUP(D48,入力エリア!$A$19:$P$78,4,)) | T49: =IF(AZ48=0,"",VLOOKUP(D48,入力エリア!$A$19:$O$78,7,FALSE)) | V49: 学年 | X49: =IF(AZ48=0,"",VLOOKUP(D48,入力エリア!$A$19:$O$78,6,FALSE)) | AR49: =IF(AZ48=0,"",VLOOKUP(D48,入力エリア!$A$19:$O$78,10,FALSE)) | AZ49: =IF(AT48=0,"",VLOOKUP(AR48,入力エリア!$A$19:$P$78,4,))
D50: 41 | F50: =IF(AZ50=0,"",VLOOKUP(D50,入力エリア!$A$19:$P$78,11,FALSE)) | H50: =IF(AZ50=0,"",VLOOKUP(D50,入力エリア!$A$19:$P$78,12,FALSE)) | K50: kg級 | L50: =IF(AZ50=0,"",VLOOKUP(D50,入力エリア!$A$19:$P$78,5,)) | S50: =IF(AZ50=0,"",VLOOKUP(D50,入力エリア!$A$19:$P$78,8,FALSE)) | AG50: =IF(AZ50=0,"",VLOOKUP(D50,入力エリア!$A$19:$O$78,3,FALSE)) | AL50: =IF(AZ50=0,"",VLOOKUP(D50,入力エリア!$A$19:$O$78,13,FALSE)) | AN50: =IF(AZ50=0,"",VLOOKUP(D50,入力エリア!$A$19:$O$78,14,FALSE)) | AP50: =IF(AZ50=0,"",VLOOKUP(D50,入力エリア!$A$19:$O$78,15,FALSE)) | AR50: =IF(AZ50=0,"",VLOOKUP(D50,入力エリア!$A$19:$O$78,9,FALSE)) | AY50: =IF(AZ50=0,"",VLOOKUP(D50,入力エリア!$A$19:$P$78,16,TRUE)) | AZ50: =VLOOKUP(D50,入力エリア!$A$19:$P$79,16,FALSE) -> 0
L51: =IF(AZ50=0,"",VLOOKUP(D50,入力エリア!$A$19:$P$78,4,)) | T51: =IF(AZ50=0,"",VLOOKUP(D50,入力エリア!$A$19:$O$78,7,FALSE)) | V51: 学年 | X51: =IF(AZ50=0,"",VLOOKUP(D50,入力エリア!$A$19:$O$78,6,FALSE)) | AR51: =IF(AZ50=0,"",VLOOKUP(D50,入力エリア!$A$19:$O$78,10,FALSE)) | AZ51: =IF(AT50=0,"",VLOOKUP(AR50,入力エリア!$A$19:$P$78,4,))
D52: 42 | F52: =IF(AZ52=0,"",VLOOKUP(D52,入力エリア!$A$19:$P$78,11,FALSE)) | H52: =IF(AZ52=0,"",VLOOKUP(D52,入力エリア!$A$19:$P$78,12,FALSE)) | K52: kg級 | L52: =IF(AZ52=0,"",VLOOKUP(D52,入力エリア!$A$19:$P$78,5,)) | S52: =IF(AZ52=0,"",VLOOKUP(D52,入力エリア!$A$19:$P$78,8,FALSE)) | AG52: =IF(AZ52=0,"",VLOOKUP(D52,入力エリア!$A$19:$O$78,3,FALSE)) | AL52: =IF(AZ52=0,"",VLOOKUP(D52,入力エリア!$A$19:$O$78,13,FALSE)) | AN52: =IF(AZ52=0,"",VLOOKUP(D52,入力エリア!$A$19:$O$78,14,FALSE)) | AP52: =IF(AZ52=0,"",VLOOKUP(D52,入力エリア!$A$19:$O$78,15,FALSE)) | AR52: =IF(AZ52=0,"",VLOOKUP(D52,入力エリア!$A$19:$O$78,9,FALSE)) | AY52: =IF(AZ52=0,"",VLOOKUP(D52,入力エリア!$A$19:$P$78,16,TRUE)) | AZ52: =VLOOKUP(D52,入力エリア!$A$19:$P$79,16,FALSE) -> 0
L53: =IF(AZ52=0,"",VLOOKUP(D52,入力エリア!$A$19:$P$78,4,)) | T53: =IF(AZ52=0,"",VLOOKUP(D52,入力エリア!$A$19:$O$78,7,FALSE)) | V53: 学年 | X53: =IF(AZ52=0,"",VLOOKUP(D52,入力エリア!$A$19:$O$78,6,FALSE)) | AR53: =IF(AZ52=0,"",VLOOKUP(D52,入力エリア!$A$19:$O$78,10,FALSE)) | AZ53: =IF(AT52=0,"",VLOOKUP(AR52,入力エリア!$A$19:$P$78,4,))
D54: 43 | F54: =IF(AZ54=0,"",VLOOKUP(D54,入力エリア!$A$19:$P$78,11,FALSE)) | H54: =IF(AZ54=0,"",VLOOKUP(D54,入力エリア!$A$19:$P$78,12,FALSE)) | K54: kg級 | L54: =IF(AZ54=0,"",VLOOKUP(D54,入力エリア!$A$19:$P$78,5,)) | S54: =IF(AZ54=0,"",VLOOKUP(D54,入力エリア!$A$19:$P$78,8,FALSE)) | AG54: =IF(AZ54=0,"",VLOOKUP(D54,入力エリア!$A$19:$O$78,3,FALSE)) | AL54: =IF(AZ54=0,"",VLOOKUP(D54,入力エリア!$A$19:$O$78,13,FALSE)) | AN54: =IF(AZ54=0,"",VLOOKUP(D54,入力エリア!$A$19:$O$78,14,FALSE)) | AP54: =IF(AZ54=0,"",VLOOKUP(D54,入力エリア!$A$19:$O$78,15,FALSE)) | AR54: =IF(AZ54=0,"",VLOOKUP(D54,入力エリア!$A$19:$O$78,9,FALSE)) | AY54: =IF(AZ54=0,"",VLOOKUP(D54,入力エリア!$A$19:$P$78,16,TRUE)) | AZ54: =VLOOKUP(D54,入力エリア!$A$19:$P$79,16,FALSE) -> 0
L55: =IF(AZ54=0,"",VLOOKUP(D54,入力エリア!$A$19:$P$78,4,)) | T55: =IF(AZ54=0,"",VLOOKUP(D54,入力エリア!$A$19:$O$78,7,FALSE)) | V55: 学年 | X55: =IF(AZ54=0,"",VLOOKUP(D54,入力エリア!$A$19:$O$78,6,FALSE)) | AR55: =IF(AZ54=0,"",VLOOKUP(D54,入力エリア!$A$19:$O$78,10,FALSE)) | AZ55: =IF(AT54=0,"",VLOOKUP(AR54,入力エリア!$A$19:$P$78,4,))
D56: 44 | F56: =IF(AZ56=0,"",VLOOKUP(D56,入力エリア!$A$19:$P$78,11,FALSE)) | H56: =IF(AZ56=0,"",VLOOKUP(D56,入力エリア!$A$19:$P$78,12,FALSE)) | K56: kg級 | L56: =IF(AZ56=0,"",VLOOKUP(D56,入力エリア!$A$19:$P$78,5,)) | S56: =IF(AZ56=0,"",VLOOKUP(D56,入力エリア!$A$19:$P$78,8,FALSE)) | AG56: =IF(AZ56=0,"",VLOOKUP(D56,入力エリア!$A$19:$O$78,3,FALSE)) | AL56: =IF(AZ56=0,"",VLOOKUP(D56,入力エリア!$A$19:$O$78,13,FALSE)) | AN56: =IF(AZ56=0,"",VLOOKUP(D56,入力エリア!$A$19:$O$78,14,FALSE)) | AP56: =IF(AZ56=0,"",VLOOKUP(D56,入力エリア!$A$19:$O$78,15,FALSE)) | AR56: =IF(AZ56=0,"",VLOOKUP(D56,入力エリア!$A$19:$O$78,9,FALSE)) | AY56: =IF(AZ56=0,"",VLOOKUP(D56,入力エリア!$A$19:$P$78,16,TRUE)) | AZ56: =VLOOKUP(D56,入力エリア!$A$19:$P$79,16,FALSE) -> 0
L57: =IF(AZ56=0,"",VLOOKUP(D56,入力エリア!$A$19:$P$78,4,)) | T57: =IF(AZ56=0,"",VLOOKUP(D56,入力エリア!$A$19:$O$78,7,FALSE)) | V57: 学年 | X57: =IF(AZ56=0,"",VLOOKUP(D56,入力エリア!$A$19:$O$78,6,FALSE)) | AR57: =IF(AZ56=0,"",VLOOKUP(D56,入力エリア!$A$19:$O$78,10,FALSE)) | AZ57: =IF(AT56=0,"",VLOOKUP(AR56,入力エリア!$A$19:$P$78,4,))
D58: 45 | F58: =IF(AZ58=0,"",VLOOKUP(D58,入力エリア!$A$19:$P$78,11,FALSE)) | H58: =IF(AZ58=0,"",VLOOKUP(D58,入力エリア!$A$19:$P$78,12,FALSE)) | K58: kg級 | L58: =IF(AZ58=0,"",VLOOKUP(D58,入力エリア!$A$19:$P$78,5,)) | S58: =IF(AZ58=0,"",VLOOKUP(D58,入力エリア!$A$19:$P$78,8,FALSE)) | AG58: =IF(AZ58=0,"",VLOOKUP(D58,入力エリア!$A$19:$O$78,3,FALSE)) | AL58: =IF(AZ58=0,"",VLOOKUP(D58,入力エリア!$A$19:$O$78,13,FALSE)) | AN58: =IF(AZ58=0,"",VLOOKUP(D58,入力エリア!$A$19:$O$78,14,FALSE)) | AP58: =IF(AZ58=0,"",VLOOKUP(D58,入力エリア!$A$19:$O$78,15,FALSE)) | AR58: =IF(AZ58=0,"",VLOOKUP(D58,入力エリア!$A$19:$O$78,9,FALSE)) | AY58: =IF(AZ58=0,"",VLOOKUP(D58,入力エリア!$A$19:$P$78,16,TRUE)) | AZ58: =VLOOKUP(D58,入力エリア!$A$19:$P$79,16,FALSE) -> 0
...

Sheet 参加申込書46-60
H3: =入力エリア!B9 -> 令和２年度全国中学生ウエイトリフティング競技通信記録会
D4: 様式1
C7: 参加申込書
E12: =IF(入力エリア!Q64="〇","4",IF(入力エリア!Q49="〇","3",IF(入力エリア!Q34="〇","2","1"))) -> 1 | F12: 枚中
K14: ='参加申込書1-15'!K14:W16 -> 日本協会 宛
G15: 4 | I15: 枚目
D18: 都道府県名 | K18: 記載責任者氏名 | R18: 協会名 | AF18: 所在地 | AR18: 電話番号
D20: =入力エリア!B11 -> 0 | K20: =入力エリア!D11 -> 0 | R20: =入力エリア!G11 -> ウエイトリフティング協会 | AF20: 〒 | AG20: =入力エリア!J11 -> 0 | AR20: =入力エリア!B12 -> 0
AF22: =入力エリア!L11 -> 0
D27: Ｎｏ | F27: 性別 | H27: 階 級 | L27: ふりがな | S27: 日本協会登録番号 | AG27: 学 校 名 | AL27: 競技会記録 | AR27: 競技会名 | AY27: 保護者の同意
L28: 氏 名 | S28: 学年 | X28: 生年月日 | AL28: スナッチ | AN28: ジャーク | AP28: トータル | AR28: 競技会期日
D30: 46 | F30: =IF(AZ30=0,"",VLOOKUP(D30,入力エリア!$A$19:$P$78,11,FALSE)) | H30: =IF(AZ30=0,"",VLOOKUP(D30,入力エリア!$A$19:$P$78,12,FALSE)) | K30: kg級 | L30: =IF(AZ30=0,"",VLOOKUP(D30,入力エリア!$A$19:$P$78,5,)) | S30: =IF(AZ30=0,"",VLOOKUP(D30,入力エリア!$A$19:$P$78,8,FALSE)) | AG30: =IF(AZ30=0,"",VLOOKUP(D30,入力エリア!$A$19:$O$78,3,FALSE)) | AL30: =IF(AZ30=0,"",VLOOKUP(D30,入力エリア!$A$19:$O$78,13,FALSE)) | AN30: =IF(AZ30=0,"",VLOOKUP(D30,入力エリア!$A$19:$O$78,14,FALSE)) | AP30: =IF(AZ30=0,"",VLOOKUP(D30,入力エリア!$A$19:$O$78,15,FALSE)) | AR30: =IF(AZ30=0,"",VLOOKUP(D30,入力エリア!$A$19:$O$78,9,FALSE)) | AY30: =IF(AZ30=0,"",VLOOKUP(D30,入力エリア!$A$19:$P$78,16,TRUE)) | AZ30: =VLOOKUP(D30,入力エリア!$A$19:$P$79,16,FALSE) -> 0
L31: =IF(AZ30=0,"",VLOOKUP(D30,入力エリア!$A$19:$P$78,4,)) | T31: =IF(AZ30=0,"",VLOOKUP(D30,入力エリア!$A$19:$O$78,7,FALSE)) | V31: 学年 | X31: =IF(AZ30=0,"",VLOOKUP(D30,入力エリア!$A$19:$O$78,6,FALSE)) | AR31: =IF(AZ30=0,"",VLOOKUP(D30,入力エリア!$A$19:$O$78,10,FALSE)) | AZ31: =IF(AT30=0,"",VLOOKUP(AR30,入力エリア!$A$19:$P$78,4,))
D32: 47 | F32: =IF(AZ32=0,"",VLOOKUP(D32,入力エリア!$A$19:$P$78,11,FALSE)) | H32: =IF(AZ32=0,"",VLOOKUP(D32,入力エリア!$A$19:$P$78,12,FALSE)) | K32: kg級 | L32: =IF(AZ32=0,"",VLOOKUP(D32,入力エリア!$A$19:$P$78,5,)) | S32: =IF(AZ32=0,"",VLOOKUP(D32,入力エリア!$A$19:$P$78,8,FALSE)) | AG32: =IF(AZ32=0,"",VLOOKUP(D32,入力エリア!$A$19:$O$78,3,FALSE)) | AL32: =IF(AZ32=0,"",VLOOKUP(D32,入力エリア!$A$19:$O$78,13,FALSE)) | AN32: =IF(AZ32=0,"",VLOOKUP(D32,入力エリア!$A$19:$O$78,14,FALSE)) | AP32: =IF(AZ32=0,"",VLOOKUP(D32,入力エリア!$A$19:$O$78,15,FALSE)) | AR32: =IF(AZ32=0,"",VLOOKUP(D32,入力エリア!$A$19:$O$78,9,FALSE)) | AY32: =IF(AZ32=0,"",VLOOKUP(D32,入力エリア!$A$19:$P$78,16,TRUE)) | AZ32: =VLOOKUP(D32,入力エリア!$A$19:$P$79,16,FALSE) -> 0
L33: =IF(AZ32=0,"",VLOOKUP(D32,入力エリア!$A$19:$P$78,4,)) | T33: =IF(AZ32=0,"",VLOOKUP(D32,入力エリア!$A$19:$O$78,7,FALSE)) | V33: 学年 | X33: =IF(AZ32=0,"",VLOOKUP(D32,入力エリア!$A$19:$O$78,6,FALSE)) | AR33: =IF(AZ32=0,"",VLOOKUP(D32,入力エリア!$A$19:$O$78,10,FALSE)) | AZ33: =IF(AT32=0,"",VLOOKUP(AR32,入力エリア!$A$19:$P$78,4,))
D34: 48 | F34: =IF(AZ34=0,"",VLOOKUP(D34,入力エリア!$A$19:$P$78,11,FALSE)) | H34: =IF(AZ34=0,"",VLOOKUP(D34,入力エリア!$A$19:$P$78,12,FALSE)) | K34: kg級 | L34: =IF(AZ34=0,"",VLOOKUP(D34,入力エリア!$A$19:$P$78,5,)) | S34: =IF(AZ34=0,"",VLOOKUP(D34,入力エリア!$A$19:$P$78,8,FALSE)) | AG34: =IF(AZ34=0,"",VLOOKUP(D34,入力エリア!$A$19:$O$78,3,FALSE)) | AL34: =IF(AZ34=0,"",VLOOKUP(D34,入力エリア!$A$19:$O$78,13,FALSE)) | AN34: =IF(AZ34=0,"",VLOOKUP(D34,入力エリア!$A$19:$O$78,14,FALSE)) | AP34: =IF(AZ34=0,"",VLOOKUP(D34,入力エリア!$A$19:$O$78,15,FALSE)) | AR34: =IF(AZ34=0,"",VLOOKUP(D34,入力エリア!$A$19:$O$78,9,FALSE)) | AY34: =IF(AZ34=0,"",VLOOKUP(D34,入力エリア!$A$19:$P$78,16,TRUE)) | AZ34: =VLOOKUP(D34,入力エリア!$A$19:$P$79,16,FALSE) -> 0
L35: =IF(AZ34=0,"",VLOOKUP(D34,入力エリア!$A$19:$P$78,4,)) | T35: =IF(AZ34=0,"",VLOOKUP(D34,入力エリア!$A$19:$O$78,7,FALSE)) | V35: 学年 | X35: =IF(AZ34=0,"",VLOOKUP(D34,入力エリア!$A$19:$O$78,6,FALSE)) | AR35: =IF(AZ34=0,"",VLOOKUP(D34,入力エリア!$A$19:$O$78,10,FALSE)) | AZ35: =IF(AT34=0,"",VLOOKUP(AR34,入力エリア!$A$19:$P$78,4,))
D36: 49 | F36: =IF(AZ36=0,"",VLOOKUP(D36,入力エリア!$A$19:$P$78,11,FALSE)) | H36: =IF(AZ36=0,"",VLOOKUP(D36,入力エリア!$A$19:$P$78,12,FALSE)) | K36: kg級 | L36: =IF(AZ36=0,"",VLOOKUP(D36,入力エリア!$A$19:$P$78,5,)) | S36: =IF(AZ36=0,"",VLOOKUP(D36,入力エリア!$A$19:$P$78,8,FALSE)) | AG36: =IF(AZ36=0,"",VLOOKUP(D36,入力エリア!$A$19:$O$78,3,FALSE)) | AL36: =IF(AZ36=0,"",VLOOKUP(D36,入力エリア!$A$19:$O$78,13,FALSE)) | AN36: =IF(AZ36=0,"",VLOOKUP(D36,入力エリア!$A$19:$O$78,14,FALSE)) | AP36: =IF(AZ36=0,"",VLOOKUP(D36,入力エリア!$A$19:$O$78,15,FALSE)) | AR36: =IF(AZ36=0,"",VLOOKUP(D36,入力エリア!$A$19:$O$78,9,FALSE)) | AY36: =IF(AZ36=0,"",VLOOKUP(D36,入力エリア!$A$19:$P$78,16,TRUE)) | AZ36: =VLOOKUP(D36,入力エリア!$A$19:$P$79,16,FALSE) -> 0
L37: =IF(AZ36=0,"",VLOOKUP(D36,入力エリア!$A$19:$P$78,4,)) | T37: =IF(AZ36=0,"",VLOOKUP(D36,入力エリア!$A$19:$O$78,7,FALSE)) | V37: 学年 | X37: =IF(AZ36=0,"",VLOOKUP(D36,入力エリア!$A$19:$O$78,6,FALSE)) | AR37: =IF(AZ36=0,"",VLOOKUP(D36,入力エリア!$A$19:$O$78,10,FALSE)) | AZ37: =IF(AT36=0,"",VLOOKUP(AR36,入力エリア!$A$19:$P$78,4,))
D38: 50 | F38: =IF(AZ38=0,"",VLOOKUP(D38,入力エリア!$A$19:$P$78,11,FALSE)) | H38: =IF(AZ38=0,"",VLOOKUP(D38,入力エリア!$A$19:$P$78,12,FALSE)) | K38: kg級 | L38: =IF(AZ38=0,"",VLOOKUP(D38,入力エリア!$A$19:$P$78,5,)) | S38: =IF(AZ38=0,"",VLOOKUP(D38,入力エリア!$A$19:$P$78,8,FALSE)) | AG38: =IF(AZ38=0,"",VLOOKUP(D38,入力エリア!$A$19:$O$78,3,FALSE)) | AL38: =IF(AZ38=0,"",VLOOKUP(D38,入力エリア!$A$19:$O$78,13,FALSE)) | AN38: =IF(AZ38=0,"",VLOOKUP(D38,入力エリア!$A$19:$O$78,14,FALSE)) | AP38: =IF(AZ38=0,"",VLOOKUP(D38,入力エリア!$A$19:$O$78,15,FALSE)) | AR38: =IF(AZ38=0,"",VLOOKUP(D38,入力エリア!$A$19:$O$78,9,FALSE)) | AY38: =IF(AZ38=0,"",VLOOKUP(D38,入力エリア!$A$19:$P$78,16,TRUE)) | AZ38: =VLOOKUP(D38,入力エリア!$A$19:$P$79,16,FALSE) -> 0
L39: =IF(AZ38=0,"",VLOOKUP(D38,入力エリア!$A$19:$P$78,4,)) | T39: =IF(AZ38=0,"",VLOOKUP(D38,入力エリア!$A$19:$O$78,7,FALSE)) | V39: 学年 | X39: =IF(AZ38=0,"",VLOOKUP(D38,入力エリア!$A$19:$O$78,6,FALSE)) | AR39: =IF(AZ38=0,"",VLOOKUP(D38,入力エリア!$A$19:$O$78,10,FALSE)) | AZ39: =IF(AT38=0,"",VLOOKUP(AR38,入力エリア!$A$19:$P$78,4,))
D40: 51 | F40: =IF(AZ40=0,"",VLOOKUP(D40,入力エリア!$A$19:$P$78,11,FALSE)) | H40: =IF(AZ40=0,"",VLOOKUP(D40,入力エリア!$A$19:$P$78,12,FALSE)) | K40: kg級 | L40: =IF(AZ40=0,"",VLOOKUP(D40,入力エリア!$A$19:$P$78,5,)) | S40: =IF(AZ40=0,"",VLOOKUP(D40,入力エリア!$A$19:$P$78,8,FALSE)) | AG40: =IF(AZ40=0,"",VLOOKUP(D40,入力エリア!$A$19:$O$78,3,FALSE)) | AL40: =IF(AZ40=0,"",VLOOKUP(D40,入力エリア!$A$19:$O$78,13,FALSE)) | AN40: =IF(AZ40=0,"",VLOOKUP(D40,入力エリア!$A$19:$O$78,14,FALSE)) | AP40: =IF(AZ40=0,"",VLOOKUP(D40,入力エリア!$A$19:$O$78,15,FALSE)) | AR40: =IF(AZ40=0,"",VLOOKUP(D40,入力エリア!$A$19:$O$78,9,FALSE)) | AY40: =IF(AZ40=0,"",VLOOKUP(D40,入力エリア!$A$19:$P$78,16,TRUE)) | AZ40: =VLOOKUP(D40,入力エリア!$A$19:$P$79,16,FALSE) -> 0
L41: =IF(AZ40=0,"",VLOOKUP(D40,入力エリア!$A$19:$P$78,4,)) | T41: =IF(AZ40=0,"",VLOOKUP(D40,入力エリア!$A$19:$O$78,7,FALSE)) | V41: 学年 | X41: =IF(AZ40=0,"",VLOOKUP(D40,入力エリア!$A$19:$O$78,6,FALSE)) | AR41: =IF(AZ40=0,"",VLOOKUP(D40,入力エリア!$A$19:$O$78,10,FALSE)) | AZ41: =IF(AT40=0,"",VLOOKUP(AR40,入力エリア!$A$19:$P$78,4,))
D42: 52 | F42: =IF(AZ42=0,"",VLOOKUP(D42,入力エリア!$A$19:$P$78,11,FALSE)) | H42: =IF(AZ42=0,"",VLOOKUP(D42,入力エリア!$A$19:$P$78,12,FALSE)) | K42: kg級 | L42: =IF(AZ42=0,"",VLOOKUP(D42,入力エリア!$A$19:$P$78,5,)) | S42: =IF(AZ42=0,"",VLOOKUP(D42,入力エリア!$A$19:$P$78,8,FALSE)) | AG42: =IF(AZ42=0,"",VLOOKUP(D42,入力エリア!$A$19:$O$78,3,FALSE)) | AL42: =IF(AZ42=0,"",VLOOKUP(D42,入力エリア!$A$19:$O$78,13,FALSE)) | AN42: =IF(AZ42=0,"",VLOOKUP(D42,入力エリア!$A$19:$O$78,14,FALSE)) | AP42: =IF(AZ42=0,"",VLOOKUP(D42,入力エリア!$A$19:$O$78,15,FALSE)) | AR42: =IF(AZ42=0,"",VLOOKUP(D42,入力エリア!$A$19:$O$78,9,FALSE)) | AY42: =IF(AZ42=0,"",VLOOKUP(D42,入力エリア!$A$19:$P$78,16,TRUE)) | AZ42: =VLOOKUP(D42,入力エリア!$A$19:$P$79,16,FALSE) -> 0
L43: =IF(AZ42=0,"",VLOOKUP(D42,入力エリア!$A$19:$P$78,4,)) | T43: =IF(AZ42=0,"",VLOOKUP(D42,入力エリア!$A$19:$O$78,7,FALSE)) | V43: 学年 | X43: =IF(AZ42=0,"",VLOOKUP(D42,入力エリア!$A$19:$O$78,6,FALSE)) | AR43: =IF(AZ42=0,"",VLOOKUP(D42,入力エリア!$A$19:$O$78,10,FALSE)) | AZ43: =IF(AT42=0,"",VLOOKUP(AR42,入力エリア!$A$19:$P$78,4,))
D44: 53 | F44: =IF(AZ44=0,"",VLOOKUP(D44,入力エリア!$A$19:$P$78,11,FALSE)) | H44: =IF(AZ44=0,"",VLOOKUP(D44,入力エリア!$A$19:$P$78,12,FALSE)) | K44: kg級 | L44: =IF(AZ44=0,"",VLOOKUP(D44,入力エリア!$A$19:$P$78,5,)) | S44: =IF(AZ44=0,"",VLOOKUP(D44,入力エリア!$A$19:$P$78,8,FALSE)) | AG44: =IF(AZ44=0,"",VLOOKUP(D44,入力エリア!$A$19:$O$78,3,FALSE)) | AL44: =IF(AZ44=0,"",VLOOKUP(D44,入力エリア!$A$19:$O$78,13,FALSE)) | AN44: =IF(AZ44=0,"",VLOOKUP(D44,入力エリア!$A$19:$O$78,14,FALSE)) | AP44: =IF(AZ44=0,"",VLOOKUP(D44,入力エリア!$A$19:$O$78,15,FALSE)) | AR44: =IF(AZ44=0,"",VLOOKUP(D44,入力エリア!$A$19:$O$78,9,FALSE)) | AY44: =IF(AZ44=0,"",VLOOKUP(D44,入力エリア!$A$19:$P$78,16,TRUE)) | AZ44: =VLOOKUP(D44,入力エリア!$A$19:$P$79,16,FALSE) -> 0
L45: =IF(AZ44=0,"",VLOOKUP(D44,入力エリア!$A$19:$P$78,4,)) | T45: =IF(AZ44=0,"",VLOOKUP(D44,入力エリア!$A$19:$O$78,7,FALSE)) | V45: 学年 | X45: =IF(AZ44=0,"",VLOOKUP(D44,入力エリア!$A$19:$O$78,6,FALSE)) | AR45: =IF(AZ44=0,"",VLOOKUP(D44,入力エリア!$A$19:$O$78,10,FALSE)) | AZ45: =IF(AT44=0,"",VLOOKUP(AR44,入力エリア!$A$19:$P$78,4,))
D46: 54 | F46: =IF(AZ46=0,"",VLOOKUP(D46,入力エリア!$A$19:$P$78,11,FALSE)) | H46: =IF(AZ46=0,"",VLOOKUP(D46,入力エリア!$A$19:$P$78,12,FALSE)) | K46: kg級 | L46: =IF(AZ46=0,"",VLOOKUP(D46,入力エリア!$A$19:$P$78,5,)) | S46: =IF(AZ46=0,"",VLOOKUP(D46,入力エリア!$A$19:$P$78,8,FALSE)) | AG46: =IF(AZ46=0,"",VLOOKUP(D46,入力エリア!$A$19:$O$78,3,FALSE)) | AL46: =IF(AZ46=0,"",VLOOKUP(D46,入力エリア!$A$19:$O$78,13,FALSE)) | AN46: =IF(AZ46=0,"",VLOOKUP(D46,入力エリア!$A$19:$O$78,14,FALSE)) | AP46: =IF(AZ46=0,"",VLOOKUP(D46,入力エリア!$A$19:$O$78,15,FALSE)) | AR46: =IF(AZ46=0,"",VLOOKUP(D46,入力エリア!$A$19:$O$78,9,FALSE)) | AY46: =IF(AZ46=0,"",VLOOKUP(D46,入力エリア!$A$19:$P$78,16,TRUE)) | AZ46: =VLOOKUP(D46,入力エリア!$A$19:$P$79,16,FALSE) -> 0
L47: =IF(AZ46=0,"",VLOOKUP(D46,入力エリア!$A$19:$P$78,4,)) | T47: =IF(AZ46=0,"",VLOOKUP(D46,入力エリア!$A$19:$O$78,7,FALSE)) | V47: 学年 | X47: =IF(AZ46=0,"",VLOOKUP(D46,入力エリア!$A$19:$O$78,6,FALSE)) | AR47: =IF(AZ46=0,"",VLOOKUP(D46,入力エリア!$A$19:$O$78,10,FALSE)) | AZ47: =IF(AT46=0,"",VLOOKUP(AR46,入力エリア!$A$19:$P$78,4,))
D48: 55 | F48: =IF(AZ48=0,"",VLOOKUP(D48,入力エリア!$A$19:$P$78,11,FALSE)) | H48: =IF(AZ48=0,"",VLOOKUP(D48,入力エリア!$A$19:$P$78,12,FALSE)) | K48: kg級 | L48: =IF(AZ48=0,"",VLOOKUP(D48,入力エリア!$A$19:$P$78,5,)) | S48: =IF(AZ48=0,"",VLOOKUP(D48,入力エリア!$A$19:$P$78,8,FALSE)) | AG48: =IF(AZ48=0,"",VLOOKUP(D48,入力エリア!$A$19:$O$78,3,FALSE)) | AL48: =IF(AZ48=0,"",VLOOKUP(D48,入力エリア!$A$19:$O$78,13,FALSE)) | AN48: =IF(AZ48=0,"",VLOOKUP(D48,入力エリア!$A$19:$O$78,14,FALSE)) | AP48: =IF(AZ48=0,"",VLOOKUP(D48,入力エリア!$A$19:$O$78,15,FALSE)) | AR48: =IF(AZ48=0,"",VLOOKUP(D48,入力エリア!$A$19:$O$78,9,FALSE)) | AY48: =IF(AZ48=0,"",VLOOKUP(D48,入力エリア!$A$19:$P$78,16,TRUE)) | AZ48: =VLOOKUP(D48,入力エリア!$A$19:$P$79,16,FALSE) -> 0
L49: =IF(AZ48=0,"",VLOOKUP(D48,入力エリア!$A$19:$P$78,4,)) | T49: =IF(AZ48=0,"",VLOOKUP(D48,入力エリア!$A$19:$O$78,7,FALSE)) | V49: 学年 | X49: =IF(AZ48=0,"",VLOOKUP(D48,入力エリア!$A$19:$O$78,6,FALSE)) | AR49: =IF(AZ48=0,"",VLOOKUP(D48,入力エリア!$A$19:$O$78,10,FALSE)) | AZ49: =IF(AT48=0,"",VLOOKUP(AR48,入力エリア!$A$19:$P$78,4,))
D50: 56 | F50: =IF(AZ50=0,"",VLOOKUP(D50,入力エリア!$A$19:$P$78,11,FALSE)) | H50: =IF(AZ50=0,"",VLOOKUP(D50,入力エリア!$A$19:$P$78,12,FALSE)) | K50: kg級 | L50: =IF(AZ50=0,"",VLOOKUP(D50,入力エリア!$A$19:$P$78,5,)) | S50: =IF(AZ50=0,"",VLOOKUP(D50,入力エリア!$A$19:$P$78,8,FALSE)) | AG50: =IF(AZ50=0,"",VLOOKUP(D50,入力エリア!$A$19:$O$78,3,FALSE)) | AL50: =IF(AZ50=0,"",VLOOKUP(D50,入力エリア!$A$19:$O$78,13,FALSE)) | AN50: =IF(AZ50=0,"",VLOOKUP(D50,入力エリア!$A$19:$O$78,14,FALSE)) | AP50: =IF(AZ50=0,"",VLOOKUP(D50,入力エリア!$A$19:$O$78,15,FALSE)) | AR50: =IF(AZ50=0,"",VLOOKUP(D50,入力エリア!$A$19:$O$78,9,FALSE)) | AY50: =IF(AZ50=0,"",VLOOKUP(D50,入力エリア!$A$19:$P$78,16,TRUE)) | AZ50: =VLOOKUP(D50,入力エリア!$A$19:$P$79,16,FALSE) -> 0
L51: =IF(AZ50=0,"",VLOOKUP(D50,入力エリア!$A$19:$P$78,4,)) | T51: =IF(AZ50=0,"",VLOOKUP(D50,入力エリア!$A$19:$O$78,7,FALSE)) | V51: 学年 | X51: =IF(AZ50=0,"",VLOOKUP(D50,入力エリア!$A$19:$O$78,6,FALSE)) | AR51: =IF(AZ50=0,"",VLOOKUP(D50,入力エリア!$A$19:$O$78,10,FALSE)) | AZ51: =IF(AT50=0,"",VLOOKUP(AR50,入力エリア!$A$19:$P$78,4,))
