Workbook

Sheet 男子入力
B1: 男子選手入力画面
B3: 事務局関係の入力 | I3: 記入例
B4: 都道府県名 | E4: 都道府県を記入。学連は、全日本学生と記載する | I4: 都道府県名 | J4: 全日本学生
B5: 会長名 | E5: 姓と名の間、スペース（1字）を入れる | I5: 会長名 | J5: 浅草 次郎
B6: 事務連絡者 | E6: 姓と名の間、スペース（１字）を入れる | I6: 事務連絡者 | J6: 池袋 三郎
B7: 郵便番号(〒) | E7: 半角数字（例：123-4567） | I7: 郵便番号(〒) | J7: 234-5678
B8: 連絡先住所 | E8: 連絡通知等の送付先 | I8: 連絡先 | J8: 東京都世田谷区駒沢公園１
B9: 電話 | E9: 半角数字（例：03-111-3333） | I9: 電話 | J9: 03-222-3333
B10: ファクス | E10: 半角数字（例：03-111-2222） | I10: ファクス | J10: 03-222-3334
B11: メールアドレス | E11: 半角英数字（例：aiueo@yahoo.co.jp) | I11: メールアドレス | J11: vwxyz@･･･.･･
B12: 参加人数 | D12: 名 | E12: 参加人数を半角記入 | I12: 参加人数 | J12: 2 | K12: 名
B13: 参加料 | C13: =IF(C12="","",C12*5000) | D13: 円 | E13: 直接入力しない。（人数×5,000円を自動計算表示される。） | I13: 参加料 | J13: =IF(J12="","",J12*5000) -> 10000 | K13: 円
B14: 申込日 | E14: 西暦で記入（例：2020/4/25）→2020年4月25日と自動自動 | I14: 申込日 | J14: 43941
B15: 記載責任者 | E15: 姓と名の間、スペース（１字）入れる | I15: 記載責任者 | J15: 五反田 ひまわり
C17: 参加選手データ入力欄 | E17: ドロップダウン入力
A18: 女子階級 | B18: 入力方法 | D18: № | E18: 階級 | F18: 氏名 | G18: ふりがな | H18: 所属名 | I18: ふりがな | J18: 都道府県 | K18: 登録番号 | L18: 生年月日 | M18: 大会名 | N18: 大会期日 | O18: スナッチ | P18: ジャーク | Q18: トータル | R18: 現住所
B19: 男子入力シートで記入したものが男子様式(1),(2）に反映される。 | D19: 例 | E19: 67 | F19: 東京 太郎 | G19: とうきょう たろう | H19: 五輪大学 | I19: ごりんだいがく | J19: 大阪府 | K19: 00012345 | L19: 36809 | M19: 第79回全日本大学対抗戦 | N19: 43784 | O19: 120 | P19: 159 | Q19: =IF(O19="","",O19+P19) -> 279 | R19: 東京都世田谷区
A20: 55 | B20: (様式シートに直接入力しない。保護あり） | D20: 1 | Q20: =IF(O20="","",O20+P20)
A21: 61 | B21: １ はじめに、事務局関係を入力する。 | D21: 2 | Q21: =IF(O21="","",O21+P21)
A22: 67 | B22: ・ スペース右の指示に従って記入する。 | D22: 3 | Q22: =IF(O22="","",O22+P22)
A23: 73 | B23: （№1～8は様式１、9～18は様式2に反映） | D23: 4 | Q23: =IF(O23="","",O23+P23)
A24: 81 | B24: ２ 参加選手データ入力 | D24: 5 | Q24: =IF(O24="","",O24+P24)
A25: 89 | B25: ・ 階級は、ドロップダウン(セルの▼をクリック）入力。 | D25: 6 | Q25: =IF(O25="","",O25+P25)
A26: 96 | B26: ・ 氏名は、姓と名の間にスペース(1字）入れる | D26: 7 | Q26: =IF(O26="","",O26+P26)
A27: 102 | B27: ・ ふりがなは、姓と名の間にスペース(1字)入れる | D27: 8 | Q27: =IF(O27="","",O27+P27)
A28: 109 | B28: ・ 所属名で、学校関係者等の役職(教）・(職）も記入する | D28: 9 | Q28: =IF(O28="","",O28+P28)
A29: +109 | B29: ・ 都道府県は、大学生は出身地を記載する | D29: 10 | Q29: =IF(O29="","",O29+P29)
B30: ・ 登録番号は、半角で記入する。文字入力なので「0」から記入 | D30: 11 | Q30: =IF(O30="","",O30+P30)
B31: ・ 生年月日は、西暦で記入。 | D31: 12 | Q31: =IF(O31="","",O31+P31)
B32: ・ 大会名は、簡略して記入(ｳｴｲﾄﾘﾌﾃｨﾃｨﾝｸﾞ等は省く） | D32: 13 | Q32: =IF(O32="","",O32+P32)
B33: ・ 大会期日は、出場した日を西暦から記入する | D33: 14 | Q33: =IF(O33="","",O33+P33)
B34: ・ 記録欄は、ｽﾅｯﾁとｼﾞｬｰｸを入れるとﾄｰﾀﾙは計算される | D34: 15 | Q34: =IF(O34="","",O34+P34)
B35: ・ 現住所は、都道府県・市区町村までの記入 | D35: 16 | Q35: =IF(O35="","",O35+P35)
B36: ３ 提出方法 (要項の指定箇所に下記の通り送る）
B37: ・ 男子様式を印刷し、会長印を捺印して郵送する
B38: ・ メールにて、ブック全体をそのまま送信する。(会長印不要）

Sheet 男子様式例
Q1: 男 子
C2: 令和２年度 第８０回全日本ウエイトリフティング選手権大会 参加申込書 | Q2: 様 式 １ 号
B4: 都道府県 学連名 | D4: =IF(男子入力!J4="","",男子入力!J4) -> 全日本学生 | E4: 事務連絡者 | F4: =IF(男子入力!J6="","",男子入力!J6) -> 池袋 三郎 | G4: 連絡先住所 | H4: 〒 | I4: =IF(男子入力!J8="","",男子入力!J8) -> 東京都世田谷区駒沢公園１ | N4: 電話 | P4: =IF(男子入力!J9="","",男子入力!J9) -> 03-222-3333
H5: =IF(男子入力!J7="","",男子入力!J7) -> 234-5678 | N5: FAX | P5: =IF(男子入力!J10="","",男子入力!J10) -> 03-222-3334
N6: メールアドレス | P6: =IF(男子入力!J11="","",男子入力!J11) -> vwxyz@･･･.･･
A8: № | B8: 階 級 | D8: ふ り が な | E8: ふりがな | G8: 都道府県名 | H8: 生年月日（西暦） | I8: 平成30年度以降の公式競技会での最高記録 | P8: 現 住 所
D9: 氏 名 | E9: 所 属 名 | H9: 登録番号 | I9: 大会名(上段)及び期日(下段) | J9: スナッチ | L9: ジャーク | N9: トータル
A10: 1 | B10: =IF(男子入力!E19="","",男子入力!E19) -> 67 | C10: ㎏級 | D10: =IF(男子入力!G19="","",男子入力!G19) -> とうきょう たろう | E10: =IF(男子入力!I19="","",男子入力!I19) -> ごりんだいがく | G10: =IF(男子入力!J19="","",男子入力!J19) -> 大阪府 | H10: =IF(男子入力!L19="","",男子入力!L19) -> 36809 | I10: =IF(男子入力!M19="","",男子入力!M19) -> 第79回全日本大学対抗戦 | J10: =IF(男子入力!O19="","",男子入力!O19) -> 120 | K10: ㎏ | L10: =IF(男子入力!P19="","",男子入力!P19) -> 159 | M10: ㎏ | N10: =IF(男子入力!Q19="","",男子入力!Q19) -> 279 | O10: ㎏ | P10: =IF(男子入力!R19="","",男子入力!R19) -> 東京都世田谷区
D11: =IF(男子入力!F19="","",男子入力!F19) -> 東京 太郎 | E11: =IF(男子入力!H19="","",男子入力!H19) -> 五輪大学 | H11: =IF(男子入力!K19="","",男子入力!K19) -> 00012345 | I11: =IF(男子入力!N19="","",男子入力!N19) -> 43784
A12: 2
A14: 3
A16: 4
A18: 5
A20: 6
A22: 7
A24: 8
B27: 上記の者は、標記大会実施要項の規定に適確で健康上にも支障がないので、参加料振込み用紙の写しを添えて申し込みます。 | M27: 記 載 責 任 者 | Q27: =IF(男子入力!J15="","",男子入力!J15) -> 五反田 ひまわり | R27: =IF(#REF!="","",#REF!) -> #REF!
M28: 参加料 | O28: =IF(男子入力!J12="","",男子入力!J12) -> 2 | P28: 名分 | Q28: =IF(男子入力!J13="","",男子入力!J13) -> 10000 | R28: 円
D29: 申込日： | E29: =IF(男子入力!J14="","",男子入力!J14) -> 43941
M30: =IF(男子入力!J4="","",男子入力!J4) -> 全日本学生 | P30: ウエイトリフティング | R30: =IF(M30="全日本学生","連盟","協会") -> 連盟
C31: 公益社団法人 日本ウエイトリフティング協会会長 三宅 義行 様 | M31: 会 長 | O31: =IF(男子入力!J5="","",男子入力!J5) -> 浅草 次郎 | R31: 印
M32: 注意：Eメールで送信する際は捺印不要です。
B36: ２．所属が学校の際は、教諭、職員の区分がわかるように所属の後に括弧書きで（教）又は（職）を表記して下さい。

Sheet 男子様式(1)直接記入不可
Q1: 男 子
C2: 令和２年度 第８０回全日本ウエイトリフティング選手権大会 参加申込書 | Q2: 様 式 １ 号
B4: 都道府県 学連名 | D4: =IF(男子入力!C4="","",男子入力!C4) | E4: 事務連絡者 | F4: =IF(男子入力!C6="","",男子入力!C6) | G4: 連絡先住所 | H4: 〒 | I4: =IF(男子入力!C8="","",男子入力!C8) | N4: 電話 | P4: =IF(男子入力!C9="","",男子入力!C9)
H5: =IF(男子入力!C7="","",男子入力!C7) | N5: FAX | P5: =IF(男子入力!C10="","",男子入力!C10)
N6: メールアドレス | P6: =IF(男子入力!C11="","",男子入力!C11)
A8: № | B8: 階 級 | D8: ふ り が な | E8: ふりがな | G8: 都道府県名 | H8: 生年月日（西暦） | I8: 平成30年度以降の公式競技会での最高記録 | P8: 現 住 所
D9: 氏 名 | E9: 所 属 名 | H9: 登録番号 | I9: 大会名(上段)及び期日(下段) | J9: スナッチ | L9: ジャーク | N9: トータル
A10: 1 | B10: =IF(男子入力!E20="","",男子入力!E20) | C10: ㎏級 | D10: =IF(男子入力!G20="","",男子入力!G20) | E10: =IF(男子入力!I20="","",男子入力!I20) | G10: =IF(男子入力!J20="","",男子入力!J20) | H10: =IF(男子入力!L20="","",男子入力!L20) | I10: =IF(男子入力!M20="","",男子入力!M20) | J10: =IF(男子入力!O20="","",男子入力!O20) | K10: ㎏ | L10: =IF(男子入力!P20="","",男子入力!P20) | M10: ㎏ | N10: =IF(男子入力!Q20="","",男子入力!Q20) | O10: ㎏ | P10: =IF(男子入力!R20="","",男子入力!R20)
D11: =IF(男子入力!F20="","",男子入力!F20) | E11: =IF(男子入力!H20="","",男子入力!H20) | H11: =IF(男子入力!K20="","",男子入力!K20) | I11: =IF(男子入力!N20="","",男子入力!N20)
A12: 2 | B12: =IF(男子入力!E21="","",男子入力!E21) | C12: ㎏級 | D12: =IF(男子入力!G21="","",男子入力!G21) | E12: =IF(男子入力!I21="","",男子入力!I21) | G12: =IF(男子入力!J21="","",男子入力!J21) | H12: =IF(男子入力!L21="","",男子入力!L21) | I12: =IF(男子入力!M21="","",男子入力!M21) | J12: =IF(男子入力!O21="","",男子入力!O21) | K12: ㎏ | L12: =IF(男子入力!P21="","",男子入力!P21) | M12: ㎏ | N12: =IF(男子入力!Q21="","",男子入力!Q21) | O12: ㎏ | P12: =IF(男子入力!R21="","",男子入力!R21)
D13: =IF(男子入力!F21="","",男子入力!F21) | E13: =IF(男子入力!H21="","",男子入力!H21) | H13: =IF(男子入力!K21="","",男子入力!K21) | I13: =IF(男子入力!N21="","",男子入力!N21)
A14: 3 | B14: =IF(男子入力!E22="","",男子入力!E22) | C14: ㎏級 | D14: =IF(男子入力!G22="","",男子入力!G22) | E14: =IF(男子入力!I22="","",男子入力!I22) | G14: =IF(男子入力!J22="","",男子入力!J22) | H14: =IF(男子入力!L22="","",男子入力!L22) | I14: =IF(男子入力!M22="","",男子入力!M22) | J14: =IF(男子入力!O22="","",男子入力!O22) | K14: ㎏ | L14: =IF(男子入力!P22="","",男子入力!P22) | M14: ㎏ | N14: =IF(男子入力!Q22="","",男子入力!Q22) | O14: ㎏ | P14: =IF(男子入力!R22="","",男子入力!R22)
D15: =IF(男子入力!F22="","",男子入力!F22) | E15: =IF(男子入力!H22="","",男子入力!H22) | H15: =IF(男子入力!K22="","",男子入力!K22) | I15: =IF(男子入力!N22="","",男子入力!N22)
A16: 4 | B16: =IF(男子入力!E23="","",男子入力!E23) | C16: ㎏級 | D16: =IF(男子入力!G23="","",男子入力!G23) | E16: =IF(男子入力!I23="","",男子入力!I23) | G16: =IF(男子入力!J23="","",男子入力!J23) | H16: =IF(男子入力!L23="","",男子入力!L23) | I16: =IF(男子入力!M23="","",男子入力!M23) | J16: =IF(男子入力!O23="","",男子入力!O23) | K16: ㎏ | L16: =IF(男子入力!P23="","",男子入力!P23) | M16: ㎏ | N16: =IF(男子入力!Q23="","",男子入力!Q23) | O16: ㎏ | P16: =IF(男子入力!R23="","",男子入力!R23)
D17: =IF(男子入力!F23="","",男子入力!F23) | E17: =IF(男子入力!H23="","",男子入力!H23) | H17: =IF(男子入力!K23="","",男子入力!K23) | I17: =IF(男子入力!N23="","",男子入力!N23)
A18: 5 | B18: =IF(男子入力!E24="","",男子入力!E24) | C18: ㎏級 | D18: =IF(男子入力!G24="","",男子入力!G24) | E18: =IF(男子入力!I24="","",男子入力!I24) | G18: =IF(男子入力!J24="","",男子入力!J24) | H18: =IF(男子入力!L24="","",男子入力!L24) | I18: =IF(男子入力!M24="","",男子入力!M24) | J18: =IF(男子入力!O24="","",男子入力!O24) | K18: ㎏ | L18: =IF(男子入力!P24="","",男子入力!P24) | M18: ㎏ | N18: =IF(男子入力!Q24="","",男子入力!Q24) | O18: ㎏ | P18: =IF(男子入力!R24="","",男子入力!R24)
D19: =IF(男子入力!F24="","",男子入力!F24) | E19: =IF(男子入力!H24="","",男子入力!H24) | H19: =IF(男子入力!K24="","",男子入力!K24) | I19: =IF(男子入力!N24="","",男子入力!N24)
A20: 6 | B20: =IF(男子入力!E25="","",男子入力!E25) | C20: ㎏級 | D20: =IF(男子入力!G25="","",男子入力!G25) | E20: =IF(男子入力!I25="","",男子入力!I25) | G20: =IF(男子入力!J25="","",男子入力!J25) | H20: =IF(男子入力!L25="","",男子入力!L25) | I20: =IF(男子入力!M25="","",男子入力!M25) | J20: =IF(男子入力!O25="","",男子入力!O25) | K20: ㎏ | L20: =IF(男子入力!P25="","",男子入力!P25) | M20: ㎏ | N20: =IF(男子入力!Q25="","",男子入力!Q25) | O20: ㎏ | P20: =IF(男子入力!R25="","",男子入力!R25)
D21: =IF(男子入力!F25="","",男子入力!F25) | E21: =IF(男子入力!H25="","",男子入力!H25) | H21: =IF(男子入力!K25="","",男子入力!K25) | I21: =IF(男子入力!N25="","",男子入力!N25)
A22: 7 | B22: =IF(男子入力!E26="","",男子入力!E26) | C22: ㎏級 | D22: =IF(男子入力!G26="","",男子入力!G26) | E22: =IF(男子入力!I26="","",男子入力!I26) | G22: =IF(男子入力!J26="","",男子入力!J26) | H22: =IF(男子入力!L26="","",男子入力!L26) | I22: =IF(男子入力!M26="","",男子入力!M26) | J22: =IF(男子入力!O26="","",男子入力!O26) | K22: ㎏ | L22: =IF(男子入力!P26="","",男子入力!P26) | M22: ㎏ | N22: =IF(男子入力!Q26="","",男子入力!Q26) | O22: ㎏ | P22: =IF(男子入力!R26="","",男子入力!R26)
D23: =IF(男子入力!F26="","",男子入力!F26) | E23: =IF(男子入力!H26="","",男子入力!H26) | H23: =IF(男子入力!K26="","",男子入力!K26) | I23: =IF(男子入力!N26="","",男子入力!N26)
A24: 8 | B24: =IF(男子入力!E27="","",男子入力!E27) | C24: ㎏級 | D24: =IF(男子入力!G27="","",男子入力!G27) | E24: =IF(男子入力!I27="","",男子入力!I27) | G24: =IF(男子入力!J27="","",男子入力!J27) | H24: =IF(男子入力!L27="","",男子入力!L27) | I24: =IF(男子入力!M27="","",男子入力!M27) | J24: =IF(男子入力!O27="","",男子入力!O27) | K24: ㎏ | L24: =IF(男子入力!P27="","",男子入力!P27) | M24: ㎏ | N24: =IF(男子入力!Q27="","",男子入力!Q27) | O24: ㎏ | P24: =IF(男子入力!R27="","",男子入力!R27)
D25: =IF(男子入力!F27="","",男子入力!F27) | E25: =IF(男子入力!H27="","",男子入力!H27) | H25: =IF(男子入力!K27="","",男子入力!K27) | I25: =IF(男子入力!N27="","",男子入力!N27)
B27: 上記の者は、標記大会実施要項の規定に適確で健康上にも支障がないので、参加料振込み用紙の写しを添えて申し込みます。 | M27: 記 載 責 任 者 | Q27: =IF(男子入力!C15="","",男子入力!C15) | R27: =IF(#REF!="","",#REF!) -> #REF!
M28: 参加料 | O28: =IF(男子入力!C12="","",男子入力!C12) | P28: 名分 | Q28: =IF(男子入力!C13="","",男子入力!C13) | R28: 円
D29: 申込日： | E29: =IF(男子入力!C14="","",男子入力!C14)
M30: =IF(男子入力!C4="","",男子入力!C4) | P30: ウエイトリフティング | R30: =IF(M30="全日本学生","連盟","協会") -> 協会
C31: 公益社団法人 日本ウエイトリフティング協会会長 三宅 義行 様 | M31: 会 長 | O31: =IF(男子入力!C5="","",男子入力!C5) | R31: 印
M32: 注意：Eメールで送信する際は捺印不要です。
B36: ２．所属が学校の際は、教諭、職員の区分がわかるように所属の後に括弧書きで（教）又は（職）を表記して下さい。

Sheet 男子様式(2)直接記入不可
Q1: 男 子
C2: 令和２年度 第８０回全日本ウエイトリフティング選手権大会 参加申込書 | Q2: 様 式 １ 号 - 2
B4: 都道府県 学連名 | D4: =IF(男子入力!C4="","",男子入力!C4) | E4: 事務連絡者 | F4: =IF(男子入力!C6="","",男子入力!C6) | G4: 連絡先住所 | H4: 〒 | I4: =IF(男子入力!C8="","",男子入力!C8) | N4: 電話 | P4: =IF(男子入力!C9="","",男子入力!C9)
H5: =IF(男子入力!C7="","",男子入力!C7) | N5: FAX | P5: =IF(男子入力!C10="","",男子入力!C10)
N6: メールアドレス | P6: =IF(男子入力!C11="","",男子入力!C11)
A8: № | B8: 階 級 | D8: ふ り が な | E8: ふりがな | G8: 都道府県名 | H8: 生年月日（西暦） | I8: 平成30年度以降の公式競技会での最高記録 | P8: 現 住 所
D9: 氏 名 | E9: 所 属 名 | H9: 登録番号 | I9: 大会名(上段)及び期日(下段) | J9: スナッチ | L9: ジャーク | N9: トータル
A10: 9 | B10: =IF(男子入力!E28="","",男子入力!E28) | C10: ㎏級 | D10: =IF(男子入力!G28="","",男子入力!G28) | E10: =IF(男子入力!I28="","",男子入力!I28) | G10: =IF(男子入力!J28="","",男子入力!J28) | H10: =IF(男子入力!L28="","",男子入力!L28) | I10: =IF(男子入力!M28="","",男子入力!M28) | J10: =IF(男子入力!O28="","",男子入力!O28) | K10: ㎏ | L10: =IF(男子入力!P28="","",男子入力!P28) | M10: ㎏ | N10: =IF(男子入力!Q28="","",男子入力!Q28) | O10: ㎏ | P10: =IF(男子入力!R28="","",男子入力!R28)
D11: =IF(男子入力!F28="","",男子入力!F28) | E11: =IF(男子入力!H28="","",男子入力!H28) | H11: =IF(男子入力!K28="","",男子入力!K28) | I11: =IF(男子入力!N28="","",男子入力!N28)
A12: 10 | B12: =IF(男子入力!E29="","",男子入力!E29) | C12: ㎏級 | D12: =IF(男子入力!G29="","",男子入力!G29) | E12: =IF(男子入力!I29="","",男子入力!I29) | G12: =IF(男子入力!J29="","",男子入力!J29) | H12: =IF(男子入力!L29="","",男子入力!L29) | I12: =IF(男子入力!M29="","",男子入力!M29) | J12: =IF(男子入力!O29="","",男子入力!O29) | K12: ㎏ | L12: =IF(男子入力!P29="","",男子入力!P29) | M12: ㎏ | N12: =IF(男子入力!Q29="","",男子入力!Q29) | O12: ㎏ | P12: =IF(男子入力!R29="","",男子入力!R29)
D13: =IF(男子入力!F29="","",男子入力!F29) | E13: =IF(男子入力!H29="","",男子入力!H29) | H13: =IF(男子入力!K29="","",男子入力!K29) | I13: =IF(男子入力!N29="","",男子入力!N29)
A14: 11 | B14: =IF(男子入力!E30="","",男子入力!E30) | C14: ㎏級 | D14: =IF(男子入力!G30="","",男子入力!G30) | E14: =IF(男子入力!I30="","",男子入力!I30) | G14: =IF(男子入力!J30="","",男子入力!J30) | H14: =IF(男子入力!L30="","",男子入力!L30) | I14: =IF(男子入力!M30="","",男子入力!M30) | J14: =IF(男子入力!O30="","",男子入力!O30) | K14: ㎏ | L14: =IF(男子入力!P30="","",男子入力!P30) | M14: ㎏ | N14: =IF(男子入力!Q30="","",男子入力!Q30) | O14: ㎏ | P14: =IF(男子入力!R30="","",男子入力!R30)
D15: =IF(男子入力!F30="","",男子入力!F30) | E15: =IF(男子入力!H30="","",男子入力!H30) | H15: =IF(男子入力!K30="","",男子入力!K30) | I15: =IF(男子入力!N30="","",男子入力!N30)
A16: 12 | B16: =IF(男子入力!E31="","",男子入力!E31) | C16: ㎏級 | D16: =IF(男子入力!G31="","",男子入力!G31) | E16: =IF(男子入力!I31="","",男子入力!I31) | G16: =IF(男子入力!J31="","",男子入力!J31) | H16: =IF(男子入力!L31="","",男子入力!L31) | I16: =IF(男子入力!M31="","",男子入力!M31) | J16: =IF(男子入力!O31="","",男子入力!O31) | K16: ㎏ | L16: =IF(男子入力!P31="","",男子入力!P31) | M16: ㎏ | N16: =IF(男子入力!Q31="","",男子入力!Q31) | O16: ㎏ | P16: =IF(男子入力!R31="","",男子入力!R31)
D17: =IF(男子入力!F31="","",男子入力!F31) | E17: =IF(男子入力!H31="","",男子入力!H31) | H17: =IF(男子入力!K31="","",男子入力!K31) | I17: =IF(男子入力!N31="","",男子入力!N31)
A18: 13 | B18: =IF(男子入力!E32="","",男子入力!E32) | C18: ㎏級 | D18: =IF(男子入力!G32="","",男子入力!G32) | E18: =IF(男子入力!I32="","",男子入力!I32) | G18: =IF(男子入力!J32="","",男子入力!J32) | H18: =IF(男子入力!L32="","",男子入力!L32) | I18: =IF(男子入力!M32="","",男子入力!M32) | J18: =IF(男子入力!O32="","",男子入力!O32) | K18: ㎏ | L18: =IF(男子入力!P32="","",男子入力!P32) | M18: ㎏ | N18: =IF(男子入力!Q32="","",男子入力!Q32) | O18: ㎏ | P18: =IF(男子入力!R32="","",男子入力!R32)
D19: =IF(男子入力!F32="","",男子入力!F32) | E19: =IF(男子入力!H32="","",男子入力!H32) | H19: =IF(男子入力!K32="","",男子入力!K32) | I19: =IF(男子入力!N32="","",男子入力!N32)
A20: 14 | B20: =IF(男子入力!E33="","",男子入力!E33) | C20: ㎏級 | D20: =IF(男子入力!G33="","",男子入力!G33) | E20: =IF(男子入力!I33="","",男子入力!I33) | G20: =IF(男子入力!J33="","",男子入力!J33) | H20: =IF(男子入力!L33="","",男子入力!L33) | I20: =IF(男子入力!M33="","",男子入力!M33) | J20: =IF(男子入力!O33="","",男子入力!O33) | K20: ㎏ | L20: =IF(男子入力!P33="","",男子入力!P33) | M20: ㎏ | N20: =IF(男子入力!Q33="","",男子入力!Q33) | O20: ㎏ | P20: =IF(男子入力!R33="","",男子入力!R33)
D21: =IF(男子入力!F33="","",男子入力!F33) | E21: =IF(男子入力!H33="","",男子入力!H33) | H21: =IF(男子入力!K33="","",男子入力!K33) | I21: =IF(男子入力!N33="","",男子入力!N33)
A22: 15 | B22: =IF(男子入力!E34="","",男子入力!E34) | C22: ㎏級 | D22: =IF(男子入力!G34="","",男子入力!G34) | E22: =IF(男子入力!I34="","",男子入力!I34) | G22: =IF(男子入力!J34="","",男子入力!J34) | H22: =IF(男子入力!L34="","",男子入力!L34) | I22: =IF(男子入力!M34="","",男子入力!M34) | J22: =IF(男子入力!O34="","",男子入力!O34) | K22: ㎏ | L22: =IF(男子入力!P34="","",男子入力!P34) | M22: ㎏ | N22: =IF(男子入力!Q34="","",男子入力!Q34) | O22: ㎏ | P22: =IF(男子入力!R34="","",男子入力!R34)
D23: =IF(男子入力!F34="","",男子入力!F34) | E23: =IF(男子入力!H34="","",男子入力!H34) | H23: =IF(男子入力!K34="","",男子入力!K34) | I23: =IF(男子入力!N34="","",男子入力!N34)
A24: 16 | B24: =IF(男子入力!E35="","",男子入力!E35) | C24: ㎏級 | D24: =IF(男子入力!G35="","",男子入力!G35) | E24: =IF(男子入力!I35="","",男子入力!I35) | G24: =IF(男子入力!J35="","",男子入力!J35) | H24: =IF(男子入力!L35="","",男子入力!L35) | I24: =IF(男子入力!M35="","",男子入力!M35) | J24: =IF(男子入力!O35="","",男子入力!O35) | K24: ㎏ | L24: =IF(男子入力!P35="","",男子入力!P35) | M24: ㎏ | N24: =IF(男子入力!Q35="","",男子入力!Q35) | O24: ㎏ | P24: =IF(男子入力!R35="","",男子入力!R35)
D25: =IF(男子入力!F35="","",男子入力!F35) | E25: =IF(男子入力!H35="","",男子入力!H35) | H25: =IF(男子入力!K35="","",男子入力!K35) | I25: =IF(男子入力!N35="","",男子入力!N35)
B27: 上記の者は、標記大会実施要項の規定に適確で健康上にも支障がないので、参加料振込み用紙の写しを添えて申し込みます。 | M27: 記 載 責 任 者 | Q27: =IF(男子入力!C15="","",男子入力!C15) | R27: =IF(#REF!="","",#REF!) -> #REF!
M28: 参加料 | O28: =IF(男子入力!C12="","",男子入力!C12) | P28: 名分 | Q28: =IF(男子入力!C13="","",男子入力!C13) | R28: 円
D29: 申込日： | E29: =IF(男子入力!C14="","",男子入力!C14)
M30: =IF(男子入力!C4="","",男子入力!C4) | P30: ウエイトリフティング | R30: =IF(M30="全日本学生","連盟","協会") -> 協会
C31: 公益社団法人 日本ウエイトリフティング協会会長 三宅 義行 様 | M31: 会 長 | O31: =IF(男子入力!C5="","",男子入力!C5) | R31: 印
M32: 注意：Eメールで送信する際は捺印不要です。
B36: ２．所属が学校の際は、教諭、職員の区分がわかるように所属の後に括弧書きで（教）又は（職）を表記して下さい。

Sheet Sheet1
